BEGIN:VCALENDAR
VERSION:2.0
PRODID:-//anderes-burnout-cafe - ECPv6.15.11//NONSGML v1.0//EN
CALSCALE:GREGORIAN
METHOD:PUBLISH
X-ORIGINAL-URL:https://anderes-burnout-cafe.de
X-WR-CALDESC:Veranstaltungen für anderes-burnout-cafe
REFRESH-INTERVAL;VALUE=DURATION:PT1H
X-Robots-Tag:noindex
X-PUBLISHED-TTL:PT1H
BEGIN:VTIMEZONE
TZID:Europe/Paris
BEGIN:DAYLIGHT
TZOFFSETFROM:+0100
TZOFFSETTO:+0200
TZNAME:CEST
DTSTART:20250330T010000
END:DAYLIGHT
BEGIN:STANDARD
TZOFFSETFROM:+0200
TZOFFSETTO:+0100
TZNAME:CET
DTSTART:20251026T010000
END:STANDARD
BEGIN:DAYLIGHT
TZOFFSETFROM:+0100
TZOFFSETTO:+0200
TZNAME:CEST
DTSTART:20260329T010000
END:DAYLIGHT
BEGIN:STANDARD
TZOFFSETFROM:+0200
TZOFFSETTO:+0100
TZNAME:CET
DTSTART:20261025T010000
END:STANDARD
BEGIN:DAYLIGHT
TZOFFSETFROM:+0100
TZOFFSETTO:+0200
TZNAME:CEST
DTSTART:20270328T010000
END:DAYLIGHT
BEGIN:STANDARD
TZOFFSETFROM:+0200
TZOFFSETTO:+0100
TZNAME:CET
DTSTART:20271031T010000
END:STANDARD
END:VTIMEZONE
BEGIN:VEVENT
DTSTART;TZID=Europe/Paris:20260421T103000
DTEND;TZID=Europe/Paris:20260421T123000
DTSTAMP:20260423T152811
CREATED:20251127T212452Z
LAST-MODIFIED:20260224T174434Z
UID:10000754-1776767400-1776774600@anderes-burnout-cafe.de
SUMMARY:Selbsthilfegruppe ABC Trier in Präsenz - Anspannung - Entspannung
DESCRIPTION:Die Selbsthilfegruppe ABC Trier findet regelmäßig einmal monatlich in Präsenz von 10:30 bis 12:30 Uhr statt. \nWir treffen uns in den Räumen von SEKIS\, Stresemannstr. 5-9\, 54290 Trier. \nBitte meldet Euch über den Link unten zur Teilnahme an der Selbsthilfegruppe ABC Trier an! \nThema: Anspannung – Entspannung\n \n\n\n„Wenn ich genau darauf achte\, merke ich\, dass mein Über- und Unterkiefer den ganzen Tag fest zusammengepresst sind. Aber ich muss mich wirklich anstrengen\, diese Anspannung überhaupt wahrzunehmen.“ Wie dieser Betroffenen geht es vielen Menschen: sie nehmen ihre Körperempfindungen im Normalfall nicht wahr und merken erst\, wenn es zu spät ist\, dass sie seit Jahren permanent angespannt sind.\nIn diesem ABC wird Raum geboten zur Erforschung der eigenen Anspannung und der eigenen Entspannung. Mentale und körperliche Übungen helfen dabei\, Belastungen schneller wahrzunehmen und damit konstruktiv umzugehen.\n\n\n\nMit unseren Selbsthilfegruppen tragen wir zur emotionalen Entlastung und gegenseitige Unterstützung bei. Die Teilnehmenden geben sich gegenseitige wertschätzende Lebenshilfe. Durch die Teilnahme wird das Selbstbewusstsein und das Selbstwertgefühl gestärkt. Frühwarnzeichen können rechtzeitig erkannt werden\, das soziale Netz wird durch den Austausch mit den Teilnehmenden gestärkt. Die Selbsthilfegruppen tragen dazu bei\, ein individuelles Krisennetzwerk und einen entsprechenden Krisenplan aufzubauen. Übungen tragen zur erfolgreichen Erweiterung der Strategien im Umgang mit der Erkrankung bei. \nAnmeldung\nBitte meldet euch vorher an . Für die Organisation des Treffens wäre eine Anmeldung hilfreich. \nDie monatliche Selbsthilfegruppe ermuntert die Teilnehmenden\, neue Sichtweisen zu einem bestimmten Thema auszuprobieren\, sich über Fremd- und Eigenwirkung der Übungen auszutauschen\, neue Handlungsmöglichkeiten zu erforschen und die eigene Lebenssituation neu zu bewerten. Darüber hinaus haben die Teilnehmenden die Möglichkeit\, mit anderen in einen persönlichen Erfahrungsaustausch zu kommen.  \nDie Veranstaltung wird durchgeführt von der Selbsthilfegruppe  ABC Trier mit Unterstützung des Bundesverband Burnout und Depression e.V. und durch die Pauschalförderung der Selbsthilfegruppen nach  SGB V\, §20h. \nWeitere Veranstaltungen sind hier zu finden. \nInformationen zum Krankheitsbild sind hier auf den Seiten des Bundesverbandes zu finden. \nModeratorinnen\nPetra
URL:https://anderes-burnout-cafe.de/veranstaltungen/selbsthilfegruppe-abc-trier-in-praesenz-anspannung-entspannung
LOCATION:ABC Trier\, Stresemannstr. 5-9\, Trier\, 54290\, Germany
CATEGORIES:Präsenz,Trier
END:VEVENT
BEGIN:VEVENT
DTSTART;TZID=Europe/Paris:20260324T103000
DTEND;TZID=Europe/Paris:20260324T123000
DTSTAMP:20260423T152811
CREATED:20251127T212005Z
LAST-MODIFIED:20260224T174458Z
UID:10000753-1774348200-1774355400@anderes-burnout-cafe.de
SUMMARY:Selbsthilfegruppe ABC Trier in Präsenz - Achtsamkeit
DESCRIPTION:Die Selbsthilfegruppe ABC Trier findet regelmäßig einmal monatlich in Präsenz von 10:30 bis 12:30 Uhr statt. \nWir treffen uns in den Räumen von SEKIS\, Stresemannstr. 5-9\, 54290 Trier. \nBitte meldet Euch über den Link unten zur Teilnahme an der Selbsthilfegruppe ABC Trier an! \nThema: Achtsamkeit\n \n\nUnd wenn ich es gar nicht merke?\nAchtsamkeit ist in aller Munde. Doch worum geht es eigentlich? Für uns ist Achtsamkeit die Basis jeder Veränderung. Wenn ich keine Veränderung bei mir erkennen kann\, brauche ich auch keine Anstrengungen zur Veränderung zu unternehmen. Es geht daher bei Achtsamkeit darum\, die Fähigkeit zu stärken\, Signale unseres Körpers zu erkennen. Wir wollen uns unserer Atmung und unserer Gedanken bewusst werden.\n\n\nMit unseren Selbsthilfegruppen tragen wir zur emotionalen Entlastung und gegenseitige Unterstützung bei. Die Teilnehmenden geben sich gegenseitige wertschätzende Lebenshilfe. Durch die Teilnahme wird das Selbstbewusstsein und das Selbstwertgefühl gestärkt. Frühwarnzeichen können rechtzeitig erkannt werden\, das soziale Netz wird durch den Austausch mit den Teilnehmenden gestärkt. Die Selbsthilfegruppen tragen dazu bei\, ein individuelles Krisennetzwerk und einen entsprechenden Krisenplan aufzubauen. Übungen tragen zur erfolgreichen Erweiterung der Strategien im Umgang mit der Erkrankung bei. \nAnmeldung\nBitte meldet euch vorher an . Für die Organisation des Treffens wäre eine Anmeldung hilfreich. \nDie monatliche Selbsthilfegruppe ermuntert die Teilnehmenden\, neue Sichtweisen zu einem bestimmten Thema auszuprobieren\, sich über Fremd- und Eigenwirkung der Übungen auszutauschen\, neue Handlungsmöglichkeiten zu erforschen und die eigene Lebenssituation neu zu bewerten. Darüber hinaus haben die Teilnehmenden die Möglichkeit\, mit anderen in einen persönlichen Erfahrungsaustausch zu kommen.  \nDie Veranstaltung wird durchgeführt von der Selbsthilfegruppe  ABC Trier mit Unterstützung des Bundesverband Burnout und Depression e.V. und durch die Pauschalförderung der Selbsthilfegruppen nach  SGB V\, §20h. \nWeitere Veranstaltungen sind hier zu finden. \nInformationen zum Krankheitsbild sind hier auf den Seiten des Bundesverbandes zu finden. \nModeratorinnen\nPetra
URL:https://anderes-burnout-cafe.de/veranstaltungen/selbsthilfegruppe-abc-trier-in-praesenz-achtsamkeit
LOCATION:ABC Trier\, Stresemannstr. 5-9\, Trier\, 54290\, Germany
CATEGORIES:Präsenz,Trier
END:VEVENT
BEGIN:VEVENT
DTSTART;TZID=Europe/Paris:20260224T083000
DTEND;TZID=Europe/Paris:20260224T103000
DTSTAMP:20260423T152811
CREATED:20251127T211811Z
LAST-MODIFIED:20260216T203015Z
UID:10000752-1771921800-1771929000@anderes-burnout-cafe.de
SUMMARY:Selbsthilfegruppe ABC Trier in Präsenz - Anerkennung
DESCRIPTION:Die Selbsthilfegruppe ABC Trier findet regelmäßig einmal monatlich in Präsenz von 08:30 bis 10:30 Uhr statt. \nWir treffen uns in den Räumen von SEKIS\, Stresemannstr. 5-9\, 54290 Trier. \nBitte meldet Euch über den Link unten zur Teilnahme an der Selbsthilfegruppe ABC Trier an! \nThema: Anerkennung\n \nAnerkennung im Alltag\nAuch ein Mangel an Anerkennung macht krank: Vielen der Burnout-Betroffenen fehlt im alltäglichen Leben die gefühlte Balance zwischen Geben und Nehmen. Dieses Ungleichgewicht äußert sich durch ganz unterschiedliche Reaktionen\, führt in ein Gefühl der Leere und des Ausgebranntseins. Neben dem Freimachen vom Bedürfnis nach äußerer Anerkennung und Wertschätzung kann auch die Fokussierung auf das eigene Geben die Situation verbessern. Das ABC bietet Betroffenen wertvolle Lösungsstrategien für den Alltag.\n\nMit unseren Selbsthilfegruppen tragen wir zur emotionalen Entlastung und gegenseitige Unterstützung bei. Die Teilnehmenden geben sich gegenseitige wertschätzende Lebenshilfe. Durch die Teilnahme wird das Selbstbewusstsein und das Selbstwertgefühl gestärkt. Frühwarnzeichen können rechtzeitig erkannt werden\, das soziale Netz wird durch den Austausch mit den Teilnehmenden gestärkt. Die Selbsthilfegruppen tragen dazu bei\, ein individuelles Krisennetzwerk und einen entsprechenden Krisenplan aufzubauen. Übungen tragen zur erfolgreichen Erweiterung der Strategien im Umgang mit der Erkrankung bei. \nAnmeldung\nBitte meldet euch vorher an . Für die Organisation des Treffens wäre eine Anmeldung hilfreich. \nDie monatliche Selbsthilfegruppe ermuntert die Teilnehmenden\, neue Sichtweisen zu einem bestimmten Thema auszuprobieren\, sich über Fremd- und Eigenwirkung der Übungen auszutauschen\, neue Handlungsmöglichkeiten zu erforschen und die eigene Lebenssituation neu zu bewerten. Darüber hinaus haben die Teilnehmenden die Möglichkeit\, mit anderen in einen persönlichen Erfahrungsaustausch zu kommen.  \nDie Veranstaltung wird durchgeführt von der Selbsthilfegruppe  ABC Trier mit Unterstützung des Bundesverband Burnout und Depression e.V. und durch die Pauschalförderung der Selbsthilfegruppen nach  SGB V\, §20h. \nWeitere Veranstaltungen sind hier zu finden. \nInformationen zum Krankheitsbild sind hier auf den Seiten des Bundesverbandes zu finden. \nModeratorinnen\nPetra
URL:https://anderes-burnout-cafe.de/veranstaltungen/selbsthilfegruppe-abc-trier-in-praesenz-anerkennung
LOCATION:ABC Trier\, Stresemannstr. 5-9\, Trier\, 54290\, Germany
CATEGORIES:Präsenz,Trier
END:VEVENT
BEGIN:VEVENT
DTSTART;TZID=Europe/Paris:20260120T103000
DTEND;TZID=Europe/Paris:20260120T123000
DTSTAMP:20260423T152811
CREATED:20251127T211313Z
LAST-MODIFIED:20251127T211833Z
UID:10000751-1768905000-1768912200@anderes-burnout-cafe.de
SUMMARY:NEU ! Selbsthilfegruppe ABC Trier in Präsenz - Burn-Out Phasen
DESCRIPTION:Die neue Selbsthilfegruppe ABC Trier findet regelmäßig einmal monatlich in Präsenz von 10:30 bis 12:30 Uhr statt. \nWir treffen uns in den Räumen von SEKIS\, Stresemannstr. 5-9\, 54290 Trier. \nBitte meldet Euch über den Link unten zur Teilnahme an der Selbsthilfegruppe ABC Trier an! \nThema: Burn-Out Phasen\n \nSämtliche wissenschaftlichen Betrachtungen beinhalten die wesentlichen Elemente eines Burnouts. Dazu gehören Enttäuschung und Resignation\, psychosomatische Auswirkungen\, Erschöpfung und Rückzug. Die folgenden Ausführungen konzentrieren sich auf sieben Kernpunkte\, die einen Burnout kennzeichnen\, wobei es sich eigentlich um 4 Vorphasen handelt und um 3 reale Burnout-Phasen\, die erst dann stattfinden\, wenn man wirklich von Burnout sprechen kann.\n\nMit unseren Selbsthilfegruppen tragen wir zur emotionalen Entlastung und gegenseitige Unterstützung bei. Die Teilnehmenden geben sich gegenseitige wertschätzende Lebenshilfe. Durch die Teilnahme wird das Selbstbewusstsein und das Selbstwertgefühl gestärkt. Frühwarnzeichen können rechtzeitig erkannt werden\, das soziale Netz wird durch den Austausch mit den Teilnehmenden gestärkt. Die Selbsthilfegruppen tragen dazu bei\, ein individuelles Krisennetzwerk und einen entsprechenden Krisenplan aufzubauen. Übungen tragen zur erfolgreichen Erweiterung der Strategien im Umgang mit der Erkrankung bei. \nAnmeldung\nBitte meldet euch vorher an . Für die Organisation des Treffens wäre eine Anmeldung hilfreich. \nDie monatliche Selbsthilfegruppe ermuntert die Teilnehmenden\, neue Sichtweisen zu einem bestimmten Thema auszuprobieren\, sich über Fremd- und Eigenwirkung der Übungen auszutauschen\, neue Handlungsmöglichkeiten zu erforschen und die eigene Lebenssituation neu zu bewerten. Darüber hinaus haben die Teilnehmenden die Möglichkeit\, mit anderen in einen persönlichen Erfahrungsaustausch zu kommen.  \nDie Veranstaltung wird durchgeführt von der Selbsthilfegruppe  ABC Trier mit Unterstützung des Bundesverband Burnout und Depression e.V. und durch die Pauschalförderung der Selbsthilfegruppen nach  SGB V\, §20h. \nWeitere Veranstaltungen sind hier zu finden. \nInformationen zum Krankheitsbild sind hier auf den Seiten des Bundesverbandes zu finden. \nModeratorinnen\nPetra
URL:https://anderes-burnout-cafe.de/veranstaltungen/neu-selbsthilfegruppe-abc-trier-in-praesenz-burn-out-phasen
LOCATION:ABC Trier\, Stresemannstr. 5-9\, Trier\, 54290\, Germany
CATEGORIES:Präsenz,Trier
END:VEVENT
END:VCALENDAR