BEGIN:VCALENDAR
VERSION:2.0
PRODID:-//anderes-burnout-cafe - ECPv6.15.11//NONSGML v1.0//EN
CALSCALE:GREGORIAN
METHOD:PUBLISH
X-ORIGINAL-URL:https://anderes-burnout-cafe.de
X-WR-CALDESC:Veranstaltungen für anderes-burnout-cafe
REFRESH-INTERVAL;VALUE=DURATION:PT1H
X-Robots-Tag:noindex
X-PUBLISHED-TTL:PT1H
BEGIN:VTIMEZONE
TZID:Europe/Paris
BEGIN:DAYLIGHT
TZOFFSETFROM:+0100
TZOFFSETTO:+0200
TZNAME:CEST
DTSTART:20230326T010000
END:DAYLIGHT
BEGIN:STANDARD
TZOFFSETFROM:+0200
TZOFFSETTO:+0100
TZNAME:CET
DTSTART:20231029T010000
END:STANDARD
BEGIN:DAYLIGHT
TZOFFSETFROM:+0100
TZOFFSETTO:+0200
TZNAME:CEST
DTSTART:20240331T010000
END:DAYLIGHT
BEGIN:STANDARD
TZOFFSETFROM:+0200
TZOFFSETTO:+0100
TZNAME:CET
DTSTART:20241027T010000
END:STANDARD
BEGIN:DAYLIGHT
TZOFFSETFROM:+0100
TZOFFSETTO:+0200
TZNAME:CEST
DTSTART:20250330T010000
END:DAYLIGHT
BEGIN:STANDARD
TZOFFSETFROM:+0200
TZOFFSETTO:+0100
TZNAME:CET
DTSTART:20251026T010000
END:STANDARD
END:VTIMEZONE
BEGIN:VEVENT
DTSTART;TZID=Europe/Paris:20240410T093000
DTEND;TZID=Europe/Paris:20240410T113000
DTSTAMP:20260419T160632
CREATED:20240203T134618Z
LAST-MODIFIED:20240405T152830Z
UID:10000214-1712741400-1712748600@anderes-burnout-cafe.de
SUMMARY:Selbsthilfegruppe ABC Online am Mittwoch -  Klare Kommunikation über Ziele und Erwartungen
DESCRIPTION:Die Selbsthilfegruppe ABC Online am Mittwoch findet regelmäßig am zweiten Mittwoch im Monat von 09:30 bis 11:30 auf Zoom statt. Die Einwahl erfolgt über https://us02web.zoom.us/j/805791047 \nDie Einwahl in die Selbsthilfegruppe ABC Online am Mittwoch ist immer 10 Minuten vor dem offiziellen Beginn möglich und sinnvoll. Dies dient zum Ankommen\, Austausch untereinander oder auch dazu\, technische Schwierigkeiten vor Beginn zu beseitigen. Wir legen Wert darauf\, dass jeder mit Bild und Ton an der Veranstaltung teilnimmt. Nur so kann ein vertrauensvoller Austausch untereinander stattfinden. Bitte testet vorher bei der Einwahl Eure Kamera und das Audio. Weitergehende Unterstützung zu ZOOM findet ihr hier. \nNach der offiziellen Startzeit ist keine Einwahl mehr möglich\, denn dies ist Online noch störender als in Präsenzveranstaltungen. Danke für Euer Verständnis. Wir freuen uns auf Euch! \nThema:\nKlare Kommunikation über Ziele und Erwartungen\n \nJede(r) von uns hat Ziele. Oft brauchen wir die Unterstützung anderer Menschen\, um unsere Ziele zu erreichen. Wenn wir nicht klar kommunizieren\, reden wir oft aneinander vorbei. Das führt zu Missverständnissen und Konflikten und kann uns auch daran hindern\, unsere Ziele zu erreichen. In diesem ABC tauschen wir uns darüber aus\, wie wir klarer kommunizieren und in verschiedenen Lebensbereichen sinnvolle „Zielvereinbarungen“ mit anderen treffen. \n  \nMit unseren Selbsthilfegruppen tragen wir zur emotionalen Entlastung und gegenseitige Unterstützung bei. Die Teilnehmenden geben sich gegenseitige wertschätzende Lebenshilfe. Durch die Teilnahme wird das Selbstbewusstsein und das Selbstwertgefühl gestärkt. Frühwarnzeichen können rechtzeitig erkannt werden\, das soziale Netz wird durch den Austausch mit den Teilnehmenden gestärkt. Die Selbsthilfegruppen tragen dazu bei\, ein individuelles Krisennetzwerk und einen entsprechenden Krisenplan aufzubauen. Übungen tragen zur erfolgreichen Erweiterung der Strategien im Umgang mit der Erkrankung bei. \nAnmeldung\nDu kannst immer ohne Anmeldung kommen. Für die Organisation des Treffens wäre eine Anmeldung hilfreich. \n\n\n\nDie monatliche Selbsthilfegruppe  ermuntert die Teilnehmenden\, neue Sichtweisen zu einem bestimmten Thema auszuprobieren\, sich über Fremd- und Eigenwirkung der Übungen auszutauschen\, neue Handlungsmöglichkeiten zu erforschen und die eigene Lebenssituation neu zu bewerten. Darüber hinaus haben die Teilnehmenden die Möglichkeit\, mit anderen in einen persönlichen Erfahrungsaustausch zu kommen. Die Veranstaltung wird durchgeführt von der Online Selbsthilfegruppe  am Mittwochvormittag mit Unterstützung des Bundesverband Burnout und Depression e.V.  \nWeitere Veranstaltungen sind hier zu finden. \nInformationen zum Krankheitsbild sind hier auf den Seiten des Bundesverbandes zu finden.\n\n\n\nModeratorin\nJasmin Lotter | 02131 7734159‬ | portugal (at) anderes-burnout-cafe.de\n 
URL:https://anderes-burnout-cafe.de/veranstaltungen/selbsthilfegruppe-abc-online-am-mittwoch-klare-ziele-und-erwartungen
LOCATION:ABC ONLINE am Freitag
CATEGORIES:Freigegeben,Online
ORGANIZER;CN="Jasmin Lotter":MAILTO:portugal{at}anderes-burnout-cafe.de
END:VEVENT
BEGIN:VEVENT
DTSTART;TZID=Europe/Paris:20240313T093000
DTEND;TZID=Europe/Paris:20240313T113000
DTSTAMP:20260419T160632
CREATED:20240124T085821Z
LAST-MODIFIED:20240317T182005Z
UID:10000192-1710322200-1710329400@anderes-burnout-cafe.de
SUMMARY:Selbsthilfegruppe ABC Online am Mittwoch - werteorientiert leben
DESCRIPTION:Die Selbsthilfegruppe ABC Online am Mittwoch findet regelmäßig am zweiten Mittwoch im Monat von 09:30 bis 11:30 auf Zoom statt. Die Einwahl erfolgt über https://us02web.zoom.us/j/805791047 \nDie Einwahl in die Selbsthilfegruppe ABC Online am Mittwoch ist immer 10 Minuten vor dem offiziellen Beginn möglich und sinnvoll. Dies dient zum Ankommen\, Austausch untereinander oder auch dazu\, technische Schwierigkeiten vor Beginn zu beseitigen. Wir legen Wert darauf\, dass jeder mit Bild und Ton an der Veranstaltung teilnimmt. Nur so kann ein vertrauensvoller Austausch untereinander stattfinden. Bitte testet vorher bei der Einwahl Eure Kamera und das Audio. Weitergehende Unterstützung zu ZOOM findet ihr hier. \nNach der offiziellen Startzeit ist keine Einwahl mehr möglich\, denn dies ist Online noch störender als in Präsenzveranstaltungen. Danke für Euer Verständnis. Wir freuen uns auf Euch! \nThema: werteorientiert leben\n \nWerte sind nicht nur Richtschnur\, sondern motivieren auch unser Handeln. Sie leiten oder beeinflussen unser Verhalten. Sie helfen\, Entscheidungen zu treffen und drücken persönliche Beziehungen zur Umwelt aus. Jeder von uns hat Träume und Visionen. Manche bleiben für immer Spinnerei\, andere hingegen können sich erfüllen\, wenn\, ja wenn wir ernsthaft nach möglichen Wegen suchen und uns Schritt für Schritt auf die Reise machen. Wir erarbeiten Möglichkeiten\, diese Pläne in Einklang mit uns zu bringen. \nMit unseren Selbsthilfegruppen tragen wir zur emotionalen Entlastung und gegenseitige Unterstützung bei. Die Teilnehmenden geben sich gegenseitige wertschätzende Lebenshilfe. Durch die Teilnahme wird das Selbstbewusstsein und das Selbstwertgefühl gestärkt. Frühwarnzeichen können rechtzeitig erkannt werden\, das soziale Netz wird durch den Austausch mit den Teilnehmenden gestärkt. Die Selbsthilfegruppen tragen dazu bei\, ein individuelles Krisennetzwerk und einen entsprechenden Krisenplan aufzubauen. Übungen tragen zur erfolgreichen Erweiterung der Strategien im Umgang mit der Erkrankung bei. \nAnmeldung\nDu kannst immer ohne Anmeldung kommen. Für die Organisation des Treffens wäre eine Anmeldung hilfreich. \n\n\n\nDie monatliche Selbsthilfegruppe  ermuntert die Teilnehmenden\, neue Sichtweisen zu einem bestimmten Thema auszuprobieren\, sich über Fremd- und Eigenwirkung der Übungen auszutauschen\, neue Handlungsmöglichkeiten zu erforschen und die eigene Lebenssituation neu zu bewerten. Darüber hinaus haben die Teilnehmenden die Möglichkeit\, mit anderen in einen persönlichen Erfahrungsaustausch zu kommen. Die Veranstaltung wird durchgeführt von der Online Selbsthilfegruppe  am Mittwochvormittag mit Unterstützung des Bundesverband Burnout und Depression e.V.  \nWeitere Veranstaltungen sind hier zu finden. \nInformationen zum Krankheitsbild sind hier auf den Seiten des Bundesverbandes zu finden.\n\n\n\nModeratorin\nJasmin Lotter | 02131 7734159‬ | portugal (at) anderes-burnout-cafe.de\n 
URL:https://anderes-burnout-cafe.de/veranstaltungen/selbsthilfegruppe-abc-online-am-mittwoch-werteorientiert-leben
LOCATION:ABC ONLINE am Freitag
CATEGORIES:Freigegeben,Online
ORGANIZER;CN="Jasmin Lotter":MAILTO:portugal{at}anderes-burnout-cafe.de
END:VEVENT
END:VCALENDAR