BEGIN:VCALENDAR
VERSION:2.0
PRODID:-//anderes-burnout-cafe - ECPv6.15.11//NONSGML v1.0//EN
CALSCALE:GREGORIAN
METHOD:PUBLISH
X-WR-CALNAME:anderes-burnout-cafe
X-ORIGINAL-URL:https://anderes-burnout-cafe.de
X-WR-CALDESC:Veranstaltungen für anderes-burnout-cafe
REFRESH-INTERVAL;VALUE=DURATION:PT1H
X-Robots-Tag:noindex
X-PUBLISHED-TTL:PT1H
BEGIN:VTIMEZONE
TZID:Europe/Paris
BEGIN:DAYLIGHT
TZOFFSETFROM:+0100
TZOFFSETTO:+0200
TZNAME:CEST
DTSTART:20230326T010000
END:DAYLIGHT
BEGIN:STANDARD
TZOFFSETFROM:+0200
TZOFFSETTO:+0100
TZNAME:CET
DTSTART:20231029T010000
END:STANDARD
BEGIN:DAYLIGHT
TZOFFSETFROM:+0100
TZOFFSETTO:+0200
TZNAME:CEST
DTSTART:20240331T010000
END:DAYLIGHT
BEGIN:STANDARD
TZOFFSETFROM:+0200
TZOFFSETTO:+0100
TZNAME:CET
DTSTART:20241027T010000
END:STANDARD
BEGIN:DAYLIGHT
TZOFFSETFROM:+0100
TZOFFSETTO:+0200
TZNAME:CEST
DTSTART:20250330T010000
END:DAYLIGHT
BEGIN:STANDARD
TZOFFSETFROM:+0200
TZOFFSETTO:+0100
TZNAME:CET
DTSTART:20251026T010000
END:STANDARD
END:VTIMEZONE
BEGIN:VEVENT
DTSTART;TZID=Europe/Paris:20240806T193000
DTEND;TZID=Europe/Paris:20240806T213000
DTSTAMP:20260423T170659
CREATED:20240730T112855Z
LAST-MODIFIED:20240730T112855Z
UID:10000338-1722972600-1722979800@anderes-burnout-cafe.de
SUMMARY:Selbsthilfegruppe (k)BC Mannheim -  "Sommerpause"
DESCRIPTION:Das Treffen der Selbsthilfegruppe (k)BC Mannheim findet live im Gesundheitstreffpunkt in Mannheim immer am ersten Dienstag im Monat in der Max-Joseph-Straße 1\, 68167 Mannheim\, von 19:30 – 21:30 Uhr statt. Im August findet kein Gruppentreffen statt. \n\nThema:\n \n  \nDie Mitglieder der Selbsthilfegruppe bestimmen die Themen\, die sie behandeln wollen. In einigen Selbsthilfegruppen erfolgt dies von Monat zu Monat. In anderen Gruppen wird ein Halb- oder ein Jahresplan meist am Endes des vorhergehenden Jahres erstellt. Dieser Plan ist immer nur eine Richtschnur und kann jederzeit durch die Gruppenmitglieder geändert werden werden. Sobald das Thema für den Abend feststeht\, wir es an dieser Stellen durch den Text zum Thema ersetzt.\nIn Zweifelsfragen kannst Du Dich an den Organisator wenden. \n\n\n\n\nAnmeldung\nDu kannst immer ohne Anmeldung kommen. Für die Organisation des Treffens wäre eine Anmeldung hilfreich. \nDie monatliche Selbsthilfegruppe ermuntert die Teilnehmenden\, neue Sichtweisen zu einem bestimmten Thema auszuprobieren\, sich über Fremd- und Eigenwirkung der Übungen auszutauschen\, neue Handlungsmöglichkeiten zu erforschen und die eigene Lebenssituation neu zu bewerten. Darüber hinaus haben die Teilnehmenden die Möglichkeit\, mit anderen in einen persönlichen Erfahrungsaustausch zu kommen.  \nDie Veranstaltung wird durchgeführt von der Selbsthilfegruppe  (k)BC Mannheim mit Unterstützung des Gesundheitstreffpunkts Mannheim und des Bundesverband Burnout und Depression e.V.  \nWeitere Veranstaltungen sind hier zu finden. \nInformationen zum Krankheitsbild sind hier auf den Seiten des Bundesverbandes zu finden. \nModerator:in\nCarsten und Anna
URL:https://anderes-burnout-cafe.de/veranstaltungen/selbsthilfegruppe-kbc-mannheim-sommerpause
LOCATION:ABC Mannheim\, Max-Joseph-Str. 1\, Mannheim\, 68167\, Deutschland
CATEGORIES:Mannheim,Präsenz
ORGANIZER;CN="(k)BC Mannheim":MAILTO:mannheim{at}anderes-burnout-cafe.de
END:VEVENT
BEGIN:VEVENT
DTSTART;TZID=Europe/Paris:20240702T193000
DTEND;TZID=Europe/Paris:20240702T213000
DTSTAMP:20260423T170659
CREATED:20240627T064734Z
LAST-MODIFIED:20240627T064734Z
UID:10000323-1719948600-1719955800@anderes-burnout-cafe.de
SUMMARY:Selbsthilfegruppe (k)BC Mannheim -  Lösungsorientierung in Gesprächen
DESCRIPTION:Das Treffen der Selbsthilfegruppe (k)BC Mannheim findet live im Gesundheitstreffpunkt in Mannheim immer am ersten Dienstag im Monat in der Max-Joseph-Straße 1\, 68167 Mannheim\, von 19:30 – 21:30 Uhr statt. \n\nThema:\nLösungsorientierung in Gesprächen\n \nManchmal steckt man einfach fest – und dreht sich in den Problemtunnel immer mehr hinein. Schlechte Gefühle sind schon vorher da\, aber es kommen dadurch immer mehr dazu. Wie schaffe ich es da wieder herauszukommen? Das ist nicht so einfach. Wir werden das in Partnergesprächen üben: Mit den MiniMax Interventionen des Psychologen Manfred Prior. Er ist Ausbilder der Milton-Erickson-Gesellschaft für klinische Hypnose und hat daüber ein leicht verständliches Buch geschrieben: MiniMax-Interventionen.\nBringt gerne wider einen Stift und einen Zettel mit\, um Eure Gedanken zu notieren. \nDie Mitglieder der Selbsthilfegruppe bestimmen die Themen\, die sie behandeln wollen. In einigen Selbsthilfegruppen erfolgt dies von Monat zu Monat. In anderen Gruppen wird ein Halb- oder ein Jahresplan meist am Endes des vorhergehenden Jahres erstellt. Dieser Plan ist immer nur eine Richtschnur und kann jederzeit durch die Gruppenmitglieder geändert werden werden. Sobald das Thema für den Abend feststeht\, wir es an dieser Stellen durch den Text zum Thema ersetzt.\nIn Zweifelsfragen kannst Du Dich an den Organisator wenden. \n\n\n\n\nAnmeldung\nDu kannst immer ohne Anmeldung kommen. Für die Organisation des Treffens wäre eine Anmeldung hilfreich. \nDie monatliche Selbsthilfegruppe ermuntert die Teilnehmenden\, neue Sichtweisen zu einem bestimmten Thema auszuprobieren\, sich über Fremd- und Eigenwirkung der Übungen auszutauschen\, neue Handlungsmöglichkeiten zu erforschen und die eigene Lebenssituation neu zu bewerten. Darüber hinaus haben die Teilnehmenden die Möglichkeit\, mit anderen in einen persönlichen Erfahrungsaustausch zu kommen.  \nDie Veranstaltung wird durchgeführt von der Selbsthilfegruppe  (k)BC Mannheim mit Unterstützung des Gesundheitstreffpunkts Mannheim und des Bundesverband Burnout und Depression e.V.  \nWeitere Veranstaltungen sind hier zu finden. \nInformationen zum Krankheitsbild sind hier auf den Seiten des Bundesverbandes zu finden. \nModerator:in\nCarsten und Anna
URL:https://anderes-burnout-cafe.de/veranstaltungen/selbsthilfegruppe-kbc-mannheim-loesungsorientierung-in-gespraechen
LOCATION:ABC Mannheim\, Max-Joseph-Str. 1\, Mannheim\, 68167\, Deutschland
CATEGORIES:Mannheim,Präsenz
ORGANIZER;CN="(k)BC Mannheim":MAILTO:mannheim{at}anderes-burnout-cafe.de
END:VEVENT
BEGIN:VEVENT
DTSTART;TZID=Europe/Paris:20240604T193000
DTEND;TZID=Europe/Paris:20240604T213000
DTSTAMP:20260423T170659
CREATED:20240208T063410Z
LAST-MODIFIED:20240529T064924Z
UID:10000254-1717529400-1717536600@anderes-burnout-cafe.de
SUMMARY:Selbsthilfegruppe (k)BC Mannheim - "Darf das auch leicht gehen?"
DESCRIPTION:Das Treffen der Selbsthilfegruppe (k)BC Mannheim findet live im Gesundheitstreffpunkt in Mannheim immer am ersten Dienstag im Monat in der Max-Joseph-Straße 1\, 68167 Mannheim\, von 19:30 – 21:30 Uhr statt. \n\n\n„Darf das auch leicht gehen?“\n \nKennst Du das? Du wolltest einfach nur diese eine neue Sache ausprobieren – Du hast Dich sogar darauf gefreut. Aber dann muss es schon wieder alles perfekt laufen. Du stehst Dir mit Deiner eigenen Erwartungshaltung im Weg. Machst Du Dir Sorgen\, was andere von Dir oder Deiner Leistung denken? Stellst Du an Dich selbst die allerhöchsten Ansprüche? Wenn der eigene Selbstwert stark von Erfolg und Anerkennung abhängt\, wird es unmöglich\, die eigenen Ansprüche zu senken\, selbst wenn es negative Konsequenzen hat. Unmöglich? Wirklich? Das hinterfragen wir gemeinsam in der Gruppe und finden gemeinsam Strategien\, wie es vielelicht doch nicht unmöglich ist. Bring gerne wieder Stift und Papier für Deine Notizen mit.  Wir freuen uns auf Dich. \nDie Mitglieder der Selbsthilfegruppe bestimmen die Themen\, die sie behandeln wollen. In einigen Selbsthilfegruppen erfolgt dies von Monat zu Monat. In anderen Gruppen wird ein Halb- oder ein Jahresplan meist am Endes des vorhergehenden Jahres erstellt. Dieser Plan ist immer nur eine Richtschnur und kann jederzeit durch die Gruppenmitglieder geändert werden werden. Sobald das Thema für den Abend feststeht\, wir es an dieser Stellen durch den Text zum Thema ersetzt.\nIn Zweifelsfragen kannst Du Dich an den Organisator wenden. \n\n\n\n\nAnmeldung\nDu kannst immer ohne Anmeldung kommen. Für die Organisation des Treffens wäre eine Anmeldung hilfreich. \nDie monatliche Selbsthilfegruppe ermuntert die Teilnehmenden\, neue Sichtweisen zu einem bestimmten Thema auszuprobieren\, sich über Fremd- und Eigenwirkung der Übungen auszutauschen\, neue Handlungsmöglichkeiten zu erforschen und die eigene Lebenssituation neu zu bewerten. Darüber hinaus haben die Teilnehmenden die Möglichkeit\, mit anderen in einen persönlichen Erfahrungsaustausch zu kommen.  \nDie Veranstaltung wird durchgeführt von der Selbsthilfegruppe  (k)BC Mannheim mit Unterstützung des Gesundheitstreffpunkts Mannheim und des Bundesverband Burnout und Depression e.V.  \nWeitere Veranstaltungen sind hier zu finden. \nInformationen zum Krankheitsbild sind hier auf den Seiten des Bundesverbandes zu finden. \nModerator:in\nCarsten und Anna
URL:https://anderes-burnout-cafe.de/veranstaltungen/selbsthilfegruppe-kbc-mannheim-thema-wir-noch-bekannt-gegeben-5
LOCATION:ABC Mannheim\, Max-Joseph-Str. 1\, Mannheim\, 68167\, Deutschland
CATEGORIES:Mannheim,Präsenz
ORGANIZER;CN="(k)BC Mannheim":MAILTO:mannheim{at}anderes-burnout-cafe.de
END:VEVENT
BEGIN:VEVENT
DTSTART;TZID=Europe/Paris:20240514T193000
DTEND;TZID=Europe/Paris:20240514T213000
DTSTAMP:20260423T170659
CREATED:20240207T145128Z
LAST-MODIFIED:20240412T062951Z
UID:10000223-1715715000-1715722200@anderes-burnout-cafe.de
SUMMARY:Terminänderung! Selbsthilfegruppe (k)BC Mannheim - Schreiben als Bewältigungsmethode
DESCRIPTION:Das Treffen der Selbsthilfegruppe (k)BC Mannheim findet live im Gesundheitstreffpunkt in Mannheim immer am ersten Dienstag im Monat in der Max-Joseph-Straße 1\, 68167 Mannheim\, von 19:30 – 21:30 Uhr statt. Dieses Mal treffen wir uns ausnahmsweise erst am 2. Dienstag im Monat\, also am 14. Mai zur gewohnten Uhrzeit.  \n  \n\nThema: Schreiben als Bewältigungsmethode\n \nIch möchte Euch herzlich dazu einladen\, gemeinsam ein sehr kraftvolles Tool zur Bewältigung unserer Sorgen und Ängste zu erkunden: das Schreiben. Schreiben kann eine therapeutische Wirkung haben\, die uns dabei hilft\, unsere innersten Gedanken und Gefühle auszudrücken. Es ermöglicht uns\, einen Schritt zurückzutreten und unsere Erfahrungen aus einer neuen Perspektive zu betrachten. Dieses Treffen wird sich darauf konzentrieren\, wie wir Schreiben als Werkzeug nutzen können\, um mit Burnout umzugehen und unsere mentale Gesundheit zu stärken.\nWir werden Freewriting\, Dialogschreiben und Journaling besprechen und ausprobieren. Bitte bringt ein Notizbuch und einen Stift mit. Für diejenigen\, die lieber digital arbeiten\, ist natürlich auch ein Laptop oder Tablet willkommen. \nDie Mitglieder der Selbsthilfegruppe bestimmen die Themen\, die sie behandeln wollen. In einigen Selbsthilfegruppen erfolgt dies von Monat zu Monat. In anderen Gruppen wird ein Halb- oder ein Jahresplan meist am Endes des vorhergehenden Jahres erstellt. Dieser Plan ist immer nur eine Richtschnur und kann jederzeit durch die Gruppenmitglieder geändert werden werden. Sobald das Thema für den Abend feststeht\, wir es an dieser Stellen durch den Text zum Thema ersetzt.\nIn Zweifelsfragen kannst Du Dich an den Organisator wenden. \n\n\n\n\nAnmeldung\nDu kannst immer ohne Anmeldung kommen. Für die Organisation des Treffens wäre eine Anmeldung hilfreich. \nDie monatliche Selbsthilfegruppe ermuntert die Teilnehmenden\, neue Sichtweisen zu einem bestimmten Thema auszuprobieren\, sich über Fremd- und Eigenwirkung der Übungen auszutauschen\, neue Handlungsmöglichkeiten zu erforschen und die eigene Lebenssituation neu zu bewerten. Darüber hinaus haben die Teilnehmenden die Möglichkeit\, mit anderen in einen persönlichen Erfahrungsaustausch zu kommen.  \nDie Veranstaltung wird durchgeführt von der Selbsthilfegruppe  (k)BC Mannheim mit Unterstützung des Gesundheitstreffpunkts Mannheim und des Bundesverband Burnout und Depression e.V.  \nWeitere Veranstaltungen sind hier zu finden. \nInformationen zum Krankheitsbild sind hier auf den Seiten des Bundesverbandes zu finden. \nModerator:in\nCarsten und Anna
URL:https://anderes-burnout-cafe.de/veranstaltungen/selbsthilfegruppe-kbc-mannheim-thema-wir-noch-bekannt-gegeben-4
LOCATION:ABC Mannheim\, Max-Joseph-Str. 1\, Mannheim\, 68167\, Deutschland
CATEGORIES:Mannheim,Präsenz
ORGANIZER;CN="(k)BC Mannheim":MAILTO:mannheim{at}anderes-burnout-cafe.de
END:VEVENT
BEGIN:VEVENT
DTSTART;TZID=Europe/Paris:20240402T193000
DTEND;TZID=Europe/Paris:20240402T213000
DTSTAMP:20260423T170659
CREATED:20240127T104157Z
LAST-MODIFIED:20240327T184722Z
UID:10000204-1712086200-1712093400@anderes-burnout-cafe.de
SUMMARY:Selbsthilfegruppe (k)BC Mannheim - Umgang mit Gefühlen
DESCRIPTION:Das Treffen der Selbsthilfegruppe (k)BC Mannheim findet live im Gesundheitstreffpunkt in Mannheim immer am ersten Dienstag im Monat in der Max-Joseph-Straße 1\, 68167 Mannheim\, von 19:30 – 21:30 Uhr statt. \n\nUmgang mit Gefühlen\n \nDieses Mal möchten wir uns einem besonders wichtigen Thema widmen: dem Umgang mit Gefühlen. Wir alle wissen\, wie herausfordernd es sein kann\, mit den emotionalen Belastungen des Burnouts umzugehen. Deshalb wollen wir uns gemeinsam darüber austauschen\, wie wir unsere Gefühle besser verstehen\, annehmen und verarbeiten können. Dazu probieren wir Strategien gleich in der Gruppe oder in kleinen Untergruppen aus – bringt also gerne wieder Papier und einen Stift mit. \nDie Mitglieder der Selbsthilfegruppe bestimmen die Themen\, die sie behandeln wollen. In einigen Selbsthilfegruppen erfolgt dies von Monat zu Monat. In anderen Gruppen wird ein Halb- oder ein Jahresplan meist am Endes des vorhergehenden Jahres erstellt. Dieser Plan ist immer nur eine Richtschnur und kann jederzeit durch die Gruppenmitglieder geändert werden werden. Sobald das Thema für den Abend feststeht\, wir es an dieser Stellen durch den Text zum Thema ersetzt.\nIn Zweifelsfragen kannst Du Dich an den Organisator wenden. \n\n\n\n\nAnmeldung\nDu kannst immer ohne Anmeldung kommen. Für die Organisation des Treffens wäre eine Anmeldung hilfreich. \nDie monatliche Selbsthilfegruppe ermuntert die Teilnehmenden\, neue Sichtweisen zu einem bestimmten Thema auszuprobieren\, sich über Fremd- und Eigenwirkung der Übungen auszutauschen\, neue Handlungsmöglichkeiten zu erforschen und die eigene Lebenssituation neu zu bewerten. Darüber hinaus haben die Teilnehmenden die Möglichkeit\, mit anderen in einen persönlichen Erfahrungsaustausch zu kommen.  \nDie Veranstaltung wird durchgeführt von der Selbsthilfegruppe  (k)BC Mannheim mit Unterstützung des Gesundheitstreffpunkts Mannheim und des Bundesverband Burnout und Depression e.V.  \nWeitere Veranstaltungen sind hier zu finden. \nInformationen zum Krankheitsbild sind hier auf den Seiten des Bundesverbandes zu finden. \nModerator:in\nCarsten und Anna
URL:https://anderes-burnout-cafe.de/veranstaltungen/selbsthilfegruppe-kbc-mannheim-thema-wir-noch-bekannt-gegeben-3
LOCATION:ABC Mannheim\, Max-Joseph-Str. 1\, Mannheim\, 68167\, Deutschland
CATEGORIES:Mannheim,Präsenz
ORGANIZER;CN="(k)BC Mannheim":MAILTO:mannheim{at}anderes-burnout-cafe.de
END:VEVENT
BEGIN:VEVENT
DTSTART;TZID=Europe/Paris:20240305T193000
DTEND;TZID=Europe/Paris:20240305T213000
DTSTAMP:20260423T170659
CREATED:20240122T065058Z
LAST-MODIFIED:20240317T182400Z
UID:10000186-1709667000-1709674200@anderes-burnout-cafe.de
SUMMARY:"BURN ON - immer kurz vorm Burn Out" in der nächsten Selbsthilfegruppe (k)BC Mannheim
DESCRIPTION:Das Treffen der Selbsthilfegruppe (k)BC Mannheim findet live im Gesundheitstreffpunkt in Mannheim immer am ersten Dienstag im Monat in der Max-Joseph-Straße 1\, 68167 Mannheim\, von 19:30 – 21:30 Uhr statt. \n  \n\nBURN ON – immer kurz vorm Burn Out\n \n„BURN ON – immer kurz vorm Burn Out“ von Bert te Wildt und Timo Schiele. In diesem Buch beschreiben die Autoren Folgendes: „Im Burn On vereinen sich höchste Leistungsbereitschaft und ultimative Erschöpfung zu einer unheiligen Allianz.“ Wie genau die Autoren zwischen Burn out und Burn on unterscheiden\, werden wir gemeinsam besprechen. Ebenso weitere Aussagen\, die im Buch getroffen werden\, wie z.B. dass der Begriff der „Work-Life-Balance“ im Grund genommen Quatsch ist. Bringt wieder Zettel und Stift mit\, wir werden auch Übungen aus dem Buch machen. \nDie Mitglieder der Selbsthilfegruppe bestimmen die Themen\, die sie behandeln wollen. In einigen Selbsthilfegruppen erfolgt dies von Monat zu Monat. In anderen Gruppen wird ein Halb- oder ein Jahresplan meist am Endes des vorhergehenden Jahres erstellt. Dieser Plan ist immer nur eine Richtschnur und kann jederzeit durch die Gruppenmitglieder geändert werden werden. Sobald das Thema für den Abend feststeht\, wir es an dieser Stellen durch den Text zum Thema ersetzt.\nIn Zweifelsfragen kannst Du Dich an den Organisator wenden. \n\n\n\n\nAnmeldung\nDu kannst immer ohne Anmeldung kommen. Für die Organisation des Treffens wäre eine Anmeldung hilfreich. \nDie monatliche Selbsthilfegruppe ermuntert die Teilnehmenden\, neue Sichtweisen zu einem bestimmten Thema auszuprobieren\, sich über Fremd- und Eigenwirkung der Übungen auszutauschen\, neue Handlungsmöglichkeiten zu erforschen und die eigene Lebenssituation neu zu bewerten. Darüber hinaus haben die Teilnehmenden die Möglichkeit\, mit anderen in einen persönlichen Erfahrungsaustausch zu kommen.  \nDie Veranstaltung wird durchgeführt von der Selbsthilfegruppe  (k)BC Mannheim mit Unterstützung des Gesundheitstreffpunkts Mannheim und des Bundesverband Burnout und Depression e.V.  \nWeitere Veranstaltungen sind hier zu finden. \nInformationen zum Krankheitsbild sind hier auf den Seiten des Bundesverbandes zu finden. \nModerator:in\nCarsten und Anna
URL:https://anderes-burnout-cafe.de/veranstaltungen/selbsthilfegruppe-kbc-mannheim-thema-wir-noch-bekannt-gegeben-2
LOCATION:ABC Mannheim\, Max-Joseph-Str. 1\, Mannheim\, 68167\, Deutschland
CATEGORIES:Mannheim,Präsenz
ORGANIZER;CN="(k)BC Mannheim":MAILTO:mannheim{at}anderes-burnout-cafe.de
END:VEVENT
END:VCALENDAR