BEGIN:VCALENDAR
VERSION:2.0
PRODID:-//anderes-burnout-cafe - ECPv6.15.11//NONSGML v1.0//EN
CALSCALE:GREGORIAN
METHOD:PUBLISH
X-WR-CALNAME:anderes-burnout-cafe
X-ORIGINAL-URL:https://anderes-burnout-cafe.de
X-WR-CALDESC:Veranstaltungen für anderes-burnout-cafe
REFRESH-INTERVAL;VALUE=DURATION:PT1H
X-Robots-Tag:noindex
X-PUBLISHED-TTL:PT1H
BEGIN:VTIMEZONE
TZID:Europe/Paris
BEGIN:DAYLIGHT
TZOFFSETFROM:+0100
TZOFFSETTO:+0200
TZNAME:CEST
DTSTART:20250330T010000
END:DAYLIGHT
BEGIN:STANDARD
TZOFFSETFROM:+0200
TZOFFSETTO:+0100
TZNAME:CET
DTSTART:20251026T010000
END:STANDARD
BEGIN:DAYLIGHT
TZOFFSETFROM:+0100
TZOFFSETTO:+0200
TZNAME:CEST
DTSTART:20260329T010000
END:DAYLIGHT
BEGIN:STANDARD
TZOFFSETFROM:+0200
TZOFFSETTO:+0100
TZNAME:CET
DTSTART:20261025T010000
END:STANDARD
BEGIN:DAYLIGHT
TZOFFSETFROM:+0100
TZOFFSETTO:+0200
TZNAME:CEST
DTSTART:20270328T010000
END:DAYLIGHT
BEGIN:STANDARD
TZOFFSETFROM:+0200
TZOFFSETTO:+0100
TZNAME:CET
DTSTART:20271031T010000
END:STANDARD
END:VTIMEZONE
BEGIN:VEVENT
DTSTART;TZID=Europe/Paris:20260427T200000
DTEND;TZID=Europe/Paris:20260427T213000
DTSTAMP:20260423T121556
CREATED:20260127T212526Z
LAST-MODIFIED:20260204T204237Z
UID:10000860-1777320000-1777325400@anderes-burnout-cafe.de
SUMMARY:Selbsthilfegruppe ABC für Männer (Online) - Innerer Kritiker (Umgang damit)
DESCRIPTION:Die Selbsthilfegruppe Online ABC für Männer findet in der Regel jeden jeden 4. Montag von 20-21:30 Uhr über Zoom statt.\nEinwahl unter:\nhttps://us02web.zoom.us/j/805791047\n \nDu bist herzlich willkommen!  Gemeinsam schaffen wir einen Raum für mehr Gelassenheit\, innere Balance und Wohlbefinden. \nDie Einwahl in die Selbsthilfegruppe ABC Online für Männer ist immer 10 Minuten vor dem offiziellen Beginn möglich und sinnvoll. Dies dient zum Ankommen\, Austausch untereinander oder auch dazu\, technische Schwierigkeiten vor Beginn zu beseitigen. Wir legen Wert darauf\, dass jeder mit Bild und Ton an der Veranstaltung teilnimmt. Nur so kann ein vertrauensvoller Austausch untereinander stattfinden. Bitte testet vorher bei der Einwahl Eure Kamera und das Audio. Weitergehende Unterstützung zu ZOOM findet ihr hier. \nNach der offiziellen Startzeit ist keine Einwahl mehr möglich\, denn dies ist Online noch störender als in Präsenzveranstaltungen. Danke für Euer Verständnis. Wir freuen uns auf Euch! \nThema: Innerer Kritiker (Umgang damit)\n \n\n\n\n\n\nDen inneren Kritiker verstehen\nJeder kennt den hartnäckigen\, kleinen Kritiker im Kopf. Immer wieder schafft er es\, Pläne und neue Vorhaben zu boykottieren. Er glaubt genau zu wissen\, was aussichtslos ist und liefert ungefragt gute Argumente gegen mögliche Veränderungen. In dieser Veranstaltung setzen wir uns mit dieser kritischen Stimme auseinander und entdecken möglicherweise\, dass sie wirklich Wichtiges zu sagen hat. Wer gut hinhört\, kann in dem Kritiker einen guten Freund und Berater finden. Mit hilfreichen Fragen und Übungen unterstützt der Moderator die Teilnehmer dabei\, die Stimme richtig zu deuten und in Zukunft\, Pläne zuversichtlich angehen und verwirklichen zu können.\n\n#innerer_Kritiker #Kritiker #Selbsthilfe #innere_Stimme.\n\n\n\n\n\n\nMit unseren Selbsthilfegruppen tragen wir zur emotionalen Entlastung und gegenseitige Unterstützung bei. Die Teilnehmenden geben sich gegenseitige wertschätzende Lebenshilfe. Durch die Teilnahme wird das Selbstbewusstsein und das Selbstwertgefühl gestärkt. Frühwarnzeichen können rechtzeitig erkannt werden\, das soziale Netz wird durch den Austausch mit den Teilnehmenden gestärkt. Die Selbsthilfegruppen tragen dazu bei\, ein individuelles Krisennetzwerk und einen entsprechenden Krisenplan aufzubauen. Übungen tragen zur erfolgreichen Erweiterung der Strategien im Umgang mit der Erkrankung bei.\n\nAnmeldung\nDu kannst immer ohne Anmeldung kommen. Für die Organisation des Treffens wäre eine Anmeldung hilfreich. \nDie monatliche Selbsthilfegruppe Anderes Burnout-Café ermuntert die Teilnehmenden\, neue Sichtweisen zu einem bestimmten Thema auszuprobieren\, sich über Fremd- und Eigenwirkung der Übungen auszutauschen\, neue Handlungsmöglichkeiten zu erforschen und die eigene Lebenssituation neu zu bewerten. Darüber hinaus haben die Teilnehmenden die Möglichkeit\, mit anderen in einen persönlichen Erfahrungsaustausch zu kommen.  \nDie Veranstaltung wird durchgeführt von der Selbsthilfegruppe ABC Online für Männer mit Unterstützung des Bundesverband Burnout und Depression e.V..  \nWeitere Veranstaltungen sind hier zu finden. \nInformationen zum Krankheitsbild sind hier auf den Seiten des Bundesverbandes zu finden. \nModerator\nNathan
URL:https://anderes-burnout-cafe.de/veranstaltungen/selbsthilfegruppe-abc-fuer-maenner-online-innerer-kritiker-umgang-damit
LOCATION:ABC für Männer\, Germany
CATEGORIES:Alle Städte,Online
ORGANIZER;CN="Bundesverband BBuD":MAILTO:info@bbud.info
END:VEVENT
BEGIN:VEVENT
DTSTART;TZID=Europe/Paris:20260525T200000
DTEND;TZID=Europe/Paris:20260525T213000
DTSTAMP:20260423T121556
CREATED:20260127T212854Z
LAST-MODIFIED:20260204T204148Z
UID:10000861-1779739200-1779744600@anderes-burnout-cafe.de
SUMMARY:Selbsthilfegruppe ABC für Männer (Online) - Umgang mit Ängsten
DESCRIPTION:Die Selbsthilfegruppe Online ABC für Männer findet in der Regel jeden jeden 4. Montag von 20-21:30 Uhr über Zoom statt.\nEinwahl unter:\nhttps://us02web.zoom.us/j/805791047\n \nDu bist herzlich willkommen!  Gemeinsam schaffen wir einen Raum für mehr Gelassenheit\, innere Balance und Wohlbefinden. \nDie Einwahl in die Selbsthilfegruppe ABC Online für Männer ist immer 10 Minuten vor dem offiziellen Beginn möglich und sinnvoll. Dies dient zum Ankommen\, Austausch untereinander oder auch dazu\, technische Schwierigkeiten vor Beginn zu beseitigen. Wir legen Wert darauf\, dass jeder mit Bild und Ton an der Veranstaltung teilnimmt. Nur so kann ein vertrauensvoller Austausch untereinander stattfinden. Bitte testet vorher bei der Einwahl Eure Kamera und das Audio. Weitergehende Unterstützung zu ZOOM findet ihr hier. \nNach der offiziellen Startzeit ist keine Einwahl mehr möglich\, denn dies ist Online noch störender als in Präsenzveranstaltungen. Danke für Euer Verständnis. Wir freuen uns auf Euch! \nThema: Umgang mit Ängsten\n \n\n\n\n\n\nAuch wenn am Aschermittwoch sprichwörtlich alles vorbei ist – Angststörungen bleiben und sind für Betroffene eine große Hürde im Alltag. Die vielen Formen der Angststörungen\, etwa Existenz-\, Verlust- oder Versagensängste\, sind häufig auch Begleiterscheinungen eines Burnout-Syndroms. Experten haben herausgefunden\, dass „die Angst vor der Angst“ Betroffene dazu veranlasst\, bestimmte Situationen zu meiden oder sogar aus dem Alltag zu flüchten. Im Burnout-Café zum Thema erlernen Betroffene und Interessierte\, sich den eigenen Ängsten zu nähern\, die Mechanismen zu erforschen sowie alternative Gedanken und Verhaltensmöglichkeiten zu entwickeln.\n\n\n\n\n\n\nMit unseren Selbsthilfegruppen tragen wir zur emotionalen Entlastung und gegenseitige Unterstützung bei. Die Teilnehmenden geben sich gegenseitige wertschätzende Lebenshilfe. Durch die Teilnahme wird das Selbstbewusstsein und das Selbstwertgefühl gestärkt. Frühwarnzeichen können rechtzeitig erkannt werden\, das soziale Netz wird durch den Austausch mit den Teilnehmenden gestärkt. Die Selbsthilfegruppen tragen dazu bei\, ein individuelles Krisennetzwerk und einen entsprechenden Krisenplan aufzubauen. Übungen tragen zur erfolgreichen Erweiterung der Strategien im Umgang mit der Erkrankung bei.\n\nAnmeldung\nDu kannst immer ohne Anmeldung kommen. Für die Organisation des Treffens wäre eine Anmeldung hilfreich. \nDie monatliche Selbsthilfegruppe Anderes Burnout-Café ermuntert die Teilnehmenden\, neue Sichtweisen zu einem bestimmten Thema auszuprobieren\, sich über Fremd- und Eigenwirkung der Übungen auszutauschen\, neue Handlungsmöglichkeiten zu erforschen und die eigene Lebenssituation neu zu bewerten. Darüber hinaus haben die Teilnehmenden die Möglichkeit\, mit anderen in einen persönlichen Erfahrungsaustausch zu kommen.  \nDie Veranstaltung wird durchgeführt von der Selbsthilfegruppe ABC Online für Männer mit Unterstützung des Bundesverband Burnout und Depression e.V..  \nWeitere Veranstaltungen sind hier zu finden. \nInformationen zum Krankheitsbild sind hier auf den Seiten des Bundesverbandes zu finden. \nModerator\nNathan
URL:https://anderes-burnout-cafe.de/veranstaltungen/selbsthilfegruppe-abc-fuer-maenner-online-umgang-mit-aengsten
LOCATION:ABC für Männer\, Germany
CATEGORIES:Alle Städte,Online
ORGANIZER;CN="Bundesverband BBuD":MAILTO:info@bbud.info
END:VEVENT
BEGIN:VEVENT
DTSTART;TZID=Europe/Paris:20260629T200000
DTEND;TZID=Europe/Paris:20260629T213000
DTSTAMP:20260423T121556
CREATED:20260127T213019Z
LAST-MODIFIED:20260204T204046Z
UID:10000862-1782763200-1782768600@anderes-burnout-cafe.de
SUMMARY:Selbsthilfegruppe ABC für Männer (Online) -  Grenzen setzen
DESCRIPTION:Die Selbsthilfegruppe Online ABC für Männer findet in der Regel jeden jeden 4. Montag von 20-21:30 Uhr über Zoom statt.\nEinwahl unter:\nhttps://us02web.zoom.us/j/805791047\n \nDu bist herzlich willkommen!  Gemeinsam schaffen wir einen Raum für mehr Gelassenheit\, innere Balance und Wohlbefinden. \nDie Einwahl in die Selbsthilfegruppe ABC Online für Männer ist immer 10 Minuten vor dem offiziellen Beginn möglich und sinnvoll. Dies dient zum Ankommen\, Austausch untereinander oder auch dazu\, technische Schwierigkeiten vor Beginn zu beseitigen. Wir legen Wert darauf\, dass jeder mit Bild und Ton an der Veranstaltung teilnimmt. Nur so kann ein vertrauensvoller Austausch untereinander stattfinden. Bitte testet vorher bei der Einwahl Eure Kamera und das Audio. Weitergehende Unterstützung zu ZOOM findet ihr hier. \nNach der offiziellen Startzeit ist keine Einwahl mehr möglich\, denn dies ist Online noch störender als in Präsenzveranstaltungen. Danke für Euer Verständnis. Wir freuen uns auf Euch! \nThema: Grenzen setzen\n \n\n\n\n\n\n\nFür einen gesunden Selbstwert ist die Fähigkeit\, Grenzen zu setzen\, sehr hilfreich. Doch viele Menschen haben keine innere Erlaubnis auch mal Stop oder Nein zu sagen. Sie nehmen immer alles auf sich\, ziehen jeden dargebotenen Schuh an und lassen sehr viel über sich ergehen. Sie fühlen sich schuldig\, wenn sie ein Nein sagen\, oder im Übermaß verpflichtet. Das ist auf Dauer oft erschöpfend!\nDoch das heißt im Umkehrschluss nicht\, dass man immer nein sagen muss. Und manchmal ist es auch hilfreich\, die Grenze wieder etwas aufzulösen … .\nWie ein gutes Gleichgewicht zwischen „Ja heißt Ja“ und „Nein heißt Nein“ hergestellt werden kann\, woher die Grenzverletzungen rühren und wie besser damit umgegangen werden kann\, erörtern wir an diesem Abend im ABC.\n\n\n\n\n\n\n\nMit unseren Selbsthilfegruppen tragen wir zur emotionalen Entlastung und gegenseitige Unterstützung bei. Die Teilnehmenden geben sich gegenseitige wertschätzende Lebenshilfe. Durch die Teilnahme wird das Selbstbewusstsein und das Selbstwertgefühl gestärkt. Frühwarnzeichen können rechtzeitig erkannt werden\, das soziale Netz wird durch den Austausch mit den Teilnehmenden gestärkt. Die Selbsthilfegruppen tragen dazu bei\, ein individuelles Krisennetzwerk und einen entsprechenden Krisenplan aufzubauen. Übungen tragen zur erfolgreichen Erweiterung der Strategien im Umgang mit der Erkrankung bei.\n\nAnmeldung\nDu kannst immer ohne Anmeldung kommen. Für die Organisation des Treffens wäre eine Anmeldung hilfreich. \nDie monatliche Selbsthilfegruppe Anderes Burnout-Café ermuntert die Teilnehmenden\, neue Sichtweisen zu einem bestimmten Thema auszuprobieren\, sich über Fremd- und Eigenwirkung der Übungen auszutauschen\, neue Handlungsmöglichkeiten zu erforschen und die eigene Lebenssituation neu zu bewerten. Darüber hinaus haben die Teilnehmenden die Möglichkeit\, mit anderen in einen persönlichen Erfahrungsaustausch zu kommen.  \nDie Veranstaltung wird durchgeführt von der Selbsthilfegruppe ABC Online für Männer mit Unterstützung des Bundesverband Burnout und Depression e.V..  \nWeitere Veranstaltungen sind hier zu finden. \nInformationen zum Krankheitsbild sind hier auf den Seiten des Bundesverbandes zu finden. \nModerator\nNathan
URL:https://anderes-burnout-cafe.de/veranstaltungen/selbsthilfegruppe-abc-fuer-maenner-online-grenzen-setzen
LOCATION:ABC für Männer\, Germany
CATEGORIES:Alle Städte,Online
ORGANIZER;CN="Bundesverband BBuD":MAILTO:info@bbud.info
END:VEVENT
END:VCALENDAR