BEGIN:VCALENDAR
VERSION:2.0
PRODID:-//anderes-burnout-cafe - ECPv6.15.11//NONSGML v1.0//EN
CALSCALE:GREGORIAN
METHOD:PUBLISH
X-WR-CALNAME:anderes-burnout-cafe
X-ORIGINAL-URL:https://anderes-burnout-cafe.de
X-WR-CALDESC:Veranstaltungen für anderes-burnout-cafe
REFRESH-INTERVAL;VALUE=DURATION:PT1H
X-Robots-Tag:noindex
X-PUBLISHED-TTL:PT1H
BEGIN:VTIMEZONE
TZID:Europe/Paris
BEGIN:DAYLIGHT
TZOFFSETFROM:+0100
TZOFFSETTO:+0200
TZNAME:CEST
DTSTART:20230326T010000
END:DAYLIGHT
BEGIN:STANDARD
TZOFFSETFROM:+0200
TZOFFSETTO:+0100
TZNAME:CET
DTSTART:20231029T010000
END:STANDARD
BEGIN:DAYLIGHT
TZOFFSETFROM:+0100
TZOFFSETTO:+0200
TZNAME:CEST
DTSTART:20240331T010000
END:DAYLIGHT
BEGIN:STANDARD
TZOFFSETFROM:+0200
TZOFFSETTO:+0100
TZNAME:CET
DTSTART:20241027T010000
END:STANDARD
BEGIN:DAYLIGHT
TZOFFSETFROM:+0100
TZOFFSETTO:+0200
TZNAME:CEST
DTSTART:20250330T010000
END:DAYLIGHT
BEGIN:STANDARD
TZOFFSETFROM:+0200
TZOFFSETTO:+0100
TZNAME:CET
DTSTART:20251026T010000
END:STANDARD
END:VTIMEZONE
BEGIN:VEVENT
DTSTART;TZID=Europe/Paris:20240702T190000
DTEND;TZID=Europe/Paris:20240702T210000
DTSTAMP:20260419T141358
CREATED:20240416T053111Z
LAST-MODIFIED:20240416T053111Z
UID:10000289-1719946800-1719954000@anderes-burnout-cafe.de
SUMMARY:Selbsthilfegruppe ABC Düsseldorf - Netzwerke und soziale Kontakte
DESCRIPTION:Die Selbsthilfegruppe ABC Düsseldorf findet regelmäßig am ersten Dienstag im Monat online von 19:00 bis 21:00 0nline statt.\nDie Einwahl erfolgt über https://us02web.zoom.us/j/805791047 \nDie Einwahl in die Selbsthilfegruppe ABC Düsseldorf ist immer 10 Minuten vor dem offiziellen Beginn möglich und sinnvoll. Dies dient zum Ankommen\, Austausch untereinander oder auch dazu\, technische Schwierigkeiten vor Beginn zu beseitigen. Wir legen Wert darauf\, dass jeder mit Bild und Ton an der Veranstaltung teilnimmt. Nur so kann ein vertrauensvoller Austausch untereinander stattfinden. Bitte testet vorher bei der Einwahl Eure Kamera und das Audio. Weitergehende Unterstützung zu ZOOM findet ihr hier. \nNach der offiziellen Startzeit ist keine Einwahl mehr möglich\, denn dies ist Online noch störender als in Präsenzveranstaltungen. Danke für Euer Verständnis. Wir freuen uns auf Euch! \nThema: Netzwerke und soziale Kontakt\n \nDie Pandemie hat uns alle viel neues abverlangt. Isolation und Einsamkeit haben sich breit gemacht in unserer Gesellschaft. Gerade in diesen Zeiten ist es wichtig mit Menschen in Kontakt zu bleiben oder zu kommen. Freunden\, Familienangehörigen\, Kollegen oder Nachbarn zu helfen\, ist für die meisten selbstverständlich. Andere um Hilfe zu bitten und diese anzunehmen\, fällt manchen hingegen schwer? Um die Gründe dafür herauszufinden\, nehmen wir das eigene Netzwerk genauer unter die Lupe: Wer sind meine Freunde und wie pflege ich meine Beziehungen? Wem helfe ich und wer unterstützt mich? Wie kläre ich konflikthaltige Beziehungen? \n  \nMit unseren Selbsthilfegruppen tragen wir zur emotionalen Entlastung und gegenseitige Unterstützung bei. Die Teilnehmenden geben sich gegenseitige wertschätzende Lebenshilfe. Durch die Teilnahme wird das Selbstbewusstsein und das Selbstwertgefühl gestärkt. Frühwarnzeichen können rechtzeitig erkannt werden\, das soziale Netz wird durch den Austausch mit den Teilnehmenden gestärkt. Die Selbsthilfegruppen tragen dazu bei\, ein individuelles Krisennetzwerk und einen entsprechenden Krisenplan aufzubauen. Übungen tragen zur erfolgreichen Erweiterung der Strategien im Umgang mit der Erkrankung bei. \nAnmeldung zur Selbsthilfegruppe ABC Düsseldorf\nDu kannst immer ohne Anmeldung kommen. Für die Organisation des Treffens wäre eine Anmeldung hilfreich. \nDie Selbsthilfegruppe ermuntert die Teilnehmenden\, neue Sichtweisen zu einem bestimmten Thema auszuprobieren\, sich über Fremd- und Eigenwirkung der Übungen auszutauschen\, neue Handlungsmöglichkeiten zu erforschen und die eigene Lebenssituation neu zu bewerten. Darüber hinaus haben die Teilnehmenden die Möglichkeit\, mit anderen in einen persönlichen Erfahrungsaustausch zu kommen.  \nDie Veranstaltung wird durchgeführt von der Selbsthilfegruppe  ABC Düsseldorf mit Unterstützung des Bundesverband Burnout und Depression e.V. und durch die Pauschalförderung der Selbsthilfegruppen nach  SGB V\, §20h. \nWeitere Veranstaltungen sind hier zu finden. \nInformationen zum Krankheitsbild sind hier auf den Seiten des Bundesverbandes zu finden. \nModeratorinnen\nKim und Liso
URL:https://anderes-burnout-cafe.de/veranstaltungen/selbsthilfegruppe-abc-duesseldorf-netzwerke-und-soziale-kontakte
LOCATION:ABC Düsseldorf\, Düsseldorf\, Deutschland
CATEGORIES:Düsseldorf,Freigegeben,Online
ORGANIZER;CN="ABC D%C3%BCsseldorf":MAILTO:duesseldorf{at}anderes-burnout-cafe.de
END:VEVENT
BEGIN:VEVENT
DTSTART;TZID=Europe/Paris:20240604T190000
DTEND;TZID=Europe/Paris:20240604T210000
DTSTAMP:20260419T141358
CREATED:20240208T055144Z
LAST-MODIFIED:20240317T182937Z
UID:10000243-1717527600-1717534800@anderes-burnout-cafe.de
SUMMARY:Selbsthilfegruppe ABC Düsseldorf - Kritik geben und verbessern
DESCRIPTION:Die Selbsthilfegruppe ABC Düsseldorf findet regelmäßig am ersten Dienstag im Monat online von 19:00 bis 21:00 0nline statt.\nDie Einwahl erfolgt über https://us02web.zoom.us/j/805791047 \nDie Einwahl in die Selbsthilfegruppe ABC Düsseldorf ist immer 10 Minuten vor dem offiziellen Beginn möglich und sinnvoll. Dies dient zum Ankommen\, Austausch untereinander oder auch dazu\, technische Schwierigkeiten vor Beginn zu beseitigen. Wir legen Wert darauf\, dass jeder mit Bild und Ton an der Veranstaltung teilnimmt. Nur so kann ein vertrauensvoller Austausch untereinander stattfinden. Bitte testet vorher bei der Einwahl Eure Kamera und das Audio. Weitergehende Unterstützung zu ZOOM findet ihr hier. \nNach der offiziellen Startzeit ist keine Einwahl mehr möglich\, denn dies ist Online noch störender als in Präsenzveranstaltungen. Danke für Euer Verständnis. Wir freuen uns auf Euch! \nThema: Kritik geben und verbessern\n \nEs gibt Situationen in den wir glauben\, Kritik zu üben sei angemessen. Wir alle haben schon erlebt\, wie sehr wir betroffen sein können von Äußerungen\, die ein anderer uns gegenüber ausspricht. Wie können wir das vermeiden\, wenn wir selbst Kritik äußern? Wir wollen in der Aussprache Stolpersteine erkennen und in den Übungen erfahren\, wie es anders geht. \n  \nMit unseren Selbsthilfegruppen tragen wir zur emotionalen Entlastung und gegenseitige Unterstützung bei. Die Teilnehmenden geben sich gegenseitige wertschätzende Lebenshilfe. Durch die Teilnahme wird das Selbstbewusstsein und das Selbstwertgefühl gestärkt. Frühwarnzeichen können rechtzeitig erkannt werden\, das soziale Netz wird durch den Austausch mit den Teilnehmenden gestärkt. Die Selbsthilfegruppen tragen dazu bei\, ein individuelles Krisennetzwerk und einen entsprechenden Krisenplan aufzubauen. Übungen tragen zur erfolgreichen Erweiterung der Strategien im Umgang mit der Erkrankung bei. \nAnmeldung zur Selbsthilfegruppe ABC Düsseldorf\nDu kannst immer ohne Anmeldung kommen. Für die Organisation des Treffens wäre eine Anmeldung hilfreich. \nDie Selbsthilfegruppe ermuntert die Teilnehmenden\, neue Sichtweisen zu einem bestimmten Thema auszuprobieren\, sich über Fremd- und Eigenwirkung der Übungen auszutauschen\, neue Handlungsmöglichkeiten zu erforschen und die eigene Lebenssituation neu zu bewerten. Darüber hinaus haben die Teilnehmenden die Möglichkeit\, mit anderen in einen persönlichen Erfahrungsaustausch zu kommen.  \nDie Veranstaltung wird durchgeführt von der Selbsthilfegruppe  ABC Düsseldorf mit Unterstützung des Bundesverband Burnout und Depression e.V. und durch die Pauschalförderung der Selbsthilfegruppen nach  SGB V\, §20h. \nWeitere Veranstaltungen sind hier zu finden. \nInformationen zum Krankheitsbild sind hier auf den Seiten des Bundesverbandes zu finden. \nModeratorinnen\nKim und Liso
URL:https://anderes-burnout-cafe.de/veranstaltungen/selbsthilfegruppe-abc-duesseldorf-kritik-geben-und-verbessern
LOCATION:ABC Düsseldorf\, Düsseldorf\, Deutschland
CATEGORIES:Düsseldorf,Freigegeben,Online
ORGANIZER;CN="ABC D%C3%BCsseldorf":MAILTO:duesseldorf{at}anderes-burnout-cafe.de
END:VEVENT
BEGIN:VEVENT
DTSTART;TZID=Europe/Paris:20240507T190000
DTEND;TZID=Europe/Paris:20240507T210000
DTSTAMP:20260419T141358
CREATED:20240207T144941Z
LAST-MODIFIED:20240317T183118Z
UID:10000222-1715108400-1715115600@anderes-burnout-cafe.de
SUMMARY:Selbsthilfegruppe ABC Düsseldorf - Gewaltfreie Kommunikation
DESCRIPTION:Die Selbsthilfegruppe ABC Düsseldorf findet regelmäßig am ersten Dienstag im Monat online von 19:00 bis 21:00 0nline statt.\nDie Einwahl erfolgt über https://us02web.zoom.us/j/805791047 \nDie Einwahl in die Selbsthilfegruppe ABC Düsseldorf ist immer 10 Minuten vor dem offiziellen Beginn möglich und sinnvoll. Dies dient zum Ankommen\, Austausch untereinander oder auch dazu\, technische Schwierigkeiten vor Beginn zu beseitigen. Wir legen Wert darauf\, dass jeder mit Bild und Ton an der Veranstaltung teilnimmt. Nur so kann ein vertrauensvoller Austausch untereinander stattfinden. Bitte testet vorher bei der Einwahl Eure Kamera und das Audio. Weitergehende Unterstützung zu ZOOM findet ihr hier. \nNach der offiziellen Startzeit ist keine Einwahl mehr möglich\, denn dies ist Online noch störender als in Präsenzveranstaltungen. Danke für Euer Verständnis. Wir freuen uns auf Euch! \nThema: Gewaltfreie Kommunikation\n \nBei diesem Thema geht es um die grundlegenden Faktoren und Ebenen\, die “Kommunikation” ausmachen\, aber auch um “verhältnismäßige” Kommunikation beim Vorliegen eines Konfliktes\, z.B.\nWie sage ich es meinem Gegenüber? Wie sage ich es früh genug und in welcher Form? Welche non-verbalen Signale kann ich senden\, um das Gesagte zu unterstreichen?\n  \nMit unseren Selbsthilfegruppen tragen wir zur emotionalen Entlastung und gegenseitige Unterstützung bei. Die Teilnehmenden geben sich gegenseitige wertschätzende Lebenshilfe. Durch die Teilnahme wird das Selbstbewusstsein und das Selbstwertgefühl gestärkt. Frühwarnzeichen können rechtzeitig erkannt werden\, das soziale Netz wird durch den Austausch mit den Teilnehmenden gestärkt. Die Selbsthilfegruppen tragen dazu bei\, ein individuelles Krisennetzwerk und einen entsprechenden Krisenplan aufzubauen. Übungen tragen zur erfolgreichen Erweiterung der Strategien im Umgang mit der Erkrankung bei. \nAnmeldung zur Selbsthilfegruppe ABC Düsseldorf\nDu kannst immer ohne Anmeldung kommen. Für die Organisation des Treffens wäre eine Anmeldung hilfreich. \nDie Selbsthilfegruppe ermuntert die Teilnehmenden\, neue Sichtweisen zu einem bestimmten Thema auszuprobieren\, sich über Fremd- und Eigenwirkung der Übungen auszutauschen\, neue Handlungsmöglichkeiten zu erforschen und die eigene Lebenssituation neu zu bewerten. Darüber hinaus haben die Teilnehmenden die Möglichkeit\, mit anderen in einen persönlichen Erfahrungsaustausch zu kommen.  \nDie Veranstaltung wird durchgeführt von der Selbsthilfegruppe  ABC Düsseldorf mit Unterstützung des Bundesverband Burnout und Depression e.V. und durch die Pauschalförderung der Selbsthilfegruppen nach  SGB V\, §20h. \nWeitere Veranstaltungen sind hier zu finden. \nInformationen zum Krankheitsbild sind hier auf den Seiten des Bundesverbandes zu finden. \nModeratorinnen\nKim und Liso
URL:https://anderes-burnout-cafe.de/veranstaltungen/selbsthilfegruppe-abc-duesseldorf-gewaltfreie-kommunikation
LOCATION:ABC Düsseldorf\, Düsseldorf\, Deutschland
CATEGORIES:Düsseldorf,Freigegeben,Online
ORGANIZER;CN="ABC D%C3%BCsseldorf":MAILTO:duesseldorf{at}anderes-burnout-cafe.de
END:VEVENT
BEGIN:VEVENT
DTSTART;TZID=Europe/Paris:20240402T190000
DTEND;TZID=Europe/Paris:20240402T210000
DTSTAMP:20260419T141358
CREATED:20240127T104016Z
LAST-MODIFIED:20240317T182113Z
UID:10000203-1712084400-1712091600@anderes-burnout-cafe.de
SUMMARY:Selbsthilfegruppe ABC Düsseldorf - Inneres Team
DESCRIPTION:Die Selbsthilfegruppe ABC Düsseldorf findet regelmäßig am ersten Dienstag im Monat online von 19:00 bis 21:00 0nline statt.\nDie Einwahl erfolgt über https://us02web.zoom.us/j/805791047 \nDie Einwahl in die Selbsthilfegruppe ABC Düsseldorf ist immer 10 Minuten vor dem offiziellen Beginn möglich und sinnvoll. Dies dient zum Ankommen\, Austausch untereinander oder auch dazu\, technische Schwierigkeiten vor Beginn zu beseitigen. Wir legen Wert darauf\, dass jeder mit Bild und Ton an der Veranstaltung teilnimmt. Nur so kann ein vertrauensvoller Austausch untereinander stattfinden. Bitte testet vorher bei der Einwahl Eure Kamera und das Audio. Weitergehende Unterstützung zu ZOOM findet ihr hier. \nNach der offiziellen Startzeit ist keine Einwahl mehr möglich\, denn dies ist Online noch störender als in Präsenzveranstaltungen. Danke für Euer Verständnis. Wir freuen uns auf Euch! \nThema: Inneres Team\n \nPersönlichkeitsanteile – unser inneres Team und seine Wirkung auf uns\nWie oft sagen wir: „ich kann mich nicht entscheiden\, ich bin hin- und hergerissen“ oder „ich steh heute völlig neben mir“ oder „habe ich das gerade gesagt?!“\nDas Modell der inneren Anteile – des inneren Teams (Friedemann Schulz von Thun) ist ein Denkmodell\, um sich selbst und seine Verhaltensweisen besser kennenzulernen und auch besser steuern zu können. Wir kümmern uns an diesem Abend um das Kennenlernen des eigenen „Teams“ und sammeln Informationen darüber\, warum wir uns in manchen Situationen nicht wie wir selbst verhalten und was wir tun können\, damit das innere Team auch zusammenarbeiten kann.\n  \nMit unseren Selbsthilfegruppen tragen wir zur emotionalen Entlastung und gegenseitige Unterstützung bei. Die Teilnehmenden geben sich gegenseitige wertschätzende Lebenshilfe. Durch die Teilnahme wird das Selbstbewusstsein und das Selbstwertgefühl gestärkt. Frühwarnzeichen können rechtzeitig erkannt werden\, das soziale Netz wird durch den Austausch mit den Teilnehmenden gestärkt. Die Selbsthilfegruppen tragen dazu bei\, ein individuelles Krisennetzwerk und einen entsprechenden Krisenplan aufzubauen. Übungen tragen zur erfolgreichen Erweiterung der Strategien im Umgang mit der Erkrankung bei. \nAnmeldung zur Selbsthilfegruppe ABC Düsseldorf\nDu kannst immer ohne Anmeldung kommen. Für die Organisation des Treffens wäre eine Anmeldung hilfreich. \nDie Selbsthilfegruppe ermuntert die Teilnehmenden\, neue Sichtweisen zu einem bestimmten Thema auszuprobieren\, sich über Fremd- und Eigenwirkung der Übungen auszutauschen\, neue Handlungsmöglichkeiten zu erforschen und die eigene Lebenssituation neu zu bewerten. Darüber hinaus haben die Teilnehmenden die Möglichkeit\, mit anderen in einen persönlichen Erfahrungsaustausch zu kommen.  \nDie Veranstaltung wird durchgeführt von der Selbsthilfegruppe  ABC Düsseldorf mit Unterstützung des Bundesverband Burnout und Depression e.V. und durch die Pauschalförderung der Selbsthilfegruppen nach  SGB V\, §20h. \nWeitere Veranstaltungen sind hier zu finden. \nInformationen zum Krankheitsbild sind hier auf den Seiten des Bundesverbandes zu finden. \nModeratorinnen\nKim und Liso
URL:https://anderes-burnout-cafe.de/veranstaltungen/selbsthilfegruppe-abc-duesseldorf-inneres-team
LOCATION:ABC Düsseldorf\, Düsseldorf\, Deutschland
CATEGORIES:Düsseldorf,Freigegeben,Online
ORGANIZER;CN="ABC D%C3%BCsseldorf":MAILTO:duesseldorf{at}anderes-burnout-cafe.de
END:VEVENT
BEGIN:VEVENT
DTSTART;TZID=Europe/Paris:20240305T190000
DTEND;TZID=Europe/Paris:20240305T210000
DTSTAMP:20260419T141358
CREATED:20240122T062207Z
LAST-MODIFIED:20240317T182407Z
UID:10000185-1709665200-1709672400@anderes-burnout-cafe.de
SUMMARY:Selbsthilfegruppe ABC Düsseldorf - Resilienz
DESCRIPTION:Die Selbsthilfegruppe ABC Düsseldorf findet regelmäßig am ersten Dienstag im Monat online von 19:00 bis 21:00 0nline statt.\nDie Einwahl erfolgt über https://us02web.zoom.us/j/805791047 \nDie Einwahl in die Selbsthilfegruppe ABC Düsseldorf ist immer 10 Minuten vor dem offiziellen Beginn möglich und sinnvoll. Dies dient zum Ankommen\, Austausch untereinander oder auch dazu\, technische Schwierigkeiten vor Beginn zu beseitigen. Wir legen Wert darauf\, dass jeder mit Bild und Ton an der Veranstaltung teilnimmt. Nur so kann ein vertrauensvoller Austausch untereinander stattfinden. Bitte testet vorher bei der Einwahl Eure Kamera und das Audio. Weitergehende Unterstützung zu ZOOM findet ihr hier. \nNach der offiziellen Startzeit ist keine Einwahl mehr möglich\, denn dies ist Online noch störender als in Präsenzveranstaltungen. Danke für Euer Verständnis. Wir freuen uns auf Euch! \nThema: Resilienz\n \nWenn es um die Stressbewältigung\, Bekämpfung der Depression und des Burnouts geht\, spielt Resilienz eine enorm wichtige Rolle. Sie ist auch eine essenzielle Prophylaxe zur Vorbeugung verschiedener psychischer Erkrankungen. \nIn dieser Veranstaltung – durchgeführt von der Selbsthilfegruppe ABC Düsseldorf mit Unterstützung des Bundesverbands Burnout und Depression e.V. – besprechen wir\, was Resilienz wirklich bedeutet und welche Lebensbereiche sie betrifft. Wir tauschen unsere Erfahrungen aus\, helfen einander mit Tipps und finden mit einer Übung heraus\, in welchem Lebensbereich der eigene Resilienz-Level gut ausgeprägt ist und in welchem eine Stärkung der Resilienz angebracht ist. \nMit unseren Selbsthilfegruppen tragen wir zur emotionalen Entlastung und gegenseitige Unterstützung bei. Die Teilnehmenden geben sich gegenseitige wertschätzende Lebenshilfe. Durch die Teilnahme wird das Selbstbewusstsein und das Selbstwertgefühl gestärkt. Frühwarnzeichen können rechtzeitig erkannt werden\, das soziale Netz wird durch den Austausch mit den Teilnehmenden gestärkt. Die Selbsthilfegruppen tragen dazu bei\, ein individuelles Krisennetzwerk und einen entsprechenden Krisenplan aufzubauen. Übungen tragen zur erfolgreichen Erweiterung der Strategien im Umgang mit der Erkrankung bei. \nAnmeldung zur Selbsthilfegruppe ABC Düsseldorf\nDu kannst immer ohne Anmeldung kommen. Für die Organisation des Treffens wäre eine Anmeldung hilfreich. \nDie Selbsthilfegruppe ermuntert die Teilnehmenden\, neue Sichtweisen zu einem bestimmten Thema auszuprobieren\, sich über Fremd- und Eigenwirkung der Übungen auszutauschen\, neue Handlungsmöglichkeiten zu erforschen und die eigene Lebenssituation neu zu bewerten. Darüber hinaus haben die Teilnehmenden die Möglichkeit\, mit anderen in einen persönlichen Erfahrungsaustausch zu kommen.  \nDie Veranstaltung wird durchgeführt von der Selbsthilfegruppe  ABC Düsseldorf mit Unterstützung des Bundesverband Burnout und Depression e.V. und durch die Pauschalförderung der Selbsthilfegruppen nach  SGB V\, §20h. \nWeitere Veranstaltungen sind hier zu finden. \nInformationen zum Krankheitsbild sind hier auf den Seiten des Bundesverbandes zu finden. \nModeratorinnen\nKim und Liso
URL:https://anderes-burnout-cafe.de/veranstaltungen/selbsthilfegruppe-abc-duesseldorf-resilienz
LOCATION:ABC Düsseldorf\, Düsseldorf\, Deutschland
CATEGORIES:Düsseldorf,Freigegeben,Online
ORGANIZER;CN="ABC D%C3%BCsseldorf":MAILTO:duesseldorf{at}anderes-burnout-cafe.de
END:VEVENT
END:VCALENDAR