BEGIN:VCALENDAR
VERSION:2.0
PRODID:-//anderes-burnout-cafe - ECPv6.15.11//NONSGML v1.0//EN
CALSCALE:GREGORIAN
METHOD:PUBLISH
X-WR-CALNAME:anderes-burnout-cafe
X-ORIGINAL-URL:https://anderes-burnout-cafe.de
X-WR-CALDESC:Veranstaltungen für anderes-burnout-cafe
REFRESH-INTERVAL;VALUE=DURATION:PT1H
X-Robots-Tag:noindex
X-PUBLISHED-TTL:PT1H
BEGIN:VTIMEZONE
TZID:Europe/Paris
BEGIN:DAYLIGHT
TZOFFSETFROM:+0100
TZOFFSETTO:+0200
TZNAME:CEST
DTSTART:20230326T010000
END:DAYLIGHT
BEGIN:STANDARD
TZOFFSETFROM:+0200
TZOFFSETTO:+0100
TZNAME:CET
DTSTART:20231029T010000
END:STANDARD
BEGIN:DAYLIGHT
TZOFFSETFROM:+0100
TZOFFSETTO:+0200
TZNAME:CEST
DTSTART:20240331T010000
END:DAYLIGHT
BEGIN:STANDARD
TZOFFSETFROM:+0200
TZOFFSETTO:+0100
TZNAME:CET
DTSTART:20241027T010000
END:STANDARD
BEGIN:DAYLIGHT
TZOFFSETFROM:+0100
TZOFFSETTO:+0200
TZNAME:CEST
DTSTART:20250330T010000
END:DAYLIGHT
BEGIN:STANDARD
TZOFFSETFROM:+0200
TZOFFSETTO:+0100
TZNAME:CET
DTSTART:20251026T010000
END:STANDARD
END:VTIMEZONE
BEGIN:VEVENT
DTSTART;TZID=Europe/Paris:20240419T190000
DTEND;TZID=Europe/Paris:20240419T211500
DTSTAMP:20260419T154406
CREATED:20240127T103604Z
LAST-MODIFIED:20240317T183211Z
UID:10000202-1713553200-1713561300@anderes-burnout-cafe.de
SUMMARY:Terminänderung! Selbsthilfe ABC Darmstadt - Thema wird noch bekanntgegeben
DESCRIPTION:Die Selbsthilfegruppe ABC Darmstadt findet regelmäßig am ersten Freitag im Monat von 19:00 bis 21:15 in Präsenz statt. Diesen Monat findet das Treffen wegen der Schulferien ausnahmsweise erst am 19. April statt. \nDie Selbsthilfegruppe trifft sich im Mehrgenerationenhaus\, Julius-Reiber-Str 22\, 64293 Darmstadt. \nThema:\n \nMit Übungen kann man Denkmuster bewusst ändern. Die Vergangenheit kann natürlich nicht geändert werden – doch die Bedeutung\, die wir ihr geben\, kann selbst gesteuert werden. Für eine angenehmere Zukunft! \n  \nMit unseren Selbsthilfegruppen tragen wir zur emotionalen Entlastung und gegenseitige Unterstützung bei. Die Teilnehmenden geben sich gegenseitige wertschätzende Lebenshilfe. Durch die Teilnahme wird das Selbstbewusstsein und das Selbstwertgefühl gestärkt. Frühwarnzeichen können rechtzeitig erkannt werden\, das soziale Netz wird durch den Austausch mit den Teilnehmenden gestärkt. Die Selbsthilfegruppen tragen dazu bei\, ein individuelles Krisennetzwerk und einen entsprechenden Krisenplan aufzubauen. Übungen tragen zur erfolgreichen Erweiterung der Strategien im Umgang mit der Erkrankung bei. \nAnmeldung\nDu kannst immer ohne Anmeldung kommen. Für die Organisation des Treffens wäre eine Anmeldung hilfreich. \nDie Selbsthilfegruppe „Anderes Burnout Café Darmstadt“ ermuntert die Teilnehmenden\, neue Sichtweisen zu einem bestimmten Thema auszuprobieren\, sich über Fremd- und Eigenwirkung der Übungen auszutauschen\, neue Handlungsmöglichkeiten zu erforschen und die eigene Lebenssituation neu zu bewerten. Darüber hinaus haben die Teilnehmenden die Möglichkeit\, mit anderen in einen persönlichen Erfahrungsaustausch zu kommen.  \nDie Veranstaltung wird durchgeführt von der Selbsthilfegruppe  ABC Darmstadt mit Unterstützung des Bundesverband Burnout und Depression e.V. \nWeitere Veranstaltungen sind hier zu finden. \nInformationen zum Krankheitsbild sind hier auf den Seiten des Bundesverbandes zu finden. \nModerator\nMarcus Ackermann | 06151 365 06 02 | Darmstadt (at) anderes-burnout-cafe.de
URL:https://anderes-burnout-cafe.de/veranstaltungen/terminaenderung-selbsthilfe-abc-darmstadt-thema-wird-noch-bekanntgegeben
LOCATION:ABC Darmstadt\, Julius-Reiber-Str.22\, Darmstadt\, 64293\, Deutschland
CATEGORIES:Darmstadt,Präsenz
ORGANIZER;CN="Marcus Ackermann":MAILTO:darmstadt{at}anderes-burnout-cafe.de
END:VEVENT
BEGIN:VEVENT
DTSTART;TZID=Europe/Paris:20240301T190000
DTEND;TZID=Europe/Paris:20240301T211500
DTSTAMP:20260419T154407
CREATED:20240122T061658Z
LAST-MODIFIED:20240317T182438Z
UID:10000184-1709319600-1709327700@anderes-burnout-cafe.de
SUMMARY:Selbsthilfe ABC Darmstadt - Hilfreiche Denkmuster
DESCRIPTION:Die Selbsthilfegruppe ABC Darmstadt findet regelmäßig am ersten Freitag im Monat von 19:00 bis 21:15 in Präsenz statt. \nDie Selbsthilfegruppe trifft sich im Mehrgenerationenhaus\, Julius-Reiber-Str 22\, 64293 Darmstadt. \nThema: Hilfreiche Denkmuster\n \nMit Übungen kann man Denkmuster bewusst ändern. Die Vergangenheit kann natürlich nicht geändert werden – doch die Bedeutung\, die wir ihr geben\, kann selbst gesteuert werden. Für eine angenehmere Zukunft! \n  \nMit unseren Selbsthilfegruppen tragen wir zur emotionalen Entlastung und gegenseitige Unterstützung bei. Die Teilnehmenden geben sich gegenseitige wertschätzende Lebenshilfe. Durch die Teilnahme wird das Selbstbewusstsein und das Selbstwertgefühl gestärkt. Frühwarnzeichen können rechtzeitig erkannt werden\, das soziale Netz wird durch den Austausch mit den Teilnehmenden gestärkt. Die Selbsthilfegruppen tragen dazu bei\, ein individuelles Krisennetzwerk und einen entsprechenden Krisenplan aufzubauen. Übungen tragen zur erfolgreichen Erweiterung der Strategien im Umgang mit der Erkrankung bei. \nAnmeldung\nDu kannst immer ohne Anmeldung kommen. Für die Organisation des Treffens wäre eine Anmeldung hilfreich. \nDie Selbsthilfegruppe „Anderes Burnout Café Darmstadt“ ermuntert die Teilnehmenden\, neue Sichtweisen zu einem bestimmten Thema auszuprobieren\, sich über Fremd- und Eigenwirkung der Übungen auszutauschen\, neue Handlungsmöglichkeiten zu erforschen und die eigene Lebenssituation neu zu bewerten. Darüber hinaus haben die Teilnehmenden die Möglichkeit\, mit anderen in einen persönlichen Erfahrungsaustausch zu kommen.  \nDie Veranstaltung wird durchgeführt von der Selbsthilfegruppe  ABC Darmstadt mit Unterstützung des Bundesverband Burnout und Depression e.V. \nWeitere Veranstaltungen sind hier zu finden. \nInformationen zum Krankheitsbild sind hier auf den Seiten des Bundesverbandes zu finden. \nModerator\nMarcus Ackermann | 06151 365 06 02 | Darmstadt (at) anderes-burnout-cafe.de
URL:https://anderes-burnout-cafe.de/veranstaltungen/selbsthilfe-abc-darmstadt-hilfreiche-denkmuster
LOCATION:ABC Darmstadt\, Julius-Reiber-Str.22\, Darmstadt\, 64293\, Deutschland
CATEGORIES:Darmstadt,Präsenz
ORGANIZER;CN="Marcus Ackermann":MAILTO:darmstadt{at}anderes-burnout-cafe.de
END:VEVENT
END:VCALENDAR