BEGIN:VCALENDAR
VERSION:2.0
PRODID:-//anderes-burnout-cafe - ECPv6.15.11//NONSGML v1.0//EN
CALSCALE:GREGORIAN
METHOD:PUBLISH
X-ORIGINAL-URL:https://anderes-burnout-cafe.de
X-WR-CALDESC:Veranstaltungen für anderes-burnout-cafe
REFRESH-INTERVAL;VALUE=DURATION:PT1H
X-Robots-Tag:noindex
X-PUBLISHED-TTL:PT1H
BEGIN:VTIMEZONE
TZID:Europe/Paris
BEGIN:DAYLIGHT
TZOFFSETFROM:+0100
TZOFFSETTO:+0200
TZNAME:CEST
DTSTART:20240331T010000
END:DAYLIGHT
BEGIN:STANDARD
TZOFFSETFROM:+0200
TZOFFSETTO:+0100
TZNAME:CET
DTSTART:20241027T010000
END:STANDARD
BEGIN:DAYLIGHT
TZOFFSETFROM:+0100
TZOFFSETTO:+0200
TZNAME:CEST
DTSTART:20250330T010000
END:DAYLIGHT
BEGIN:STANDARD
TZOFFSETFROM:+0200
TZOFFSETTO:+0100
TZNAME:CET
DTSTART:20251026T010000
END:STANDARD
BEGIN:DAYLIGHT
TZOFFSETFROM:+0100
TZOFFSETTO:+0200
TZNAME:CEST
DTSTART:20260329T010000
END:DAYLIGHT
BEGIN:STANDARD
TZOFFSETFROM:+0200
TZOFFSETTO:+0100
TZNAME:CET
DTSTART:20261025T010000
END:STANDARD
BEGIN:DAYLIGHT
TZOFFSETFROM:+0100
TZOFFSETTO:+0200
TZNAME:CEST
DTSTART:20270328T010000
END:DAYLIGHT
BEGIN:STANDARD
TZOFFSETFROM:+0200
TZOFFSETTO:+0100
TZNAME:CET
DTSTART:20271031T010000
END:STANDARD
END:VTIMEZONE
BEGIN:VEVENT
DTSTART;TZID=Europe/Paris:20260414T190000
DTEND;TZID=Europe/Paris:20260414T210000
DTSTAMP:20260419T143953
CREATED:20260413T203949Z
LAST-MODIFIED:20260413T203949Z
UID:10001016-1776193200-1776200400@anderes-burnout-cafe.de
SUMMARY:Selbsthilfegruppe ABC Darmstadt/Dieburg - Innerer Kritiker
DESCRIPTION:Die Selbsthilfegruppe ABC Darmstadt/Dieburg trifft sich in der Regel am zweiten Dienstag im Monat von 19:00 bis 21:00 im Paul-Gerhard-Haus\, Nordhäuser Str. 32\, 64380 Roßdorf-Gundernhausen.\n\nDu bist herzlich willkommen!  Gemeinsam schaffen wir einen Raum für mehr Gelassenheit\, innere Balance und Wohlbefinden.  \nThema: Innerer Kritiker\nDen inneren Kritiker verstehen: Jeder kennt den hartnäckigen\, kleinen Kritiker im Kopf. Immer wieder schafft er es\, Pläne und neue Vorhaben zu boykottieren. Er glaubt genau zu wissen\, was aussichtslos ist und liefert ungefragt gute Argumente gegen mögliche Veränderungen. In dieser Veranstaltung setzen wir uns mit dieser kritischen Stimme auseinander und entdecken möglicherweise\, dass sie wirklich Wichtiges zu sagen hat. Wer gut hinhört\, kann in dem Kritiker einen guten Freund und Berater finden. Mit hilfreichen Fragen und Übungen unterstützt der Moderator die Teilnehmer dabei\, die Stimme richtig zu deuten und in Zukunft\, Pläne zuversichtlich angehen und verwirklichen zu können. \n\n\n\n\n\nMit unseren Selbsthilfegruppen tragen wir zur emotionalen Entlastung und gegenseitige Unterstützung bei. Die Teilnehmenden geben sich gegenseitige wertschätzende Lebenshilfe. Durch die Teilnahme wird das Selbstbewusstsein und das Selbstwertgefühl gestärkt. Frühwarnzeichen können rechtzeitig erkannt werden\, das soziale Netz wird durch den Austausch mit den Teilnehmenden gestärkt. Die Selbsthilfegruppen tragen dazu bei\, ein individuelles Krisennetzwerk und einen entsprechenden Krisenplan aufzubauen. Übungen tragen zur erfolgreichen Erweiterung der Strategien im Umgang mit der Erkrankung bei. \n  \nAnmeldung\nDu kannst immer ohne Anmeldung kommen. Für die Organisation des Treffens wäre eine Anmeldung hilfreich. \nDie monatliche Selbsthilfegruppe Anderes Burnout-Café ermuntert die Teilnehmenden\, neue Sichtweisen zu einem bestimmten Thema auszuprobieren\, sich über Fremd- und Eigenwirkung der Übungen auszutauschen\, neue Handlungsmöglichkeiten zu erforschen und die eigene Lebenssituation neu zu bewerten. Darüber hinaus haben die Teilnehmenden die Möglichkeit\, mit anderen in einen persönlichen Erfahrungsaustausch zu kommen.  \nDie Veranstaltung wird durchgeführt von der Selbsthilfegruppe  ABC Darmstadt/Dieburg mit Unterstützung des Bundesverband Burnout und Depression e.V..  \nWeitere Veranstaltungen sind hier zu finden. \nInformationen zum Krankheitsbild sind hier auf den Seiten des Bundesverbandes zu finden. \nModerator:innen\nFrank & Natascha
URL:https://anderes-burnout-cafe.de/veranstaltungen/selbsthilfegruppe-abc-darmstadt-dieburg-innerer-kritiker
LOCATION:ABC Darmstadt/Dieburg\, Nordhäuser Str. 32\, Roßdorf-Gundernhausen\, 64380
CATEGORIES:Darmstadt/Dieburg,Präsenz
ORGANIZER;CN="ABC Darmstadt/Dieburg":MAILTO:darmstadt-dieburg@anderes-burnout-cafe.de
END:VEVENT
BEGIN:VEVENT
DTSTART;TZID=Europe/Paris:20260310T190000
DTEND;TZID=Europe/Paris:20260310T210000
DTSTAMP:20260419T143953
CREATED:20260204T204903Z
LAST-MODIFIED:20260204T204903Z
UID:10000902-1773169200-1773176400@anderes-burnout-cafe.de
SUMMARY:Selbsthilfegruppe ABC Darmstadt/Dieburg - Angst/ Versagensangst
DESCRIPTION:Die Selbsthilfegruppe ABC Darmstadt/Dieburg trifft sich in der Regel am zweiten Dienstag im Monat von 19:00 bis 21:00 im Paul-Gerhard-Haus\, Nordhäuser Str. 32\, 64380 Roßdorf-Gundernhausen.\n\nDu bist herzlich willkommen!  Gemeinsam schaffen wir einen Raum für mehr Gelassenheit\, innere Balance und Wohlbefinden.  \nThema: Angst/ Versagensangst\n \n\n\nUnser Leben stellt uns immer wieder vor neue Herausforderungen\, z.B. den Wiedereinstieg ins das Berufsleben nach einer längeren Phase der Krankheit. Dabei kann uns manchmal ein unsicheres Gefühl und die Sorge\, scheitern zu können\, begleiten. Die Rede ist von Versagensangst.\nDen Teufelskreis von Angst und Erschöpfung unterbrechen: Versagensängste können zu chronischem Stress führen\, der wiederum die Symptome von Burnout verstärken kann. Wenn jemand ständig Angst hat zu versagen\, arbeitet er oder sie möglicherweise noch härter\, um Fehler zu vermeiden. Diese Überarbeitung kann zu Erschöpfung führen\, was die Produktivität und Effizienz weiter verringert und die Angst vor dem Versagen verstärkt.\nWie immer tauschen wir uns gegenseitig aus und entwickeln dann gemeinsam Strategien aus dem Kreis auszubrechen.\n\n\n\nMit unseren Selbsthilfegruppen tragen wir zur emotionalen Entlastung und gegenseitige Unterstützung bei. Die Teilnehmenden geben sich gegenseitige wertschätzende Lebenshilfe. Durch die Teilnahme wird das Selbstbewusstsein und das Selbstwertgefühl gestärkt. Frühwarnzeichen können rechtzeitig erkannt werden\, das soziale Netz wird durch den Austausch mit den Teilnehmenden gestärkt. Die Selbsthilfegruppen tragen dazu bei\, ein individuelles Krisennetzwerk und einen entsprechenden Krisenplan aufzubauen. Übungen tragen zur erfolgreichen Erweiterung der Strategien im Umgang mit der Erkrankung bei. \n  \nAnmeldung\nDu kannst immer ohne Anmeldung kommen. Für die Organisation des Treffens wäre eine Anmeldung hilfreich. \nDie monatliche Selbsthilfegruppe Anderes Burnout-Café ermuntert die Teilnehmenden\, neue Sichtweisen zu einem bestimmten Thema auszuprobieren\, sich über Fremd- und Eigenwirkung der Übungen auszutauschen\, neue Handlungsmöglichkeiten zu erforschen und die eigene Lebenssituation neu zu bewerten. Darüber hinaus haben die Teilnehmenden die Möglichkeit\, mit anderen in einen persönlichen Erfahrungsaustausch zu kommen.  \nDie Veranstaltung wird durchgeführt von der Selbsthilfegruppe  ABC Darmstadt/Dieburg mit Unterstützung des Bundesverband Burnout und Depression e.V..  \nWeitere Veranstaltungen sind hier zu finden. \nInformationen zum Krankheitsbild sind hier auf den Seiten des Bundesverbandes zu finden. \nModerator:innen\nFrank & Natascha
URL:https://anderes-burnout-cafe.de/veranstaltungen/selbsthilfegruppe-abc-darmstadt-dieburg-angst-versagensangst
LOCATION:ABC Darmstadt/Dieburg\, Nordhäuser Str. 32\, Roßdorf-Gundernhausen\, 64380
CATEGORIES:Darmstadt/Dieburg,Präsenz
ORGANIZER;CN="ABC Darmstadt/Dieburg":MAILTO:darmstadt-dieburg@anderes-burnout-cafe.de
END:VEVENT
BEGIN:VEVENT
DTSTART;TZID=Europe/Paris:20260210T190000
DTEND;TZID=Europe/Paris:20260210T210000
DTSTAMP:20260419T143953
CREATED:20260121T151430Z
LAST-MODIFIED:20260121T151430Z
UID:10000828-1770750000-1770757200@anderes-burnout-cafe.de
SUMMARY:Selbsthilfegruppe ABC Darmstadt/Dieburg - Rückschlage planen
DESCRIPTION:Die Selbsthilfegruppe ABC Darmstadt/Dieburg trifft sich in der Regel am zweiten Dienstag im Monat von 19:00 bis 21:00 im Paul-Gerhard-Haus\, Nordhäuser Str. 32\, 64380 Roßdorf-Gundernhausen.\n\nDu bist herzlich willkommen!  Gemeinsam schaffen wir einen Raum für mehr Gelassenheit\, innere Balance und Wohlbefinden.  \nThema: Rückschläge planen – Schutzimpfung vor Flops\n \n\n\nIm Leben läuft nicht immer alles nach Plan. Man kann sich noch so gut vorbereiten\, es kann einfach passieren\, dass man wieder in ein altes Muster fällt und einen Fehlschlag erlebt. Gerade wenn wir Stress haben und erschöpft sind\, klappen die vorgenommen Veränderungen nicht immer sofort\, oder man fühlt sich sogar drei Schritte zurückversetzt. Die normale Reaktion ist dann häufig wieder eine selbstschädigende Abwertung: „ich hab’s ja gleich gewusst\, dass ich das nicht kann“\, „ich brauche so was gar nicht mehr versuchen“ „ich bin zu blöd dazu“.\nAn diesem Abend lernen und üben wir\, aus Misserfolgen und vermeintlichen Rückschlägen eine Ressource zu entwickeln\, die das Selbstbewusstsein stärkt. Wir werden uns an alte Flops erinnern und was wir daraus gelernt haben. Wenn wir uns daran erinnern\, wie wir früher Krisen gemeistert haben\, können wir uns für die Zukunft besser vorbereiten.\nDann gilt: ich muss nicht perfekt sein\, ich darf Fehler machen – denn aus Fehlern kann ich lernen und Erfahrungen sammeln.\n\n\n\nMit unseren Selbsthilfegruppen tragen wir zur emotionalen Entlastung und gegenseitige Unterstützung bei. Die Teilnehmenden geben sich gegenseitige wertschätzende Lebenshilfe. Durch die Teilnahme wird das Selbstbewusstsein und das Selbstwertgefühl gestärkt. Frühwarnzeichen können rechtzeitig erkannt werden\, das soziale Netz wird durch den Austausch mit den Teilnehmenden gestärkt. Die Selbsthilfegruppen tragen dazu bei\, ein individuelles Krisennetzwerk und einen entsprechenden Krisenplan aufzubauen. Übungen tragen zur erfolgreichen Erweiterung der Strategien im Umgang mit der Erkrankung bei. \n  \nAnmeldung\nDu kannst immer ohne Anmeldung kommen. Für die Organisation des Treffens wäre eine Anmeldung hilfreich. \nDie monatliche Selbsthilfegruppe Anderes Burnout-Café ermuntert die Teilnehmenden\, neue Sichtweisen zu einem bestimmten Thema auszuprobieren\, sich über Fremd- und Eigenwirkung der Übungen auszutauschen\, neue Handlungsmöglichkeiten zu erforschen und die eigene Lebenssituation neu zu bewerten. Darüber hinaus haben die Teilnehmenden die Möglichkeit\, mit anderen in einen persönlichen Erfahrungsaustausch zu kommen.  \nDie Veranstaltung wird durchgeführt von der Selbsthilfegruppe  ABC Darmstadt/Dieburg mit Unterstützung des Bundesverband Burnout und Depression e.V..  \nWeitere Veranstaltungen sind hier zu finden. \nInformationen zum Krankheitsbild sind hier auf den Seiten des Bundesverbandes zu finden. \nModerator:innen\nFrank & Natascha
URL:https://anderes-burnout-cafe.de/veranstaltungen/selbsthilfegruppe-abc-darmstadt-dieburg-rueckschlage-planen
LOCATION:ABC Darmstadt/Dieburg\, Nordhäuser Str. 32\, Roßdorf-Gundernhausen\, 64380
CATEGORIES:Darmstadt/Dieburg,Präsenz
ORGANIZER;CN="ABC Darmstadt/Dieburg":MAILTO:darmstadt-dieburg@anderes-burnout-cafe.de
END:VEVENT
BEGIN:VEVENT
DTSTART;TZID=Europe/Paris:20260113T190000
DTEND;TZID=Europe/Paris:20260113T210000
DTSTAMP:20260419T143953
CREATED:20260103T220831Z
LAST-MODIFIED:20260103T220831Z
UID:10000803-1768330800-1768338000@anderes-burnout-cafe.de
SUMMARY:Selbsthilfegruppe ABC Darmstadt/Dieburg - Selbstmotivation
DESCRIPTION:Die Selbsthilfegruppe ABC Darmstadt/Dieburg trifft sich in der Regel am zweiten Dienstag im Monat von 19:00 bis 21:00 im Paul-Gerhard-Haus\, Nordhäuser Str. 32\, 64380 Roßdorf-Gundernhausen.\n\nDu bist herzlich willkommen!  Gemeinsam schaffen wir einen Raum für mehr Gelassenheit\, innere Balance und Wohlbefinden.  \nThema: Selbstmotivation\n \n\nWarum fällt es uns oftmals schwer\, vermeintlich wichtige Dinge zu erledigen? Warum haben manche Menschen augenscheinlich immer Erfolg und andere nicht? Was steckt dahinter\, wenn die Selbst-Motivation fehlt? In heutigen Burnout-Café kümmern wir uns um die Faktoren\, die für fehlende Selbstmotivation sorgen und wir werden klären\, was es braucht\, um sich selbst zu motivieren…\n\n  \nMit unseren Selbsthilfegruppen tragen wir zur emotionalen Entlastung und gegenseitige Unterstützung bei. Die Teilnehmenden geben sich gegenseitige wertschätzende Lebenshilfe. Durch die Teilnahme wird das Selbstbewusstsein und das Selbstwertgefühl gestärkt. Frühwarnzeichen können rechtzeitig erkannt werden\, das soziale Netz wird durch den Austausch mit den Teilnehmenden gestärkt. Die Selbsthilfegruppen tragen dazu bei\, ein individuelles Krisennetzwerk und einen entsprechenden Krisenplan aufzubauen. Übungen tragen zur erfolgreichen Erweiterung der Strategien im Umgang mit der Erkrankung bei. \n  \nAnmeldung\nDu kannst immer ohne Anmeldung kommen. Für die Organisation des Treffens wäre eine Anmeldung hilfreich. \nDie monatliche Selbsthilfegruppe Anderes Burnout-Café ermuntert die Teilnehmenden\, neue Sichtweisen zu einem bestimmten Thema auszuprobieren\, sich über Fremd- und Eigenwirkung der Übungen auszutauschen\, neue Handlungsmöglichkeiten zu erforschen und die eigene Lebenssituation neu zu bewerten. Darüber hinaus haben die Teilnehmenden die Möglichkeit\, mit anderen in einen persönlichen Erfahrungsaustausch zu kommen.  \nDie Veranstaltung wird durchgeführt von der Selbsthilfegruppe  ABC Darmstadt/Dieburg mit Unterstützung des Bundesverband Burnout und Depression e.V..  \nWeitere Veranstaltungen sind hier zu finden. \nInformationen zum Krankheitsbild sind hier auf den Seiten des Bundesverbandes zu finden. \nModerator\nFrank
URL:https://anderes-burnout-cafe.de/veranstaltungen/selbsthilfegruppe-abc-darmstadt-dieburg-selbstmotivation
LOCATION:ABC Darmstadt/Dieburg\, Nordhäuser Str. 32\, Roßdorf-Gundernhausen\, 64380
CATEGORIES:Darmstadt/Dieburg,Präsenz
ORGANIZER;CN="ABC Darmstadt/Dieburg":MAILTO:darmstadt-dieburg@anderes-burnout-cafe.de
END:VEVENT
BEGIN:VEVENT
DTSTART;TZID=Europe/Paris:20251209T190000
DTEND;TZID=Europe/Paris:20251209T210000
DTSTAMP:20260419T143953
CREATED:20250923T084630Z
LAST-MODIFIED:20250923T084630Z
UID:10000697-1765306800-1765314000@anderes-burnout-cafe.de
SUMMARY:Selbsthilfegruppe ABC Darmstadt/Dieburg - Selbstfürsorge
DESCRIPTION:Die Selbsthilfegruppe ABC Darmstadt/Dieburg trifft sich in der Regel am zweiten Dienstag im Monat von 19:00 bis 21:00 im Paul-Gerhard-Haus\, Nordhäuser Str. 32\, 64380 Roßdorf-Gundernhausen.\n\nDu bist herzlich willkommen!  Gemeinsam schaffen wir einen Raum für mehr Gelassenheit\, innere Balance und Wohlbefinden.  \nThema: Selbstfürsorge\n \n\n\n\nMehr Selbstfürsorge trotz zunehmendem Egoismus in der Welt?\nGehe ich mit mir ebenso gut um\, wie mit anderen? Wie kann ich lernen\, für mich zu entscheiden\, Verantwortung zu übernehmen und mein Wohlergehen zu steigern? Und wie gelingt es\, mit mehr Selbstfürsorge auch im Alltag zu leben? Antworten auf diese und andere Fragen finden Interessierte und Betroffene im Rahmen des Burnout-Cafés.\n\n\n\n\nMit unseren Selbsthilfegruppen tragen wir zur emotionalen Entlastung und gegenseitige Unterstützung bei. Die Teilnehmenden geben sich gegenseitige wertschätzende Lebenshilfe. Durch die Teilnahme wird das Selbstbewusstsein und das Selbstwertgefühl gestärkt. Frühwarnzeichen können rechtzeitig erkannt werden\, das soziale Netz wird durch den Austausch mit den Teilnehmenden gestärkt. Die Selbsthilfegruppen tragen dazu bei\, ein individuelles Krisennetzwerk und einen entsprechenden Krisenplan aufzubauen. Übungen tragen zur erfolgreichen Erweiterung der Strategien im Umgang mit der Erkrankung bei. \nAnmeldung\nDu kannst immer ohne Anmeldung kommen. Für die Organisation des Treffens wäre eine Anmeldung hilfreich. \nDie monatliche Selbsthilfegruppe Anderes Burnout-Café ermuntert die Teilnehmenden\, neue Sichtweisen zu einem bestimmten Thema auszuprobieren\, sich über Fremd- und Eigenwirkung der Übungen auszutauschen\, neue Handlungsmöglichkeiten zu erforschen und die eigene Lebenssituation neu zu bewerten. Darüber hinaus haben die Teilnehmenden die Möglichkeit\, mit anderen in einen persönlichen Erfahrungsaustausch zu kommen.  \nDie Veranstaltung wird durchgeführt von der Selbsthilfegruppe  ABC Darmstadt/Dieburg mit Unterstützung des Bundesverband Burnout und Depression e.V..  \nWeitere Veranstaltungen sind hier zu finden. \nInformationen zum Krankheitsbild sind hier auf den Seiten des Bundesverbandes zu finden. \nModerator\nFrank
URL:https://anderes-burnout-cafe.de/veranstaltungen/selbsthilfegruppe-abc-darmstadt-dieburg-selbstfuersorge
LOCATION:ABC Darmstadt/Dieburg\, Nordhäuser Str. 32\, Roßdorf-Gundernhausen\, 64380
CATEGORIES:Darmstadt/Dieburg,Präsenz
ORGANIZER;CN="ABC Darmstadt/Dieburg":MAILTO:darmstadt-dieburg@anderes-burnout-cafe.de
END:VEVENT
BEGIN:VEVENT
DTSTART;TZID=Europe/Paris:20251111T190000
DTEND;TZID=Europe/Paris:20251111T210000
DTSTAMP:20260419T143953
CREATED:20250923T084142Z
LAST-MODIFIED:20250923T084142Z
UID:10000696-1762887600-1762894800@anderes-burnout-cafe.de
SUMMARY:Selbsthilfegruppe ABC Darmstadt/Dieburg - Grenzen setzen
DESCRIPTION:Die Selbsthilfegruppe ABC Darmstadt/Dieburg trifft sich in der Regel am zweiten Dienstag im Monat von 19:00 bis 21:00 im Paul-Gerhard-Haus\, Nordhäuser Str. 32\, 64380 Roßdorf-Gundernhausen.\n\nDu bist herzlich willkommen!  Gemeinsam schaffen wir einen Raum für mehr Gelassenheit\, innere Balance und Wohlbefinden.  \nThema: Grenzen setzen\n \n\n\nFür einen gesunden Selbstwert ist die Fähigkeit\, Grenzen zu setzen\, sehr hilfreich. Doch viele Menschen haben keine innere Erlaubnis auch mal “Stop” oder “Nein” zu sagen. Sie nehmen immer alles auf sich\, ziehen jeden dargebotenen Schuh an und lassen sehr viel über sich ergehen. Sie fühlen sich schuldig\, wenn sie ein “Nein” sagen\, oder im Übermaß verpflichtet. Das führt auf Dauer oft zur Erschöpfung!\nDoch das heißt im Umkehrschluss nicht\, dass man immer nein sagen muss. Und manchmal ist es auch hilfreich\, die Grenze wieder etwas aufzulösen….\nWie ein gutes Gleichgewicht zwischen “Ja heißt Ja” und “Nein heißt Nein” hergestellt werden kann\, warum es uns so schwerfällt dieses “NEIN” und wie wir besser damit umgehen können\, erörtern wir an diesem Abend im ABC.\n\n\n\nMit unseren Selbsthilfegruppen tragen wir zur emotionalen Entlastung und gegenseitige Unterstützung bei. Die Teilnehmenden geben sich gegenseitige wertschätzende Lebenshilfe. Durch die Teilnahme wird das Selbstbewusstsein und das Selbstwertgefühl gestärkt. Frühwarnzeichen können rechtzeitig erkannt werden\, das soziale Netz wird durch den Austausch mit den Teilnehmenden gestärkt. Die Selbsthilfegruppen tragen dazu bei\, ein individuelles Krisennetzwerk und einen entsprechenden Krisenplan aufzubauen. Übungen tragen zur erfolgreichen Erweiterung der Strategien im Umgang mit der Erkrankung bei. \nAnmeldung\nDu kannst immer ohne Anmeldung kommen. Für die Organisation des Treffens wäre eine Anmeldung hilfreich. \nDie monatliche Selbsthilfegruppe Anderes Burnout-Café ermuntert die Teilnehmenden\, neue Sichtweisen zu einem bestimmten Thema auszuprobieren\, sich über Fremd- und Eigenwirkung der Übungen auszutauschen\, neue Handlungsmöglichkeiten zu erforschen und die eigene Lebenssituation neu zu bewerten. Darüber hinaus haben die Teilnehmenden die Möglichkeit\, mit anderen in einen persönlichen Erfahrungsaustausch zu kommen.  \nDie Veranstaltung wird durchgeführt von der Selbsthilfegruppe  ABC Darmstadt/Dieburg mit Unterstützung des Bundesverband Burnout und Depression e.V..  \nWeitere Veranstaltungen sind hier zu finden. \nInformationen zum Krankheitsbild sind hier auf den Seiten des Bundesverbandes zu finden. \nModerator\nFrank
URL:https://anderes-burnout-cafe.de/veranstaltungen/selbsthilfegruppe-abc-darmstadt-dieburg-grenzen-setzen
LOCATION:ABC Darmstadt/Dieburg\, Nordhäuser Str. 32\, Roßdorf-Gundernhausen\, 64380
CATEGORIES:Darmstadt/Dieburg,Präsenz
ORGANIZER;CN="ABC Darmstadt/Dieburg":MAILTO:darmstadt-dieburg@anderes-burnout-cafe.de
END:VEVENT
BEGIN:VEVENT
DTSTART;TZID=Europe/Paris:20251014T190000
DTEND;TZID=Europe/Paris:20251014T210000
DTSTAMP:20260419T143953
CREATED:20250922T171139Z
LAST-MODIFIED:20250922T171139Z
UID:10000676-1760468400-1760475600@anderes-burnout-cafe.de
SUMMARY:Selbsthilfegruppe ABC Darmstadt/Dieburg - Filter\, Brillen und Bewertungen
DESCRIPTION:Die Selbsthilfegruppe ABC Darmstadt/Dieburg trifft sich in der Regel am zweiten Dienstag im Monat von 19:00 bis 21:00 im Paul-Gerhard-Haus\, Nordhäuser Str. 32\, 64380 Roßdorf-Gundernhausen.\n\nDu bist herzlich willkommen!  Gemeinsam schaffen wir einen Raum für mehr Gelassenheit\, innere Balance und Wohlbefinden.  \nThema: Filter\, Brillen und Bewertung: Vergangenes neu deuten können.\n \n\n\nDer Mensch hat die Gabe\, Situationen aus früherer Zeit mit dem Anspruch der jetzigen Erfahrung zu bewerten. Wenn wir also als Kind eine unliebsame Situation erlebt haben\, dann wachsen wir mit der Bewertung dieser Erfahrung heran. Dabei verändert sich die Bewertung von Alter zu Alter – und wird häufig dramatischer. Wichtige\, oft gute Teile der Erinnerung verblassen\, die eigentlichen Ressourcen und Fähigkeiten verschwimmen. Wird diese Erinnerung weiter so hingenommen\, kann das hinderliche Auswirkungen haben. Wir fühlen uns als Erwachsener in Situationen hilflos oder handlungsunfähig\, weil wir sie mit der Situation aus der Kindheit verwechseln – und uns dann unbewusst wieder wie ein Kind verhalten (z.B. bei Prüfungsangst oder in konflikthaften Situationen).\nDas kann man mit Übungen bewusst ändern. Die Vergangenheit kann natürlich nicht geändert werden – doch die Bedeutung\, die wir ihr geben\, kann selbst gesteuert werden. Für eine angenehmere Zukunft!\n\n\n\nMit unseren Selbsthilfegruppen tragen wir zur emotionalen Entlastung und gegenseitige Unterstützung bei. Die Teilnehmenden geben sich gegenseitige wertschätzende Lebenshilfe. Durch die Teilnahme wird das Selbstbewusstsein und das Selbstwertgefühl gestärkt. Frühwarnzeichen können rechtzeitig erkannt werden\, das soziale Netz wird durch den Austausch mit den Teilnehmenden gestärkt. Die Selbsthilfegruppen tragen dazu bei\, ein individuelles Krisennetzwerk und einen entsprechenden Krisenplan aufzubauen. Übungen tragen zur erfolgreichen Erweiterung der Strategien im Umgang mit der Erkrankung bei. \nAnmeldung\nDu kannst immer ohne Anmeldung kommen. Für die Organisation des Treffens wäre eine Anmeldung hilfreich. \nDie monatliche Selbsthilfegruppe Anderes Burnout-Café ermuntert die Teilnehmenden\, neue Sichtweisen zu einem bestimmten Thema auszuprobieren\, sich über Fremd- und Eigenwirkung der Übungen auszutauschen\, neue Handlungsmöglichkeiten zu erforschen und die eigene Lebenssituation neu zu bewerten. Darüber hinaus haben die Teilnehmenden die Möglichkeit\, mit anderen in einen persönlichen Erfahrungsaustausch zu kommen.  \nDie Veranstaltung wird durchgeführt von der Selbsthilfegruppe  ABC Darmstadt/Dieburg mit Unterstützung des Bundesverband Burnout und Depression e.V..  \nWeitere Veranstaltungen sind hier zu finden. \nInformationen zum Krankheitsbild sind hier auf den Seiten des Bundesverbandes zu finden. \nModerator\nFrank
URL:https://anderes-burnout-cafe.de/veranstaltungen/selbsthilfegruppe-abc-darmstadt-dieburg-filter-brillen-und-bewertungen
LOCATION:ABC Darmstadt/Dieburg\, Nordhäuser Str. 32\, Roßdorf-Gundernhausen\, 64380
CATEGORIES:Darmstadt/Dieburg,Präsenz
ORGANIZER;CN="ABC Darmstadt/Dieburg":MAILTO:darmstadt-dieburg@anderes-burnout-cafe.de
END:VEVENT
BEGIN:VEVENT
DTSTART;TZID=Europe/Paris:20250916T190000
DTEND;TZID=Europe/Paris:20250916T210000
DTSTAMP:20260419T143953
CREATED:20250909T074942Z
LAST-MODIFIED:20250909T074942Z
UID:10000654-1758049200-1758056400@anderes-burnout-cafe.de
SUMMARY:Selbsthilfegruppe ABC Darmstadt/Dieburg - Prokrastination überwinden
DESCRIPTION:Die Selbsthilfegruppe ABC Darmstadt/Dieburg trifft sich in der Regel am zweiten Dienstag im Monat von 19:00 bis 21:00 im Paul-Gerhard-Haus\, Nordhäuser Str. 32\, 64380 Roßdorf-Gundernhausen.\n\nDu bist herzlich willkommen!  Gemeinsam schaffen wir einen Raum für mehr Gelassenheit\, innere Balance und Wohlbefinden.  \nThema: Prokrastination überwinden\n \n\nManchmal werden Dinge nicht angefangen bzw. nicht erledigt. Stattdessen werden andere Dinge flugs erledigt. 98% der Menschen\, die an einer Studie der Uni Münster teilgenommen haben\, bestätigen das\, manche leiden darunter. Warum ist das so? Was steckt dahinter? Mangelnde Selbstmotivation? Fehlendes Organisationstalent? Im nächsten Burnout-Café widmen wir uns diesen Fragen. Übungen werden einen besseren Umgang mit der Prokrastination ermöglichen.\n\n\n\n\nMit unseren Selbsthilfegruppen tragen wir zur emotionalen Entlastung und gegenseitige Unterstützung bei. Die Teilnehmenden geben sich gegenseitige wertschätzende Lebenshilfe. Durch die Teilnahme wird das Selbstbewusstsein und das Selbstwertgefühl gestärkt. Frühwarnzeichen können rechtzeitig erkannt werden\, das soziale Netz wird durch den Austausch mit den Teilnehmenden gestärkt. Die Selbsthilfegruppen tragen dazu bei\, ein individuelles Krisennetzwerk und einen entsprechenden Krisenplan aufzubauen. Übungen tragen zur erfolgreichen Erweiterung der Strategien im Umgang mit der Erkrankung bei. \nAnmeldung\nDu kannst immer ohne Anmeldung kommen. Für die Organisation des Treffens wäre eine Anmeldung hilfreich. \nDie monatliche Selbsthilfegruppe Anderes Burnout-Café ermuntert die Teilnehmenden\, neue Sichtweisen zu einem bestimmten Thema auszuprobieren\, sich über Fremd- und Eigenwirkung der Übungen auszutauschen\, neue Handlungsmöglichkeiten zu erforschen und die eigene Lebenssituation neu zu bewerten. Darüber hinaus haben die Teilnehmenden die Möglichkeit\, mit anderen in einen persönlichen Erfahrungsaustausch zu kommen.  \nDie Veranstaltung wird durchgeführt von der Selbsthilfegruppe  ABC Darmstadt/Dieburg mit Unterstützung des Bundesverband Burnout und Depression e.V..  \nWeitere Veranstaltungen sind hier zu finden. \nInformationen zum Krankheitsbild sind hier auf den Seiten des Bundesverbandes zu finden. \nModerator\nFrank
URL:https://anderes-burnout-cafe.de/veranstaltungen/selbsthilfegruppe-abc-darmstadt-dieburg-prokrastination-ueberwinden
LOCATION:ABC Darmstadt/Dieburg\, Nordhäuser Str. 32\, Roßdorf-Gundernhausen\, 64380
CATEGORIES:Darmstadt/Dieburg,Präsenz
ORGANIZER;CN="ABC Darmstadt/Dieburg":MAILTO:darmstadt-dieburg@anderes-burnout-cafe.de
END:VEVENT
BEGIN:VEVENT
DTSTART;TZID=Europe/Paris:20250812T190000
DTEND;TZID=Europe/Paris:20250812T210000
DTSTAMP:20260419T143953
CREATED:20250603T105824Z
LAST-MODIFIED:20250722T122833Z
UID:10000636-1755025200-1755032400@anderes-burnout-cafe.de
SUMMARY:NEU! Selbsthilfegruppe ABC Darmstadt/Dieburg - Prokrastination überwinden
DESCRIPTION:Die Selbsthilfegruppe ABC Darmstadt/Dieburg trifft sich in der Regel am zweiten Dienstag im Monat von 19:00 bis 21:00 im Paul-Gerhard-Haus\, Nordhäuser Str. 32\, 64380 Roßdorf-Gundernhausen.\nDas erste Treffen findet am 12. August 2025 statt.\nDu bist herzlich willkommen!  Gemeinsam schaffen wir einen Raum für mehr Gelassenheit\, innere Balance und Wohlbefinden.  \nThema: Prokrastination überwinden\n \n\nManchmal werden Dinge nicht angefangen bzw. nicht erledigt. Stattdessen werden andere Dinge flugs erledigt. 98% der Menschen\, die an einer Studie der Uni Münster teilgenommen haben\, bestätigen das\, manche leiden darunter. Warum ist das so? Was steckt dahinter? Mangelnde Selbstmotivation? Fehlendes Organisationstalent? Im nächsten Burnout-Café widmen wir uns diesen Fragen. Übungen werden einen besseren Umgang mit der Prokrastination ermöglichen.\n\n\n\n\nMit unseren Selbsthilfegruppen tragen wir zur emotionalen Entlastung und gegenseitige Unterstützung bei. Die Teilnehmenden geben sich gegenseitige wertschätzende Lebenshilfe. Durch die Teilnahme wird das Selbstbewusstsein und das Selbstwertgefühl gestärkt. Frühwarnzeichen können rechtzeitig erkannt werden\, das soziale Netz wird durch den Austausch mit den Teilnehmenden gestärkt. Die Selbsthilfegruppen tragen dazu bei\, ein individuelles Krisennetzwerk und einen entsprechenden Krisenplan aufzubauen. Übungen tragen zur erfolgreichen Erweiterung der Strategien im Umgang mit der Erkrankung bei. \nAnmeldung\nDu kannst immer ohne Anmeldung kommen. Für die Organisation des Treffens wäre eine Anmeldung hilfreich. \nDie monatliche Selbsthilfegruppe Anderes Burnout-Café ermuntert die Teilnehmenden\, neue Sichtweisen zu einem bestimmten Thema auszuprobieren\, sich über Fremd- und Eigenwirkung der Übungen auszutauschen\, neue Handlungsmöglichkeiten zu erforschen und die eigene Lebenssituation neu zu bewerten. Darüber hinaus haben die Teilnehmenden die Möglichkeit\, mit anderen in einen persönlichen Erfahrungsaustausch zu kommen.  \nDie Veranstaltung wird durchgeführt von der Selbsthilfegruppe  ABC Darmstadt/Dieburg mit Unterstützung des Bundesverband Burnout und Depression e.V..  \nWeitere Veranstaltungen sind hier zu finden. \nInformationen zum Krankheitsbild sind hier auf den Seiten des Bundesverbandes zu finden. \nModerator\nFrank
URL:https://anderes-burnout-cafe.de/veranstaltungen/neu-selbsthilfegruppe-abc-darmstadt-dieburg
LOCATION:ABC Darmstadt/Dieburg\, Nordhäuser Str. 32\, Roßdorf-Gundernhausen\, 64380
CATEGORIES:Darmstadt/Dieburg,Präsenz
ORGANIZER;CN="ABC Darmstadt/Dieburg":MAILTO:darmstadt-dieburg@anderes-burnout-cafe.de
END:VEVENT
END:VCALENDAR