BEGIN:VCALENDAR
VERSION:2.0
PRODID:-//anderes-burnout-cafe - ECPv6.15.11//NONSGML v1.0//EN
CALSCALE:GREGORIAN
METHOD:PUBLISH
X-ORIGINAL-URL:https://anderes-burnout-cafe.de
X-WR-CALDESC:Veranstaltungen für anderes-burnout-cafe
REFRESH-INTERVAL;VALUE=DURATION:PT1H
X-Robots-Tag:noindex
X-PUBLISHED-TTL:PT1H
BEGIN:VTIMEZONE
TZID:Europe/Paris
BEGIN:DAYLIGHT
TZOFFSETFROM:+0100
TZOFFSETTO:+0200
TZNAME:CEST
DTSTART:20250330T010000
END:DAYLIGHT
BEGIN:STANDARD
TZOFFSETFROM:+0200
TZOFFSETTO:+0100
TZNAME:CET
DTSTART:20251026T010000
END:STANDARD
BEGIN:DAYLIGHT
TZOFFSETFROM:+0100
TZOFFSETTO:+0200
TZNAME:CEST
DTSTART:20260329T010000
END:DAYLIGHT
BEGIN:STANDARD
TZOFFSETFROM:+0200
TZOFFSETTO:+0100
TZNAME:CET
DTSTART:20261025T010000
END:STANDARD
BEGIN:DAYLIGHT
TZOFFSETFROM:+0100
TZOFFSETTO:+0200
TZNAME:CEST
DTSTART:20270328T010000
END:DAYLIGHT
BEGIN:STANDARD
TZOFFSETFROM:+0200
TZOFFSETTO:+0100
TZNAME:CET
DTSTART:20271031T010000
END:STANDARD
END:VTIMEZONE
BEGIN:VEVENT
DTSTART;TZID=Europe/Paris:20260507T190000
DTEND;TZID=Europe/Paris:20260507T210000
DTSTAMP:20260419T143454
CREATED:20260128T130900Z
LAST-MODIFIED:20260128T130900Z
UID:10000898-1778180400-1778187600@anderes-burnout-cafe.de
SUMMARY:ABC Berlin-Schöneberg - Umgang mit Scham und Schuldgefühlen: Unsichtbare Lasten verstehen und gesünder mit ihnen umgehen.
DESCRIPTION:Die Selbsthilfegruppe ABC Berlin-Schöneberg findet regelmäßig am 1. Donnerstag im Monat in der Zeit von 19:00 bis 21:00 Uhr statt.\nWir treffen uns in Präsenz in der Holsteinische Str. 30 (Raum 28 im Selbsthilfetreffpunkt Schöneberg\, nahe vom UBhf Friedrich-Wilhelm-Platz) in 12161 Berlin. \n \n(Zusatzhinweis: Da der Raum am nächsten Morgen von der Pekip-Gruppe genutzt wird\, kann er nicht mit Schuhen betreten werden. Alternativ können kostenlos zur Verfügung gestellte Überzieher genutzt werden.)\n \nThema: Umgang mit Scham und Schuldgefühlen – Unsichtbare Lasten verstehen und gesünder mit ihnen umgehen.\n \n\nSchuldgefühle können schwer wiegen. Können wir über unsere Körpergefühle aufkommende Schuld erkennen? Wie differenzieren wir Schuld von anderen Emotionen? Was ist das Gute an Schuldgefühlen? Diese und andere Fragen wollen wir uns stellen und vielleicht einen leichteren Umgang mit Schuld erleben.\n\n\nMit unseren Selbsthilfegruppen tragen wir zur emotionalen Entlastung und gegenseitige Unterstützung bei. Die Teilnehmenden geben sich gegenseitige wertschätzende Lebenshilfe. Durch die Teilnahme wird das Selbstbewusstsein und das Selbstwertgefühl gestärkt. Frühwarnzeichen können rechtzeitig erkannt werden\, das soziale Netz wird durch den Austausch mit den Teilnehmenden gestärkt. Die Selbsthilfegruppen tragen dazu bei\, ein individuelles Krisennetzwerk und einen entsprechenden Krisenplan aufzubauen. Übungen tragen zur erfolgreichen Erweiterung der Strategien im Umgang mit der Erkrankung bei. \nAnmeldung\nDu kannst immer ohne Anmeldung kommen. Für die Organisation des Treffens wäre eine Anmeldung hilfreich. \nDie monatliche Selbsthilfegruppe Anderes Burnout-Café ermuntert die Teilnehmenden\, neue Sichtweisen zu einem bestimmten Thema auszuprobieren\, sich über Fremd- und Eigenwirkung der Übungen auszutauschen\, neue Handlungsmöglichkeiten zu erforschen und die eigene Lebenssituation neu zu bewerten. Darüber hinaus haben die Teilnehmenden die Möglichkeit\, mit anderen in einen persönlichen Erfahrungsaustausch zu kommen.  \nDie Veranstaltung wird durchgeführt von der Selbsthilfegruppe  ABC Berlin-Schöneberg mit Unterstützung des Bundesverband Burnout und Depression e.V..  \nWeitere Veranstaltungen sind hier zu finden. \nInformationen zum Krankheitsbild sind hier auf den Seiten des Bundesverbandes zu finden. \nModerator/in\nPeter und Elena \n 
URL:https://anderes-burnout-cafe.de/veranstaltungen/abc-berlin-schoeneberg-umgang-mit-scham-und-schuldgefuehlen-unsichtbare-lasten-verstehen-und-gesuender-mit-ihnen-umgehen
LOCATION:ABC Berlin-Schöneberg\, Holsteinische Str. 30\, Berlin\, 12161\, Germany
CATEGORIES:Berlin-Schöneberg,Präsenz
ORGANIZER;CN="Bundesverband BBuD":MAILTO:info@bbud.info
END:VEVENT
BEGIN:VEVENT
DTSTART;TZID=Europe/Paris:20260604T190000
DTEND;TZID=Europe/Paris:20260604T210000
DTSTAMP:20260419T143454
CREATED:20260128T131241Z
LAST-MODIFIED:20260128T131241Z
UID:10000899-1780599600-1780606800@anderes-burnout-cafe.de
SUMMARY:ABC Berlin-Schöneberg - Emotionale Erschöpfung erkennen
DESCRIPTION:Die Selbsthilfegruppe ABC Berlin-Schöneberg findet regelmäßig am 1. Donnerstag im Monat in der Zeit von 19:00 bis 21:00 Uhr statt.\nWir treffen uns in Präsenz in der Holsteinische Str. 30 (Raum 28 im Selbsthilfetreffpunkt Schöneberg\, nahe vom UBhf Friedrich-Wilhelm-Platz) in 12161 Berlin. \n \n(Zusatzhinweis: Da der Raum am nächsten Morgen von der Pekip-Gruppe genutzt wird\, kann er nicht mit Schuhen betreten werden. Alternativ können kostenlos zur Verfügung gestellte Überzieher genutzt werden.)\n \nThema: Emotionale Erschöpfung erkennen – Frühwarnzeichen wahrnehmen\, Unterschiede zu Depression erkennen und lernen\, wie man gegensteuert.\n \nMit unseren Selbsthilfegruppen tragen wir zur emotionalen Entlastung und gegenseitige Unterstützung bei. Die Teilnehmenden geben sich gegenseitige wertschätzende Lebenshilfe. Durch die Teilnahme wird das Selbstbewusstsein und das Selbstwertgefühl gestärkt. Frühwarnzeichen können rechtzeitig erkannt werden\, das soziale Netz wird durch den Austausch mit den Teilnehmenden gestärkt. Die Selbsthilfegruppen tragen dazu bei\, ein individuelles Krisennetzwerk und einen entsprechenden Krisenplan aufzubauen. Übungen tragen zur erfolgreichen Erweiterung der Strategien im Umgang mit der Erkrankung bei. \nAnmeldung\nDu kannst immer ohne Anmeldung kommen. Für die Organisation des Treffens wäre eine Anmeldung hilfreich. \nDie monatliche Selbsthilfegruppe Anderes Burnout-Café ermuntert die Teilnehmenden\, neue Sichtweisen zu einem bestimmten Thema auszuprobieren\, sich über Fremd- und Eigenwirkung der Übungen auszutauschen\, neue Handlungsmöglichkeiten zu erforschen und die eigene Lebenssituation neu zu bewerten. Darüber hinaus haben die Teilnehmenden die Möglichkeit\, mit anderen in einen persönlichen Erfahrungsaustausch zu kommen.  \nDie Veranstaltung wird durchgeführt von der Selbsthilfegruppe  ABC Berlin-Schöneberg mit Unterstützung des Bundesverband Burnout und Depression e.V..  \nWeitere Veranstaltungen sind hier zu finden. \nInformationen zum Krankheitsbild sind hier auf den Seiten des Bundesverbandes zu finden. \nModerator/in\nPeter und Elena \n 
URL:https://anderes-burnout-cafe.de/veranstaltungen/abc-berlin-schoeneberg-emotionale-erschoepfung-erkennen
LOCATION:ABC Berlin-Schöneberg\, Holsteinische Str. 30\, Berlin\, 12161\, Germany
CATEGORIES:Berlin-Schöneberg,Präsenz
ORGANIZER;CN="Bundesverband BBuD":MAILTO:info@bbud.info
END:VEVENT
BEGIN:VEVENT
DTSTART;TZID=Europe/Paris:20260702T190000
DTEND;TZID=Europe/Paris:20260702T210000
DTSTAMP:20260419T143454
CREATED:20260209T112937Z
LAST-MODIFIED:20260209T112937Z
UID:10000900-1783018800-1783026000@anderes-burnout-cafe.de
SUMMARY:ABC Berlin-Schöneberg - Umgang mit zwischenmenschlichen Konflikten
DESCRIPTION:Die Selbsthilfegruppe ABC Berlin-Schöneberg findet regelmäßig am 1. Donnerstag im Monat in der Zeit von 19:00 bis 21:00 Uhr statt.\nWir treffen uns in Präsenz in der Holsteinische Str. 30 (Raum 28 im Selbsthilfetreffpunkt Schöneberg\, nahe vom UBhf Friedrich-Wilhelm-Platz) in 12161 Berlin. \n \n(Zusatzhinweis: Da der Raum am nächsten Morgen von der Pekip-Gruppe genutzt wird\, kann er nicht mit Schuhen betreten werden. Alternativ können kostenlos zur Verfügung gestellte Überzieher genutzt werden.)\n \nThema: Umgang mit zwischenmenschlichen Konflikten – Strategien für ruhige Kommunikation und Selbstschutz.\n \nKonflikte entstehen oft schnell und manchmal unerwartet. Oder sie schwelen über längere Zeit und brechen dann vulkanartig aus. … Mitunter fühlt man sich dann hilflos einem Angriff ausgeliefert. Oder weiß nicht genau\, wie man ein heikles Thema anschneiden soll …\nTatsächlich gibt es hilfreiche Sätze und Techniken\, mit denen Sie aus einem Konflikt die Spannung herausnehmen können. Auch körperliche Übungen helfen\, den Druck zu lösen.\nIm ABC können Sie Ihre Einstellung zu Konflikten reflektieren und für sich geeignete Tools für den Alltag gewinnen.\n\nMit unseren Selbsthilfegruppen tragen wir zur emotionalen Entlastung und gegenseitige Unterstützung bei. Die Teilnehmenden geben sich gegenseitige wertschätzende Lebenshilfe. Durch die Teilnahme wird das Selbstbewusstsein und das Selbstwertgefühl gestärkt. Frühwarnzeichen können rechtzeitig erkannt werden\, das soziale Netz wird durch den Austausch mit den Teilnehmenden gestärkt. Die Selbsthilfegruppen tragen dazu bei\, ein individuelles Krisennetzwerk und einen entsprechenden Krisenplan aufzubauen. Übungen tragen zur erfolgreichen Erweiterung der Strategien im Umgang mit der Erkrankung bei. \nAnmeldung\nDu kannst immer ohne Anmeldung kommen. Für die Organisation des Treffens wäre eine Anmeldung hilfreich. \nDie monatliche Selbsthilfegruppe Anderes Burnout-Café ermuntert die Teilnehmenden\, neue Sichtweisen zu einem bestimmten Thema auszuprobieren\, sich über Fremd- und Eigenwirkung der Übungen auszutauschen\, neue Handlungsmöglichkeiten zu erforschen und die eigene Lebenssituation neu zu bewerten. Darüber hinaus haben die Teilnehmenden die Möglichkeit\, mit anderen in einen persönlichen Erfahrungsaustausch zu kommen.  \nDie Veranstaltung wird durchgeführt von der Selbsthilfegruppe  ABC Berlin-Schöneberg mit Unterstützung des Bundesverband Burnout und Depression e.V..  \nWeitere Veranstaltungen sind hier zu finden. \nInformationen zum Krankheitsbild sind hier auf den Seiten des Bundesverbandes zu finden. \nModerator/in\nPeter und Elena \n 
URL:https://anderes-burnout-cafe.de/veranstaltungen/abc-berlin-schoeneberg-umgang-mit-zwischenmenschlichen-konflikten
LOCATION:ABC Berlin-Schöneberg\, Holsteinische Str. 30\, Berlin\, 12161\, Germany
CATEGORIES:Berlin-Schöneberg,Präsenz
ORGANIZER;CN="Bundesverband BBuD":MAILTO:info@bbud.info
END:VEVENT
BEGIN:VEVENT
DTSTART;TZID=Europe/Paris:20260806T190000
DTEND;TZID=Europe/Paris:20260806T210000
DTSTAMP:20260419T143454
CREATED:20260209T113128Z
LAST-MODIFIED:20260209T113128Z
UID:10000922-1786042800-1786050000@anderes-burnout-cafe.de
SUMMARY:ABC Berlin-Schöneberg - Körper und Psyche: Wie Bewegung\, Ernährung und Nervensystem zusammenwirken.
DESCRIPTION:Die Selbsthilfegruppe ABC Berlin-Schöneberg findet regelmäßig am 1. Donnerstag im Monat in der Zeit von 19:00 bis 21:00 Uhr statt.\nWir treffen uns in Präsenz in der Holsteinische Str. 30 (Raum 28 im Selbsthilfetreffpunkt Schöneberg\, nahe vom UBhf Friedrich-Wilhelm-Platz) in 12161 Berlin. \n \n(Zusatzhinweis: Da der Raum am nächsten Morgen von der Pekip-Gruppe genutzt wird\, kann er nicht mit Schuhen betreten werden. Alternativ können kostenlos zur Verfügung gestellte Überzieher genutzt werden.)\n \nThema: Körper und Psyche – Wie Bewegung\, Ernährung und Nervensystem zusammenwirken.\n \n\n„Der Mensch ist\, was er isst“ – Ludwig Feuerbach\, deutscher Philosoph.\nWir möchten uns über Eure Erfahrungen zum Thema Ernährung austauschen.  Was beeinflusst wie die Stimmung? Woran habt ihr den Zusammenhang  zwischen Essen und Psyche erkannt? Welche hilfreichen Hinweise und  Tipps könnt ihr einander geben?\n\n\nMit unseren Selbsthilfegruppen tragen wir zur emotionalen Entlastung und gegenseitige Unterstützung bei. Die Teilnehmenden geben sich gegenseitige wertschätzende Lebenshilfe. Durch die Teilnahme wird das Selbstbewusstsein und das Selbstwertgefühl gestärkt. Frühwarnzeichen können rechtzeitig erkannt werden\, das soziale Netz wird durch den Austausch mit den Teilnehmenden gestärkt. Die Selbsthilfegruppen tragen dazu bei\, ein individuelles Krisennetzwerk und einen entsprechenden Krisenplan aufzubauen. Übungen tragen zur erfolgreichen Erweiterung der Strategien im Umgang mit der Erkrankung bei. \nAnmeldung\nDu kannst immer ohne Anmeldung kommen. Für die Organisation des Treffens wäre eine Anmeldung hilfreich. \nDie monatliche Selbsthilfegruppe Anderes Burnout-Café ermuntert die Teilnehmenden\, neue Sichtweisen zu einem bestimmten Thema auszuprobieren\, sich über Fremd- und Eigenwirkung der Übungen auszutauschen\, neue Handlungsmöglichkeiten zu erforschen und die eigene Lebenssituation neu zu bewerten. Darüber hinaus haben die Teilnehmenden die Möglichkeit\, mit anderen in einen persönlichen Erfahrungsaustausch zu kommen.  \nDie Veranstaltung wird durchgeführt von der Selbsthilfegruppe  ABC Berlin-Schöneberg mit Unterstützung des Bundesverband Burnout und Depression e.V..  \nWeitere Veranstaltungen sind hier zu finden. \nInformationen zum Krankheitsbild sind hier auf den Seiten des Bundesverbandes zu finden. \nModerator/in\nPeter und Elena \n 
URL:https://anderes-burnout-cafe.de/veranstaltungen/abc-berlin-schoeneberg-koerper-und-psyche-wie-bewegung-ernaehrung-und-nervensystem-zusammenwirken
LOCATION:ABC Berlin-Schöneberg\, Holsteinische Str. 30\, Berlin\, 12161\, Germany
CATEGORIES:Berlin-Schöneberg,Präsenz
ORGANIZER;CN="Bundesverband BBuD":MAILTO:info@bbud.info
END:VEVENT
BEGIN:VEVENT
DTSTART;TZID=Europe/Paris:20260904T190000
DTEND;TZID=Europe/Paris:20260904T210000
DTSTAMP:20260419T143454
CREATED:20260209T113448Z
LAST-MODIFIED:20260209T113448Z
UID:10000923-1788548400-1788555600@anderes-burnout-cafe.de
SUMMARY:ABC Berlin-Schöneberg - Selbstwertgefühl stärken
DESCRIPTION:Die Selbsthilfegruppe ABC Berlin-Schöneberg findet regelmäßig am 1. Donnerstag im Monat in der Zeit von 19:00 bis 21:00 Uhr statt.\nWir treffen uns in Präsenz in der Holsteinische Str. 30 (Raum 28 im Selbsthilfetreffpunkt Schöneberg\, nahe vom UBhf Friedrich-Wilhelm-Platz) in 12161 Berlin. \n \n(Zusatzhinweis: Da der Raum am nächsten Morgen von der Pekip-Gruppe genutzt wird\, kann er nicht mit Schuhen betreten werden. Alternativ können kostenlos zur Verfügung gestellte Überzieher genutzt werden.)\n \nThema: Selbstwertgefühl stärken\n \nWie entsteht Selbstwert und wie bleibt er in dunklen Zeiten stabil?\n\nMit unseren Selbsthilfegruppen tragen wir zur emotionalen Entlastung und gegenseitige Unterstützung bei. Die Teilnehmenden geben sich gegenseitige wertschätzende Lebenshilfe. Durch die Teilnahme wird das Selbstbewusstsein und das Selbstwertgefühl gestärkt. Frühwarnzeichen können rechtzeitig erkannt werden\, das soziale Netz wird durch den Austausch mit den Teilnehmenden gestärkt. Die Selbsthilfegruppen tragen dazu bei\, ein individuelles Krisennetzwerk und einen entsprechenden Krisenplan aufzubauen. Übungen tragen zur erfolgreichen Erweiterung der Strategien im Umgang mit der Erkrankung bei. \nAnmeldung\nDu kannst immer ohne Anmeldung kommen. Für die Organisation des Treffens wäre eine Anmeldung hilfreich. \nDie monatliche Selbsthilfegruppe Anderes Burnout-Café ermuntert die Teilnehmenden\, neue Sichtweisen zu einem bestimmten Thema auszuprobieren\, sich über Fremd- und Eigenwirkung der Übungen auszutauschen\, neue Handlungsmöglichkeiten zu erforschen und die eigene Lebenssituation neu zu bewerten. Darüber hinaus haben die Teilnehmenden die Möglichkeit\, mit anderen in einen persönlichen Erfahrungsaustausch zu kommen.  \nDie Veranstaltung wird durchgeführt von der Selbsthilfegruppe  ABC Berlin-Schöneberg mit Unterstützung des Bundesverband Burnout und Depression e.V..  \nWeitere Veranstaltungen sind hier zu finden. \nInformationen zum Krankheitsbild sind hier auf den Seiten des Bundesverbandes zu finden. \nModerator/in\nPeter und Elena \n 
URL:https://anderes-burnout-cafe.de/veranstaltungen/abc-berlin-schoeneberg-selbstwertgefuehl-staerken
LOCATION:ABC Berlin-Schöneberg\, Holsteinische Str. 30\, Berlin\, 12161\, Germany
CATEGORIES:Berlin-Schöneberg,Präsenz
ORGANIZER;CN="Bundesverband BBuD":MAILTO:info@bbud.info
END:VEVENT
BEGIN:VEVENT
DTSTART;TZID=Europe/Paris:20261001T190000
DTEND;TZID=Europe/Paris:20261001T210000
DTSTAMP:20260419T143454
CREATED:20260209T125428Z
LAST-MODIFIED:20260209T125428Z
UID:10000924-1790881200-1790888400@anderes-burnout-cafe.de
SUMMARY:ABC Berlin-Schöneberg - Innere Kritiker
DESCRIPTION:Die Selbsthilfegruppe ABC Berlin-Schöneberg findet regelmäßig am 1. Donnerstag im Monat in der Zeit von 19:00 bis 21:00 Uhr statt.\nWir treffen uns in Präsenz in der Holsteinische Str. 30 (Raum 28 im Selbsthilfetreffpunkt Schöneberg\, nahe vom UBhf Friedrich-Wilhelm-Platz) in 12161 Berlin. \n \n(Zusatzhinweis: Da der Raum am nächsten Morgen von der Pekip-Gruppe genutzt wird\, kann er nicht mit Schuhen betreten werden. Alternativ können kostenlos zur Verfügung gestellte Überzieher genutzt werden.)\n \nThema: Innere Kritiker verstummen lassen – Methoden\, um destruktive Selbstgespräche zu verändern.\n \n\nJeder kennt den hartnäckigen\, kleinen Kritiker im Kopf. Immer wieder schafft er es\, Pläne und neue Vorhaben zu boykottieren. Er glaubt genau zu wissen\, was aussichtslos ist und liefert ungefragt gute Argumente gegen mögliche Veränderungen. In dieser Veranstaltung setzen wir uns mit dieser kritischen Stimme auseinander und entdecken möglicherweise\, dass sie wirklich Wichtiges zu sagen hat. Wer gut hinhört\, kann in dem Kritiker einen guten Freund und Berater finden. Mit hilfreichen Fragen und Übungen unterstützt der Moderator die Teilnehmer dabei\, die Stimme richtig zu deuten und in Zukunft\, Pläne zuversichtlich angehen und verwirklichen zu können.\n\n#innerer_Kritiker #Kritiker #Selbsthilfe #innere_Stimme\n\n\nMit unseren Selbsthilfegruppen tragen wir zur emotionalen Entlastung und gegenseitige Unterstützung bei. Die Teilnehmenden geben sich gegenseitige wertschätzende Lebenshilfe. Durch die Teilnahme wird das Selbstbewusstsein und das Selbstwertgefühl gestärkt. Frühwarnzeichen können rechtzeitig erkannt werden\, das soziale Netz wird durch den Austausch mit den Teilnehmenden gestärkt. Die Selbsthilfegruppen tragen dazu bei\, ein individuelles Krisennetzwerk und einen entsprechenden Krisenplan aufzubauen. Übungen tragen zur erfolgreichen Erweiterung der Strategien im Umgang mit der Erkrankung bei. \nAnmeldung\nDu kannst immer ohne Anmeldung kommen. Für die Organisation des Treffens wäre eine Anmeldung hilfreich. \nDie monatliche Selbsthilfegruppe Anderes Burnout-Café ermuntert die Teilnehmenden\, neue Sichtweisen zu einem bestimmten Thema auszuprobieren\, sich über Fremd- und Eigenwirkung der Übungen auszutauschen\, neue Handlungsmöglichkeiten zu erforschen und die eigene Lebenssituation neu zu bewerten. Darüber hinaus haben die Teilnehmenden die Möglichkeit\, mit anderen in einen persönlichen Erfahrungsaustausch zu kommen.  \nDie Veranstaltung wird durchgeführt von der Selbsthilfegruppe  ABC Berlin-Schöneberg mit Unterstützung des Bundesverband Burnout und Depression e.V..  \nWeitere Veranstaltungen sind hier zu finden. \nInformationen zum Krankheitsbild sind hier auf den Seiten des Bundesverbandes zu finden. \nModerator/in\nPeter und Elena \n 
URL:https://anderes-burnout-cafe.de/veranstaltungen/abc-berlin-schoeneberg-innere-kritiker
LOCATION:ABC Berlin-Schöneberg\, Holsteinische Str. 30\, Berlin\, 12161\, Germany
CATEGORIES:Berlin-Schöneberg,Präsenz
ORGANIZER;CN="Bundesverband BBuD":MAILTO:info@bbud.info
END:VEVENT
BEGIN:VEVENT
DTSTART;TZID=Europe/Paris:20261105T190000
DTEND;TZID=Europe/Paris:20261105T210000
DTSTAMP:20260419T143454
CREATED:20260209T125613Z
LAST-MODIFIED:20260209T125613Z
UID:10000925-1793905200-1793912400@anderes-burnout-cafe.de
SUMMARY:ABC Berlin-Schöneberg - Selbstmitgefühl
DESCRIPTION:Die Selbsthilfegruppe ABC Berlin-Schöneberg findet regelmäßig am 1. Donnerstag im Monat in der Zeit von 19:00 bis 21:00 Uhr statt.\nWir treffen uns in Präsenz in der Holsteinische Str. 30 (Raum 28 im Selbsthilfetreffpunkt Schöneberg\, nahe vom UBhf Friedrich-Wilhelm-Platz) in 12161 Berlin. \n \n(Zusatzhinweis: Da der Raum am nächsten Morgen von der Pekip-Gruppe genutzt wird\, kann er nicht mit Schuhen betreten werden. Alternativ können kostenlos zur Verfügung gestellte Überzieher genutzt werden.)\n \nThema: Selbstmitgefühl trainieren – Warum Selbstmitgefühl der Schlüssel für Heilung ist und wie es funktioniert.\n \n\nMit unseren Selbsthilfegruppen tragen wir zur emotionalen Entlastung und gegenseitige Unterstützung bei. Die Teilnehmenden geben sich gegenseitige wertschätzende Lebenshilfe. Durch die Teilnahme wird das Selbstbewusstsein und das Selbstwertgefühl gestärkt. Frühwarnzeichen können rechtzeitig erkannt werden\, das soziale Netz wird durch den Austausch mit den Teilnehmenden gestärkt. Die Selbsthilfegruppen tragen dazu bei\, ein individuelles Krisennetzwerk und einen entsprechenden Krisenplan aufzubauen. Übungen tragen zur erfolgreichen Erweiterung der Strategien im Umgang mit der Erkrankung bei. \nAnmeldung\nDu kannst immer ohne Anmeldung kommen. Für die Organisation des Treffens wäre eine Anmeldung hilfreich. \nDie monatliche Selbsthilfegruppe Anderes Burnout-Café ermuntert die Teilnehmenden\, neue Sichtweisen zu einem bestimmten Thema auszuprobieren\, sich über Fremd- und Eigenwirkung der Übungen auszutauschen\, neue Handlungsmöglichkeiten zu erforschen und die eigene Lebenssituation neu zu bewerten. Darüber hinaus haben die Teilnehmenden die Möglichkeit\, mit anderen in einen persönlichen Erfahrungsaustausch zu kommen.  \nDie Veranstaltung wird durchgeführt von der Selbsthilfegruppe  ABC Berlin-Schöneberg mit Unterstützung des Bundesverband Burnout und Depression e.V..  \nWeitere Veranstaltungen sind hier zu finden. \nInformationen zum Krankheitsbild sind hier auf den Seiten des Bundesverbandes zu finden. \nModerator/in\nPeter und Elena \n 
URL:https://anderes-burnout-cafe.de/veranstaltungen/abc-berlin-schoeneberg-selbstmitgefuehl
LOCATION:ABC Berlin-Schöneberg\, Holsteinische Str. 30\, Berlin\, 12161\, Germany
CATEGORIES:Berlin-Schöneberg,Präsenz
ORGANIZER;CN="Bundesverband BBuD":MAILTO:info@bbud.info
END:VEVENT
BEGIN:VEVENT
DTSTART;TZID=Europe/Paris:20261203T190000
DTEND;TZID=Europe/Paris:20261203T210000
DTSTAMP:20260419T143454
CREATED:20260209T141342Z
LAST-MODIFIED:20260209T141342Z
UID:10000926-1796324400-1796331600@anderes-burnout-cafe.de
SUMMARY:ABC Berlin-Schöneberg - Jahresreflexion ohne Druck
DESCRIPTION:Die Selbsthilfegruppe ABC Berlin-Schöneberg findet regelmäßig am 1. Donnerstag im Monat in der Zeit von 19:00 bis 21:00 Uhr statt.\nWir treffen uns in Präsenz in der Holsteinische Str. 30 (Raum 28 im Selbsthilfetreffpunkt Schöneberg\, nahe vom UBhf Friedrich-Wilhelm-Platz) in 12161 Berlin. \n \n(Zusatzhinweis: Da der Raum am nächsten Morgen von der Pekip-Gruppe genutzt wird\, kann er nicht mit Schuhen betreten werden. Alternativ können kostenlos zur Verfügung gestellte Überzieher genutzt werden.)\n \nThema: Jahresreflexion ohne Druck – Was hat gut getan\, was darf bleiben\, was darf gehen.\n \n\nMit unseren Selbsthilfegruppen tragen wir zur emotionalen Entlastung und gegenseitige Unterstützung bei. Die Teilnehmenden geben sich gegenseitige wertschätzende Lebenshilfe. Durch die Teilnahme wird das Selbstbewusstsein und das Selbstwertgefühl gestärkt. Frühwarnzeichen können rechtzeitig erkannt werden\, das soziale Netz wird durch den Austausch mit den Teilnehmenden gestärkt. Die Selbsthilfegruppen tragen dazu bei\, ein individuelles Krisennetzwerk und einen entsprechenden Krisenplan aufzubauen. Übungen tragen zur erfolgreichen Erweiterung der Strategien im Umgang mit der Erkrankung bei. \nAnmeldung\nDu kannst immer ohne Anmeldung kommen. Für die Organisation des Treffens wäre eine Anmeldung hilfreich. \nDie monatliche Selbsthilfegruppe Anderes Burnout-Café ermuntert die Teilnehmenden\, neue Sichtweisen zu einem bestimmten Thema auszuprobieren\, sich über Fremd- und Eigenwirkung der Übungen auszutauschen\, neue Handlungsmöglichkeiten zu erforschen und die eigene Lebenssituation neu zu bewerten. Darüber hinaus haben die Teilnehmenden die Möglichkeit\, mit anderen in einen persönlichen Erfahrungsaustausch zu kommen.  \nDie Veranstaltung wird durchgeführt von der Selbsthilfegruppe  ABC Berlin-Schöneberg mit Unterstützung des Bundesverband Burnout und Depression e.V..  \nWeitere Veranstaltungen sind hier zu finden. \nInformationen zum Krankheitsbild sind hier auf den Seiten des Bundesverbandes zu finden. \nModerator/in\nPeter und Elena \n 
URL:https://anderes-burnout-cafe.de/veranstaltungen/abc-berlin-schoeneberg-jahresreflexion-ohne-druck
LOCATION:ABC Berlin-Schöneberg\, Holsteinische Str. 30\, Berlin\, 12161\, Germany
CATEGORIES:Berlin-Schöneberg,Präsenz
ORGANIZER;CN="Bundesverband BBuD":MAILTO:info@bbud.info
END:VEVENT
END:VCALENDAR