BEGIN:VCALENDAR
VERSION:2.0
PRODID:-//anderes-burnout-cafe - ECPv6.15.11//NONSGML v1.0//EN
CALSCALE:GREGORIAN
METHOD:PUBLISH
X-ORIGINAL-URL:https://anderes-burnout-cafe.de
X-WR-CALDESC:Veranstaltungen für anderes-burnout-cafe
REFRESH-INTERVAL;VALUE=DURATION:PT1H
X-Robots-Tag:noindex
X-PUBLISHED-TTL:PT1H
BEGIN:VTIMEZONE
TZID:Europe/Paris
BEGIN:DAYLIGHT
TZOFFSETFROM:+0100
TZOFFSETTO:+0200
TZNAME:CEST
DTSTART:20250330T010000
END:DAYLIGHT
BEGIN:STANDARD
TZOFFSETFROM:+0200
TZOFFSETTO:+0100
TZNAME:CET
DTSTART:20251026T010000
END:STANDARD
BEGIN:DAYLIGHT
TZOFFSETFROM:+0100
TZOFFSETTO:+0200
TZNAME:CEST
DTSTART:20260329T010000
END:DAYLIGHT
BEGIN:STANDARD
TZOFFSETFROM:+0200
TZOFFSETTO:+0100
TZNAME:CET
DTSTART:20261025T010000
END:STANDARD
BEGIN:DAYLIGHT
TZOFFSETFROM:+0100
TZOFFSETTO:+0200
TZNAME:CEST
DTSTART:20270328T010000
END:DAYLIGHT
BEGIN:STANDARD
TZOFFSETFROM:+0200
TZOFFSETTO:+0100
TZNAME:CET
DTSTART:20271031T010000
END:STANDARD
END:VTIMEZONE
BEGIN:VEVENT
DTSTART;TZID=Europe/Paris:20260602T183000
DTEND;TZID=Europe/Paris:20260602T203000
DTSTAMP:20260419T150047
CREATED:20260301T205559Z
LAST-MODIFIED:20260301T205559Z
UID:10000978-1780425000-1780432200@anderes-burnout-cafe.de
SUMMARY:Selbsthilfegruppe ABC Wehr - Ziele
DESCRIPTION:Die Selbsthilfegruppe ABC Wehr trifft sich in der Regel am ersten Dienstag im Monat von 18:30 bis 20:30 bei IMS+ GmbH Immobilien\, Kirchstraße 10\, 79664 Wehr.\nDu bist herzlich willkommen!  Gemeinsam schaffen wir einen Raum für mehr Gelassenheit\, innere Balance und Wohlbefinden.\n \nThema: Ziele\n \n\n\n\n\n\nTräume\, Wünsche\, Ziele… was will ich vom Leben?\nJede(r) von uns hat Träume. Manche bleiben für immer Spinnerei\, andere hingegen können sich erfüllen\, wenn\, ja wenn wir ernsthaft nach möglichen Wegen suchen und uns Schritt für Schritt auf die Reise machen. Was könnte ein erster Meilenstein sein? Wo erwarte ich Schwierigkeiten und wie werde ich damit umgehen? Wann\, wo\, wie werde ich was tun? In der Veranstaltung ergründen wir\, warum wir manchmal nicht vom Fleck kommen und welche Einstellungen und Maßnahmen günstig sind\, um Ziele tatsächlich zu erreichen. So kann sich jeder Teilnehmende seine individuelle Strategie erarbeiten.\n\n#Träume #Wünsche #Ziele #Leben #Schwierigkeiten #Einstellungen #Hindernisse #Strategie\n\n\n\n\n\n\nMit unseren Selbsthilfegruppen tragen wir zur emotionalen Entlastung und gegenseitige Unterstützung bei. Die Teilnehmenden geben sich gegenseitige wertschätzende Lebenshilfe. Durch die Teilnahme wird das Selbstbewusstsein und das Selbstwertgefühl gestärkt. Frühwarnzeichen können rechtzeitig erkannt werden\, das soziale Netz wird durch den Austausch mit den Teilnehmenden gestärkt. Die Selbsthilfegruppen tragen dazu bei\, ein individuelles Krisennetzwerk und einen entsprechenden Krisenplan aufzubauen. Übungen tragen zur erfolgreichen Erweiterung der Strategien im Umgang mit der Erkrankung bei.\n\n\n\nAnmeldung\nDu kannst immer ohne Anmeldung kommen. Für die Organisation des Treffens wäre eine Anmeldung hilfreich. \nDie monatliche Selbsthilfegruppe Anderes Burnout-Café ermuntert die Teilnehmenden\, neue Sichtweisen zu einem bestimmten Thema auszuprobieren\, sich über Fremd- und Eigenwirkung der Übungen auszutauschen\, neue Handlungsmöglichkeiten zu erforschen und die eigene Lebenssituation neu zu bewerten. Darüber hinaus haben die Teilnehmenden die Möglichkeit\, mit anderen in einen persönlichen Erfahrungsaustausch zu kommen.  \nDie Veranstaltung wird durchgeführt von der Selbsthilfegruppe  ABC Wehr mit Unterstützung des Bundesverband Burnout und Depression e.V..  \nWeitere Veranstaltungen sind hier zu finden. \nInformationen zum Krankheitsbild sind hier auf den Seiten des Bundesverbandes zu finden. \nModerator\nTanja
URL:https://anderes-burnout-cafe.de/veranstaltungen/selbsthilfegruppe-abc-wehr-ziele
LOCATION:ABC Wehr\, IMS+ GmbH\,Kirchstr.10\, Wehr\, 79664
CATEGORIES:ABC Wehr,Präsenz
END:VEVENT
END:VCALENDAR