BEGIN:VCALENDAR
VERSION:2.0
PRODID:-//anderes-burnout-cafe - ECPv6.15.11//NONSGML v1.0//EN
CALSCALE:GREGORIAN
METHOD:PUBLISH
X-ORIGINAL-URL:https://anderes-burnout-cafe.de
X-WR-CALDESC:Veranstaltungen für anderes-burnout-cafe
REFRESH-INTERVAL;VALUE=DURATION:PT1H
X-Robots-Tag:noindex
X-PUBLISHED-TTL:PT1H
BEGIN:VTIMEZONE
TZID:Europe/Paris
BEGIN:DAYLIGHT
TZOFFSETFROM:+0100
TZOFFSETTO:+0200
TZNAME:CEST
DTSTART:20250330T010000
END:DAYLIGHT
BEGIN:STANDARD
TZOFFSETFROM:+0200
TZOFFSETTO:+0100
TZNAME:CET
DTSTART:20251026T010000
END:STANDARD
BEGIN:DAYLIGHT
TZOFFSETFROM:+0100
TZOFFSETTO:+0200
TZNAME:CEST
DTSTART:20260329T010000
END:DAYLIGHT
BEGIN:STANDARD
TZOFFSETFROM:+0200
TZOFFSETTO:+0100
TZNAME:CET
DTSTART:20261025T010000
END:STANDARD
BEGIN:DAYLIGHT
TZOFFSETFROM:+0100
TZOFFSETTO:+0200
TZNAME:CEST
DTSTART:20270328T010000
END:DAYLIGHT
BEGIN:STANDARD
TZOFFSETFROM:+0200
TZOFFSETTO:+0100
TZNAME:CET
DTSTART:20271031T010000
END:STANDARD
END:VTIMEZONE
BEGIN:VEVENT
DTSTART;TZID=Europe/Paris:20260113T183000
DTEND;TZID=Europe/Paris:20260113T203000
DTSTAMP:20260421T115000
CREATED:20260103T222450Z
LAST-MODIFIED:20260114T110211Z
UID:10000809-1768329000-1768336200@anderes-burnout-cafe.de
SUMMARY:Selbsthilfegruppe ABC Wehr - Muster
DESCRIPTION:Die Selbsthilfegruppe ABC Wehr trifft sich in der Regel am ersten Dienstag im Monat von 18:30 bis 20:30 bei IMS+ GmbH Immobilien\, Kirchstraße 10\, 79664 Wehr.\nDu bist herzlich willkommen!  Gemeinsam schaffen wir einen Raum für mehr Gelassenheit\, innere Balance und Wohlbefinden.\n \nThema: Muster\n \n\n\n\nNegative Gedankenkreise\, unbeabsichtigte Reaktionen: Automatisierte Verhaltensweisen erleichtern nicht nur den Alltag\, häufig hindern sie auch daran\, Ziele zu erreichen. Das Burnout-Café geht den Verhaltensmustern auf den Grund und bietet wertvolle Tipps zum Umgang. Interessierte und Betroffene können darüber hinaus eigene Strategien entwickeln\, um Probleme zu erkennen und Verhaltensweisen effektiv zu ändern.\n\n\n\nMit unseren Selbsthilfegruppen tragen wir zur emotionalen Entlastung und gegenseitige Unterstützung bei. Die Teilnehmenden geben sich gegenseitige wertschätzende Lebenshilfe. Durch die Teilnahme wird das Selbstbewusstsein und das Selbstwertgefühl gestärkt. Frühwarnzeichen können rechtzeitig erkannt werden\, das soziale Netz wird durch den Austausch mit den Teilnehmenden gestärkt. Die Selbsthilfegruppen tragen dazu bei\, ein individuelles Krisennetzwerk und einen entsprechenden Krisenplan aufzubauen. Übungen tragen zur erfolgreichen Erweiterung der Strategien im Umgang mit der Erkrankung bei.\n\n\n\nAnmeldung\nDu kannst immer ohne Anmeldung kommen. Für die Organisation des Treffens wäre eine Anmeldung hilfreich. \nDie monatliche Selbsthilfegruppe Anderes Burnout-Café ermuntert die Teilnehmenden\, neue Sichtweisen zu einem bestimmten Thema auszuprobieren\, sich über Fremd- und Eigenwirkung der Übungen auszutauschen\, neue Handlungsmöglichkeiten zu erforschen und die eigene Lebenssituation neu zu bewerten. Darüber hinaus haben die Teilnehmenden die Möglichkeit\, mit anderen in einen persönlichen Erfahrungsaustausch zu kommen.  \nDie Veranstaltung wird durchgeführt von der Selbsthilfegruppe  ABC Wehr mit Unterstützung des Bundesverband Burnout und Depression e.V..  \nWeitere Veranstaltungen sind hier zu finden. \nInformationen zum Krankheitsbild sind hier auf den Seiten des Bundesverbandes zu finden. \nModerator\nTanja
URL:https://anderes-burnout-cafe.de/veranstaltungen/selbsthilfegruppe-abc-wehr-muster
LOCATION:ABC Wehr\, IMS+ GmbH\,Kirchstr.10\, Wehr\, 79664
CATEGORIES:ABC Wehr,Präsenz
END:VEVENT
END:VCALENDAR