BEGIN:VCALENDAR
VERSION:2.0
PRODID:-//anderes-burnout-cafe - ECPv6.15.11//NONSGML v1.0//EN
CALSCALE:GREGORIAN
METHOD:PUBLISH
X-WR-CALNAME:anderes-burnout-cafe
X-ORIGINAL-URL:https://anderes-burnout-cafe.de
X-WR-CALDESC:Veranstaltungen für anderes-burnout-cafe
REFRESH-INTERVAL;VALUE=DURATION:PT1H
X-Robots-Tag:noindex
X-PUBLISHED-TTL:PT1H
BEGIN:VTIMEZONE
TZID:Europe/Paris
BEGIN:DAYLIGHT
TZOFFSETFROM:+0100
TZOFFSETTO:+0200
TZNAME:CEST
DTSTART:20240331T010000
END:DAYLIGHT
BEGIN:STANDARD
TZOFFSETFROM:+0200
TZOFFSETTO:+0100
TZNAME:CET
DTSTART:20241027T010000
END:STANDARD
BEGIN:DAYLIGHT
TZOFFSETFROM:+0100
TZOFFSETTO:+0200
TZNAME:CEST
DTSTART:20250330T010000
END:DAYLIGHT
BEGIN:STANDARD
TZOFFSETFROM:+0200
TZOFFSETTO:+0100
TZNAME:CET
DTSTART:20251026T010000
END:STANDARD
BEGIN:DAYLIGHT
TZOFFSETFROM:+0100
TZOFFSETTO:+0200
TZNAME:CEST
DTSTART:20260329T010000
END:DAYLIGHT
BEGIN:STANDARD
TZOFFSETFROM:+0200
TZOFFSETTO:+0100
TZNAME:CET
DTSTART:20261025T010000
END:STANDARD
END:VTIMEZONE
BEGIN:VEVENT
DTSTART;TZID=Europe/Paris:20251202T183000
DTEND;TZID=Europe/Paris:20251202T203000
DTSTAMP:20260423T153339
CREATED:20250923T181206Z
LAST-MODIFIED:20250923T181206Z
UID:10000725-1764700200-1764707400@anderes-burnout-cafe.de
SUMMARY:Selbsthilfegruppe ABC Wehr - Grenzen setzen
DESCRIPTION:Die Selbsthilfegruppe ABC Wehr trifft sich in der Regel am ersten Dienstag im Monat von 18:30 bis 20:30 bei IMS+ GmbH Immobilien\, Kirchstraße 10\, 79664 Wehr.\nDu bist herzlich willkommen!  Gemeinsam schaffen wir einen Raum für mehr Gelassenheit\, innere Balance und Wohlbefinden.\n \nThema: Grenzen setzen\, wahren und lösen\n \n\n\nFür einen gesunden Selbstwert ist die Fähigkeit\, Grenzen zu setzen\, sehr hilfreich. Doch viele Menschen haben keine innere Erlaubnis auch mal Stop oder Nein zu sagen. Sie nehmen immer alles auf sich\, ziehen jeden dargebotenen Schuh an und lassen sehr viel über sich ergehen. Sie fühlen sich schuldig\, wenn sie ein Nein sagen\, oder im Übermaß verpflichtet. Das ist auf Dauer oft erschöpfend!\nDoch das heißt im Umkehrschluss nicht\, dass man immer nein sagen muss. Und manchmal ist es auch hilfreich\, die Grenze wieder etwas aufzulösen … .\nWie ein gutes Gleichgewicht zwischen „Ja heißt Ja“ und „Nein heißt Nein“ hergestellt werden kann\, woher die Grenzverletzungen rühren und wie besser damit umgegangen werden kann\, erörtern wir an diesem Abend im ABC.\n\n\n\nMit unseren Selbsthilfegruppen tragen wir zur emotionalen Entlastung und gegenseitige Unterstützung bei. Die Teilnehmenden geben sich gegenseitige wertschätzende Lebenshilfe. Durch die Teilnahme wird das Selbstbewusstsein und das Selbstwertgefühl gestärkt. Frühwarnzeichen können rechtzeitig erkannt werden\, das soziale Netz wird durch den Austausch mit den Teilnehmenden gestärkt. Die Selbsthilfegruppen tragen dazu bei\, ein individuelles Krisennetzwerk und einen entsprechenden Krisenplan aufzubauen. Übungen tragen zur erfolgreichen Erweiterung der Strategien im Umgang mit der Erkrankung bei.\n\n\n\nAnmeldung\nDu kannst immer ohne Anmeldung kommen. Für die Organisation des Treffens wäre eine Anmeldung hilfreich. \nDie monatliche Selbsthilfegruppe Anderes Burnout-Café ermuntert die Teilnehmenden\, neue Sichtweisen zu einem bestimmten Thema auszuprobieren\, sich über Fremd- und Eigenwirkung der Übungen auszutauschen\, neue Handlungsmöglichkeiten zu erforschen und die eigene Lebenssituation neu zu bewerten. Darüber hinaus haben die Teilnehmenden die Möglichkeit\, mit anderen in einen persönlichen Erfahrungsaustausch zu kommen.  \nDie Veranstaltung wird durchgeführt von der Selbsthilfegruppe  ABC Wehr mit Unterstützung des Bundesverband Burnout und Depression e.V..  \nWeitere Veranstaltungen sind hier zu finden. \nInformationen zum Krankheitsbild sind hier auf den Seiten des Bundesverbandes zu finden. \nModerator\nTanja
URL:https://anderes-burnout-cafe.de/veranstaltungen/selbsthilfegruppe-abc-wehr-grenzen-setzen
LOCATION:ABC Wehr\, IMS+ GmbH\,Kirchstr.10\, Wehr\, 79664
CATEGORIES:ABC Wehr,Präsenz
END:VEVENT
END:VCALENDAR