BEGIN:VCALENDAR
VERSION:2.0
PRODID:-//anderes-burnout-cafe - ECPv6.15.11//NONSGML v1.0//EN
CALSCALE:GREGORIAN
METHOD:PUBLISH
X-ORIGINAL-URL:https://anderes-burnout-cafe.de
X-WR-CALDESC:Veranstaltungen für anderes-burnout-cafe
REFRESH-INTERVAL;VALUE=DURATION:PT1H
X-Robots-Tag:noindex
X-PUBLISHED-TTL:PT1H
BEGIN:VTIMEZONE
TZID:Europe/Paris
BEGIN:DAYLIGHT
TZOFFSETFROM:+0100
TZOFFSETTO:+0200
TZNAME:CEST
DTSTART:20250330T010000
END:DAYLIGHT
BEGIN:STANDARD
TZOFFSETFROM:+0200
TZOFFSETTO:+0100
TZNAME:CET
DTSTART:20251026T010000
END:STANDARD
BEGIN:DAYLIGHT
TZOFFSETFROM:+0100
TZOFFSETTO:+0200
TZNAME:CEST
DTSTART:20260329T010000
END:DAYLIGHT
BEGIN:STANDARD
TZOFFSETFROM:+0200
TZOFFSETTO:+0100
TZNAME:CET
DTSTART:20261025T010000
END:STANDARD
BEGIN:DAYLIGHT
TZOFFSETFROM:+0100
TZOFFSETTO:+0200
TZNAME:CEST
DTSTART:20270328T010000
END:DAYLIGHT
BEGIN:STANDARD
TZOFFSETFROM:+0200
TZOFFSETTO:+0100
TZNAME:CET
DTSTART:20271031T010000
END:STANDARD
END:VTIMEZONE
BEGIN:VEVENT
DTSTART;TZID=Europe/Paris:20260507T193000
DTEND;TZID=Europe/Paris:20260507T210000
DTSTAMP:20260425T123141
CREATED:20260301T205046Z
LAST-MODIFIED:20260301T205046Z
UID:10000975-1778182200-1778187600@anderes-burnout-cafe.de
SUMMARY:Selbsthilfegruppe ABC Riedstadt - Selbstwert und Selbstfürsorge
DESCRIPTION:Die Selbsthilfegruppe ABC Riedstadt findet in der Regel am ersten Donnerstag im Monat von 19:30 bis 21:00 Uhr statt. Wir treffen uns in der Stiftung Soziale Gemeinschaft Ried\, Wilhelm-Leuschner- Straße 21\, 64560 Riedstadt-Erfelden. \nThema: Selbstwert und Selbstfürsorge\n\nWas macht eigentlich den eigenen Wert aus? Woran merke ich\, dass ich in meinem Sinne gehandelt habe und nicht im Sinne anderer? Setze ich mich für meine Bedürfnisse genauso ein\, wie für die Bedürfnisse meiner Umwelt? Ein hohes Selbstwertgefühl ist die Basis für Selbstvertrauen und die Fähigkeit\, Verantwortung für das eigene Leben zu übernehmen. Das Selbstwertgefühl kann man stärken\, so dass in Zukunft häufiger eine Entscheidung für sich selbst getroffen werden kann. Wie immer wird es im ABC interessante Übungen und Hinweise geben\, die sich im Alltag leicht umsetzen lassen. \nMit unseren Selbsthilfegruppen tragen wir zur emotionalen Entlastung und gegenseitige Unterstützung bei. Die Teilnehmenden geben sich gegenseitige wertschätzende Lebenshilfe. Durch die Teilnahme wird das Selbstbewusstsein und das Selbstwertgefühl gestärkt. Frühwarnzeichen können rechtzeitig erkannt werden\, das soziale Netz wird durch den Austausch mit den Teilnehmenden gestärkt. Die Selbsthilfegruppen tragen dazu bei\, ein individuelles Krisennetzwerk und einen entsprechenden Krisenplan aufzubauen. Übungen tragen zur erfolgreichen Erweiterung der Strategien im Umgang mit der Erkrankung bei. \nAnmeldung\nDu kannst immer ohne Anmeldung kommen. Für die Organisation des Treffens wäre eine Anmeldung hilfreich. \nDie  monatliche Selbsthilfegruppe ermuntert die Teilnehmenden\, neue Sichtweisen zu einem bestimmten Thema auszuprobieren\, sich über Fremd- und Eigenwirkung der Übungen auszutauschen\, neue Handlungsmöglichkeiten zu erforschen und die eigene Lebenssituation neu zu bewerten. Darüber hinaus haben die Teilnehmenden die Möglichkeit\, mit anderen in einen persönlichen Erfahrungsaustausch zu kommen.  \nDie Veranstaltung wird durchgeführt von der Selbsthilfegruppe  ABC Riedstadt mit Unterstützung des Bundesverband Burnout und Depression e.V.\n \nWeitere Veranstaltungen sind hier zu finden. \nInformationen zum Krankheitsbild sind hier auf den Seiten des Bundesverbandes zu finden. \nModeratorin\nDaniela
URL:https://anderes-burnout-cafe.de/veranstaltungen/selbsthilfegruppe-abc-riedstadt-selbstwert-und-selbstfuersorge
LOCATION:ABC Riedstadt\, Friedrichstraße 11\, Riedstadt\, 64560
CATEGORIES:Alle Städte,Präsenz,Riedstadt
END:VEVENT
END:VCALENDAR