BEGIN:VCALENDAR
VERSION:2.0
PRODID:-//anderes-burnout-cafe - ECPv6.15.11//NONSGML v1.0//EN
CALSCALE:GREGORIAN
METHOD:PUBLISH
X-WR-CALNAME:anderes-burnout-cafe
X-ORIGINAL-URL:https://anderes-burnout-cafe.de
X-WR-CALDESC:Veranstaltungen für anderes-burnout-cafe
REFRESH-INTERVAL;VALUE=DURATION:PT1H
X-Robots-Tag:noindex
X-PUBLISHED-TTL:PT1H
BEGIN:VTIMEZONE
TZID:Europe/Paris
BEGIN:DAYLIGHT
TZOFFSETFROM:+0100
TZOFFSETTO:+0200
TZNAME:CEST
DTSTART:20250330T010000
END:DAYLIGHT
BEGIN:STANDARD
TZOFFSETFROM:+0200
TZOFFSETTO:+0100
TZNAME:CET
DTSTART:20251026T010000
END:STANDARD
BEGIN:DAYLIGHT
TZOFFSETFROM:+0100
TZOFFSETTO:+0200
TZNAME:CEST
DTSTART:20260329T010000
END:DAYLIGHT
BEGIN:STANDARD
TZOFFSETFROM:+0200
TZOFFSETTO:+0100
TZNAME:CET
DTSTART:20261025T010000
END:STANDARD
BEGIN:DAYLIGHT
TZOFFSETFROM:+0100
TZOFFSETTO:+0200
TZNAME:CEST
DTSTART:20270328T010000
END:DAYLIGHT
BEGIN:STANDARD
TZOFFSETFROM:+0200
TZOFFSETTO:+0100
TZNAME:CET
DTSTART:20271031T010000
END:STANDARD
END:VTIMEZONE
BEGIN:VEVENT
DTSTART;TZID=Europe/Paris:20260116T180000
DTEND;TZID=Europe/Paris:20260116T200000
DTSTAMP:20260419T225435
CREATED:20260103T224948Z
LAST-MODIFIED:20260208T212912Z
UID:10000815-1768586400-1768593600@anderes-burnout-cafe.de
SUMMARY:Selbsthilfegruppe ABC Neuss - Rückblick\, Ausblick\, Jahresplanung
DESCRIPTION:Die Selbsthilfegruppe ABC Neuss findet immer am 3. Freitag im Monat von 18:00 bis 20:00 Uhr statt. Wir treffen uns in Präsenz im Selbsthilfe-Büro von PariSozial in der Oberstr. 21 in 41460 Neuss. \nThema: Rückblick\, Ausblick\, Jahresplanung\n \n\nZu Beginn eines jeden Jahres lohnt es sich\, sowohl einen Blick in das abgelaufene Jahr zu richten\, als auch in das vor uns liegende Jahr.\nWas war gut im vergangenen Jahr\, welche Erfahrungen und Begegnungen haben mich bereichert\, wofür kann ich dankbar sein\, und was wünsche ich mir für das vor mir liegende Jahr? Welche Ideen\, Wünsche und Ziele habe ich\, und wie kann ich diese am besten verwirklichen? Mit diesen Fragen wollen wir uns in diesem Themenrahmen beschäftigen\n\n\nMit unseren Selbsthilfegruppen tragen wir zur emotionalen Entlastung und gegenseitige Unterstützung bei. Die Teilnehmenden geben sich gegenseitige wertschätzende Lebenshilfe. Durch die Teilnahme wird das Selbstbewusstsein und das Selbstwertgefühl gestärkt. Frühwarnzeichen können rechtzeitig erkannt werden\, das soziale Netz wird durch den Austausch mit den Teilnehmenden gestärkt. Die Selbsthilfegruppen tragen dazu bei\, ein individuelles Krisennetzwerk und einen entsprechenden Krisenplan aufzubauen. Übungen tragen zur erfolgreichen Erweiterung der Strategien im Umgang mit der Erkrankung bei. \nAnmeldung\nDu kannst immer ohne Anmeldung kommen. Für die Organisation des Treffens wäre eine Anmeldung hilfreich. \nDie monatliche Selbsthilfegruppe Anderes Burnout-Café ermuntert die Teilnehmenden\, neue Sichtweisen zu einem bestimmten Thema auszuprobieren\, sich über Fremd- und Eigenwirkung der Übungen auszutauschen\, neue Handlungsmöglichkeiten zu erforschen und die eigene Lebenssituation neu zu bewerten. Darüber hinaus haben die Teilnehmenden die Möglichkeit\, mit anderen in einen persönlichen Erfahrungsaustausch zu kommen.  \nDie Veranstaltung wird durchgeführt von der Selbsthilfegruppe  ABC Neuss mit Unterstützung des Bundesverband Burnout und Depression e.V..  \nWeitere Veranstaltungen sind hier zu finden. \nInformationen zum Krankheitsbild sind hier auf den Seiten des Bundesverbandes zu finden. \nModerator\nKlaus
URL:https://anderes-burnout-cafe.de/veranstaltungen/selbsthilfegruppe-abc-neuss-januar-2026
LOCATION:ABC Neuss\, Oberstraße 21\, Neuss\, 41460\, Deutschland
CATEGORIES:Alle Städte,Neuss,Präsenz
ORGANIZER;CN="ABC Neuss":MAILTO:neuss{at}anderes-burnout-cafe.de
END:VEVENT
END:VCALENDAR