BEGIN:VCALENDAR
VERSION:2.0
PRODID:-//anderes-burnout-cafe - ECPv6.15.11//NONSGML v1.0//EN
CALSCALE:GREGORIAN
METHOD:PUBLISH
X-WR-CALNAME:anderes-burnout-cafe
X-ORIGINAL-URL:https://anderes-burnout-cafe.de
X-WR-CALDESC:Veranstaltungen für anderes-burnout-cafe
REFRESH-INTERVAL;VALUE=DURATION:PT1H
X-Robots-Tag:noindex
X-PUBLISHED-TTL:PT1H
BEGIN:VTIMEZONE
TZID:Europe/Paris
BEGIN:DAYLIGHT
TZOFFSETFROM:+0100
TZOFFSETTO:+0200
TZNAME:CEST
DTSTART:20240331T010000
END:DAYLIGHT
BEGIN:STANDARD
TZOFFSETFROM:+0200
TZOFFSETTO:+0100
TZNAME:CET
DTSTART:20241027T010000
END:STANDARD
BEGIN:DAYLIGHT
TZOFFSETFROM:+0100
TZOFFSETTO:+0200
TZNAME:CEST
DTSTART:20250330T010000
END:DAYLIGHT
BEGIN:STANDARD
TZOFFSETFROM:+0200
TZOFFSETTO:+0100
TZNAME:CET
DTSTART:20251026T010000
END:STANDARD
BEGIN:DAYLIGHT
TZOFFSETFROM:+0100
TZOFFSETTO:+0200
TZNAME:CEST
DTSTART:20260329T010000
END:DAYLIGHT
BEGIN:STANDARD
TZOFFSETFROM:+0200
TZOFFSETTO:+0100
TZNAME:CET
DTSTART:20261025T010000
END:STANDARD
END:VTIMEZONE
BEGIN:VEVENT
DTSTART;TZID=Europe/Paris:20250919T180000
DTEND;TZID=Europe/Paris:20250919T200000
DTSTAMP:20260420T054512
CREATED:20250602T150522Z
LAST-MODIFIED:20250602T150522Z
UID:10000620-1758304800-1758312000@anderes-burnout-cafe.de
SUMMARY:Selbsthilfegruppe ABC Neuss - Zeit- und Selbstmanagement
DESCRIPTION:Die Selbsthilfegruppe ABC Neuss findet immer am 3. Freitag im Monat von 18:00 bis 20:00 Uhr statt. Wir treffen uns in Präsenz im Selbsthilfe-Büro von PariSozial in der Oberstr. 21 in 41460 Neuss.\n \nThema: Zeit- und Selbstmanagement\n \nMit bewusstem Zeitmanagement können wir Stress reduzieren und unser Wohlbefinden steigern. In diesem ABC dreht sich alles um die praktische Anwendung von effektiven Zeitmanagement-Strategien. Schon kleine Anpassungen im Alltag können zu einer verbesserten Effizienz und mehr innerer Ruhe führen. Unser Austausch konzentriert sich auf konkrete Tipps\, um dem Alltag durch gelungenes Zeitmanagement gelassener zu begegnen. \n  \nMit unseren Selbsthilfegruppen tragen wir zur emotionalen Entlastung und gegenseitige Unterstützung bei. Die Teilnehmenden geben sich gegenseitige wertschätzende Lebenshilfe. Durch die Teilnahme wird das Selbstbewusstsein und das Selbstwertgefühl gestärkt. Frühwarnzeichen können rechtzeitig erkannt werden\, das soziale Netz wird durch den Austausch mit den Teilnehmenden gestärkt. Die Selbsthilfegruppen tragen dazu bei\, ein individuelles Krisennetzwerk und einen entsprechenden Krisenplan aufzubauen. Übungen tragen zur erfolgreichen Erweiterung der Strategien im Umgang mit der Erkrankung bei. Kamile \nAnmeldung\nDu kannst immer ohne Anmeldung kommen. Für die Organisation des Treffens wäre eine Anmeldung hilfreich. \nDie monatliche Selbsthilfegruppe Anderes Burnout-Café ermuntert die Teilnehmenden\, neue Sichtweisen zu einem bestimmten Thema auszuprobieren\, sich über Fremd- und Eigenwirkung der Übungen auszutauschen\, neue Handlungsmöglichkeiten zu erforschen und die eigene Lebenssituation neu zu bewerten. Darüber hinaus haben die Teilnehmenden die Möglichkeit\, mit anderen in einen persönlichen Erfahrungsaustausch zu kommen.  \nDie Veranstaltung wird durchgeführt von der Selbsthilfegruppe  ABC Neuss mit Unterstützung des Bundesverband Burnout und Depression e.V..  \nWeitere Veranstaltungen sind hier zu finden. \nInformationen zum Krankheitsbild sind hier auf den Seiten des Bundesverbandes zu finden. \nModeratorin\nJessica
URL:https://anderes-burnout-cafe.de/veranstaltungen/selbsthilfegruppe-abc-neuss-zeit-und-selbstmanagement
LOCATION:ABC Neuss\, Oberstraße 21\, Neuss\, 41460\, Deutschland
CATEGORIES:Neuss,Präsenz
ORGANIZER;CN="ABC Neuss":MAILTO:neuss{at}anderes-burnout-cafe.de
END:VEVENT
END:VCALENDAR