BEGIN:VCALENDAR
VERSION:2.0
PRODID:-//anderes-burnout-cafe - ECPv6.15.11//NONSGML v1.0//EN
CALSCALE:GREGORIAN
METHOD:PUBLISH
X-ORIGINAL-URL:https://anderes-burnout-cafe.de
X-WR-CALDESC:Veranstaltungen für anderes-burnout-cafe
REFRESH-INTERVAL;VALUE=DURATION:PT1H
X-Robots-Tag:noindex
X-PUBLISHED-TTL:PT1H
BEGIN:VTIMEZONE
TZID:Europe/Paris
BEGIN:DAYLIGHT
TZOFFSETFROM:+0100
TZOFFSETTO:+0200
TZNAME:CEST
DTSTART:20240331T010000
END:DAYLIGHT
BEGIN:STANDARD
TZOFFSETFROM:+0200
TZOFFSETTO:+0100
TZNAME:CET
DTSTART:20241027T010000
END:STANDARD
BEGIN:DAYLIGHT
TZOFFSETFROM:+0100
TZOFFSETTO:+0200
TZNAME:CEST
DTSTART:20250330T010000
END:DAYLIGHT
BEGIN:STANDARD
TZOFFSETFROM:+0200
TZOFFSETTO:+0100
TZNAME:CET
DTSTART:20251026T010000
END:STANDARD
BEGIN:DAYLIGHT
TZOFFSETFROM:+0100
TZOFFSETTO:+0200
TZNAME:CEST
DTSTART:20260329T010000
END:DAYLIGHT
BEGIN:STANDARD
TZOFFSETFROM:+0200
TZOFFSETTO:+0100
TZNAME:CET
DTSTART:20261025T010000
END:STANDARD
END:VTIMEZONE
BEGIN:VEVENT
DTSTART;TZID=Europe/Paris:20250620T180000
DTEND;TZID=Europe/Paris:20250620T200000
DTSTAMP:20260420T111732
CREATED:20250521T072212Z
LAST-MODIFIED:20250617T071939Z
UID:10000594-1750442400-1750449600@anderes-burnout-cafe.de
SUMMARY:ACHTUNG TERMINÄNDERUNG! Selbsthilfegruppe ABC Neuss - verschoben auf 27.06.
DESCRIPTION:Die Selbsthilfegruppe ABC Neuss findet immer am 3. Freitag im Monat von 18:00 bis 20:00 Uhr statt. Wir treffen uns in Präsenz im Selbsthilfe-Büro von PariSozial in der Oberstr. 21 in 41460 Neuss.\n \nThema: „Anspannung – Entspannung“\n \n„Wenn ich genau darauf achte\, merke ich\, dass mein Über- und Unterkiefer den ganzen Tag fest zusammengepresst sind. Aber ich muss mich wirklich anstrengen\, diese Anspannung überhaupt wahrzunehmen.“ Wie dieser Betroffenen geht es vielen Menschen: sie nehmen ihre Körperempfindungen im Normalfall nicht wahr und merken erst\, wenn es zu spät ist\, dass sie seit Jahren permanent angespannt sind.\nIn diesem ABC wird Raum geboten zur Erforschung der eigenen Anspannung und der eigenen Entspannung. Mentale und körperliche Übungen helfen dabei\, Belastungen schneller wahrzunehmen und damit konstruktiv umzugehen.\n  \nMit unseren Selbsthilfegruppen tragen wir zur emotionalen Entlastung und gegenseitige Unterstützung bei. Die Teilnehmenden geben sich gegenseitige wertschätzende Lebenshilfe. Durch die Teilnahme wird das Selbstbewusstsein und das Selbstwertgefühl gestärkt. Frühwarnzeichen können rechtzeitig erkannt werden\, das soziale Netz wird durch den Austausch mit den Teilnehmenden gestärkt. Die Selbsthilfegruppen tragen dazu bei\, ein individuelles Krisennetzwerk und einen entsprechenden Krisenplan aufzubauen. Übungen tragen zur erfolgreichen Erweiterung der Strategien im Umgang mit der Erkrankung bei. Kamile \nAnmeldung\nDu kannst immer ohne Anmeldung kommen. Für die Organisation des Treffens wäre eine Anmeldung hilfreich. \nDie monatliche Selbsthilfegruppe Anderes Burnout-Café ermuntert die Teilnehmenden\, neue Sichtweisen zu einem bestimmten Thema auszuprobieren\, sich über Fremd- und Eigenwirkung der Übungen auszutauschen\, neue Handlungsmöglichkeiten zu erforschen und die eigene Lebenssituation neu zu bewerten. Darüber hinaus haben die Teilnehmenden die Möglichkeit\, mit anderen in einen persönlichen Erfahrungsaustausch zu kommen.  \nDie Veranstaltung wird durchgeführt von der Selbsthilfegruppe  ABC Neuss mit Unterstützung des Bundesverband Burnout und Depression e.V..  \nWeitere Veranstaltungen sind hier zu finden. \nInformationen zum Krankheitsbild sind hier auf den Seiten des Bundesverbandes zu finden. \nModeratorin\nJessica
URL:https://anderes-burnout-cafe.de/veranstaltungen/selbsthilfegruppe-abc-neuss-anspannung-entspannung
LOCATION:ABC Neuss\, Oberstraße 21\, Neuss\, 41460\, Deutschland
CATEGORIES:Neuss,Präsenz
ORGANIZER;CN="ABC Neuss":MAILTO:neuss{at}anderes-burnout-cafe.de
END:VEVENT
BEGIN:VEVENT
DTSTART;TZID=Europe/Paris:20250627T180000
DTEND;TZID=Europe/Paris:20250627T200000
DTSTAMP:20260420T111732
CREATED:20250617T072156Z
LAST-MODIFIED:20250624T084833Z
UID:10000642-1751047200-1751054400@anderes-burnout-cafe.de
SUMMARY:NEUER TERMIN IM JUNI! Selbsthilfegruppe ABC Neuss - „Anspannung - Entspannung“
DESCRIPTION:Die Selbsthilfegruppe ABC Neuss findet im Juni ausnahmsweise am 4. Freitag im Monat von 18:00 bis 20:00 Uhr statt. Wir treffen uns in Präsenz im Selbsthilfe-Büro von PariSozial in der Oberstr. 21 in 41460 Neuss.\n \nThema: „Anspannung – Entspannung“\n \n„Wenn ich genau darauf achte\, merke ich\, dass mein Über- und Unterkiefer den ganzen Tag fest zusammengepresst sind. Aber ich muss mich wirklich anstrengen\, diese Anspannung überhaupt wahrzunehmen.“ Wie dieser Betroffenen geht es vielen Menschen: sie nehmen ihre Körperempfindungen im Normalfall nicht wahr und merken erst\, wenn es zu spät ist\, dass sie seit Jahren permanent angespannt sind.\nIn diesem ABC wird Raum geboten zur Erforschung der eigenen Anspannung und der eigenen Entspannung. Mentale und körperliche Übungen helfen dabei\, Belastungen schneller wahrzunehmen und damit konstruktiv umzugehen.\n  \nMit unseren Selbsthilfegruppen tragen wir zur emotionalen Entlastung und gegenseitige Unterstützung bei. Die Teilnehmenden geben sich gegenseitige wertschätzende Lebenshilfe. Durch die Teilnahme wird das Selbstbewusstsein und das Selbstwertgefühl gestärkt. Frühwarnzeichen können rechtzeitig erkannt werden\, das soziale Netz wird durch den Austausch mit den Teilnehmenden gestärkt. Die Selbsthilfegruppen tragen dazu bei\, ein individuelles Krisennetzwerk und einen entsprechenden Krisenplan aufzubauen. Übungen tragen zur erfolgreichen Erweiterung der Strategien im Umgang mit der Erkrankung bei. Kamile \nAnmeldung\nDu kannst immer ohne Anmeldung kommen. Für die Organisation des Treffens wäre eine Anmeldung hilfreich. \nDie monatliche Selbsthilfegruppe Anderes Burnout-Café ermuntert die Teilnehmenden\, neue Sichtweisen zu einem bestimmten Thema auszuprobieren\, sich über Fremd- und Eigenwirkung der Übungen auszutauschen\, neue Handlungsmöglichkeiten zu erforschen und die eigene Lebenssituation neu zu bewerten. Darüber hinaus haben die Teilnehmenden die Möglichkeit\, mit anderen in einen persönlichen Erfahrungsaustausch zu kommen.  \nDie Veranstaltung wird durchgeführt von der Selbsthilfegruppe  ABC Neuss mit Unterstützung des Bundesverband Burnout und Depression e.V..  \nWeitere Veranstaltungen sind hier zu finden. \nInformationen zum Krankheitsbild sind hier auf den Seiten des Bundesverbandes zu finden. \nModeratorin\nJessica
URL:https://anderes-burnout-cafe.de/veranstaltungen/neuer-termin-im-juni-selbsthilfegruppe-abc-neuss-anspannung-entspannung
LOCATION:ABC Neuss\, Oberstraße 21\, Neuss\, 41460\, Deutschland
CATEGORIES:Neuss,Präsenz
ORGANIZER;CN="ABC Neuss":MAILTO:neuss{at}anderes-burnout-cafe.de
END:VEVENT
END:VCALENDAR