BEGIN:VCALENDAR
VERSION:2.0
PRODID:-//anderes-burnout-cafe - ECPv6.15.11//NONSGML v1.0//EN
CALSCALE:GREGORIAN
METHOD:PUBLISH
X-WR-CALNAME:anderes-burnout-cafe
X-ORIGINAL-URL:https://anderes-burnout-cafe.de
X-WR-CALDESC:Veranstaltungen für anderes-burnout-cafe
REFRESH-INTERVAL;VALUE=DURATION:PT1H
X-Robots-Tag:noindex
X-PUBLISHED-TTL:PT1H
BEGIN:VTIMEZONE
TZID:Europe/Paris
BEGIN:DAYLIGHT
TZOFFSETFROM:+0100
TZOFFSETTO:+0200
TZNAME:CEST
DTSTART:20240331T010000
END:DAYLIGHT
BEGIN:STANDARD
TZOFFSETFROM:+0200
TZOFFSETTO:+0100
TZNAME:CET
DTSTART:20241027T010000
END:STANDARD
BEGIN:DAYLIGHT
TZOFFSETFROM:+0100
TZOFFSETTO:+0200
TZNAME:CEST
DTSTART:20250330T010000
END:DAYLIGHT
BEGIN:STANDARD
TZOFFSETFROM:+0200
TZOFFSETTO:+0100
TZNAME:CET
DTSTART:20251026T010000
END:STANDARD
BEGIN:DAYLIGHT
TZOFFSETFROM:+0100
TZOFFSETTO:+0200
TZNAME:CEST
DTSTART:20260329T010000
END:DAYLIGHT
BEGIN:STANDARD
TZOFFSETFROM:+0200
TZOFFSETTO:+0100
TZNAME:CET
DTSTART:20261025T010000
END:STANDARD
END:VTIMEZONE
BEGIN:VEVENT
DTSTART;TZID=Europe/Paris:20250501T190000
DTEND;TZID=Europe/Paris:20250501T210000
DTSTAMP:20260420T124740
CREATED:20250130T091442Z
LAST-MODIFIED:20250408T075912Z
UID:10000541-1746126000-1746133200@anderes-burnout-cafe.de
SUMMARY:ABC Berlin-Schöneberg - Soziale Kontakte pflegen – Einsamkeit überwinden und Beziehungen stärken
DESCRIPTION:Die Selbsthilfegruppe ABC Berlin-Schöneberg findet regelmäßig am 1. Donnerstag im Monat in der Zeit von 19:00 bis 21:00 Uhr statt.\nWir treffen uns in Präsenz in der Holsteinische Str. 30 (Raum 28 im Selbsthilfetreffpunkt Schöneberg\, nahe vom UBhf Friedrich-Wilhelm-Platz) in 12161 Berlin. \n \n(Zusatzhinweis: Da der Raum am nächsten Morgen von der Pekip-Gruppe genutzt wird\, kann er nicht mit Schuhen betreten werden. Alternativ können kostenlos zur Verfügung gestellte Überzieher genutzt werden.)\n \nThema:  Soziale Kontakte pflegen – Einsamkeit überwinden und Beziehungen stärken.\n\n \nDie Pandemie hat uns alle viel neues abverlangt. Isolation und Einsamkeit haben sich breit gemacht in unserer Gesellschaft. Gerade in diesen Zeiten ist es wichtig mit Menschen in Kontakt zu bleiben oder zu kommen. Freunden\, Familienangehörigen\, Kollegen oder Nachbarn zu helfen\, ist für die meisten selbstverständlich. Andere um Hilfe zu bitten und diese anzunehmen\, fällt manchen hingegen schwer? Um die Gründe dafür herauszufinden\, nehmen wir das eigene Netzwerk genauer unter die Lupe: Wer sind meine Freunde und wie pflege ich meine Beziehungen? Wem helfe ich und wer unterstützt mich? Wie kläre ich konflikthaltige Beziehungen? \nMit unseren Selbsthilfegruppen tragen wir zur emotionalen Entlastung und gegenseitige Unterstützung bei. Die Teilnehmenden geben sich gegenseitige wertschätzende Lebenshilfe. Durch die Teilnahme wird das Selbstbewusstsein und das Selbstwertgefühl gestärkt. Frühwarnzeichen können rechtzeitig erkannt werden\, das soziale Netz wird durch den Austausch mit den Teilnehmenden gestärkt. Die Selbsthilfegruppen tragen dazu bei\, ein individuelles Krisennetzwerk und einen entsprechenden Krisenplan aufzubauen. Übungen tragen zur erfolgreichen Erweiterung der Strategien im Umgang mit der Erkrankung bei. \nAnmeldung\nDu kannst immer ohne Anmeldung kommen. Für die Organisation des Treffens wäre eine Anmeldung hilfreich. \nDie monatliche Selbsthilfegruppe Anderes Burnout-Café ermuntert die Teilnehmenden\, neue Sichtweisen zu einem bestimmten Thema auszuprobieren\, sich über Fremd- und Eigenwirkung der Übungen auszutauschen\, neue Handlungsmöglichkeiten zu erforschen und die eigene Lebenssituation neu zu bewerten. Darüber hinaus haben die Teilnehmenden die Möglichkeit\, mit anderen in einen persönlichen Erfahrungsaustausch zu kommen.  \nDie Veranstaltung wird durchgeführt von der Selbsthilfegruppe  ABC Berlin-Schöneberg mit Unterstützung des Bundesverband Burnout und Depression e.V..  \nWeitere Veranstaltungen sind hier zu finden. \nInformationen zum Krankheitsbild sind hier auf den Seiten des Bundesverbandes zu finden. \nModerator\nPeter \n 
URL:https://anderes-burnout-cafe.de/veranstaltungen/abc-berlin-schoeneberg-faellt-aus
LOCATION:ABC Berlin-Schöneberg\, Holsteinische Str. 30\, Berlin\, 12161\, Germany
CATEGORIES:Berlin-Schöneberg,Präsenz
ORGANIZER;CN="Bundesverband BBuD":MAILTO:info@bbud.info
END:VEVENT
BEGIN:VEVENT
DTSTART;TZID=Europe/Paris:20250516T180000
DTEND;TZID=Europe/Paris:20250516T200000
DTSTAMP:20260420T124740
CREATED:20250514T184304Z
LAST-MODIFIED:20250514T184304Z
UID:10000593-1747418400-1747425600@anderes-burnout-cafe.de
SUMMARY:Selbsthilfegruppe ABC Neuss - „Deine persönliche FEEL GOOD Kultur“
DESCRIPTION:Die Selbsthilfegruppe ABC Neuss findet immer am 3. Freitag im Monat von 18:00 bis 20:00 Uhr statt. Wir treffen uns in Präsenz im Selbsthilfe-Büro von PariSozial in der Oberstr. 21 in 41460 Neuss.\n \nThema: „Deine persönliche FEEL GOOD Kultur erschaffen – Licht ins Dunkle bringen und Selbstfürsorge leben“\n \nDu sehnst dich nach mehr Leichtigkeit\, innerer Stärke und einem liebevollen Umgang mit dir selbst? Dann lade ich dich herzlich zu unserem Workshop ein.\nWir alle erleben Phasen im Leben\, die herausfordernd sind. Doch es gibt Wege\, wieder Licht ins Dunkle zu bringen. In diesem Workshop teilen wir unsere persönliche Geschichte – den Weg aus der Depression und wie eine FEEL GOOD Kultur zu einer wertvollen Stütze wurde.\nGemeinsam erkunden wir\, was eine persönliche FEEL GOOD Kultur bedeuten kann\, und wie sie dir dabei helfen könnte\, dich selbst in den Fokus zu rücken. Es geht um Selbstfürsorge\, um das bewusste Gestalten eines Alltags\, der dir guttut\, und um die kleinen Schritte\, die große Veränderungen bewirken können.\nDu bist eingeladen\, dich mit diesem Thema vertraut zu machen und herauszufinden\, ob und wie es dich unterstützen kann. Ganz ohne Druck\, ganz in deinem Tempo.\nIch freue mich darauf\, mit dir gemeinsam diesen Weg zu erkunden und einen Raum zu schaffen\, in dem Wohlbefinden und Selbstfürsorge im Mittelpunkt stehen. \n  \nMit unseren Selbsthilfegruppen tragen wir zur emotionalen Entlastung und gegenseitige Unterstützung bei. Die Teilnehmenden geben sich gegenseitige wertschätzende Lebenshilfe. Durch die Teilnahme wird das Selbstbewusstsein und das Selbstwertgefühl gestärkt. Frühwarnzeichen können rechtzeitig erkannt werden\, das soziale Netz wird durch den Austausch mit den Teilnehmenden gestärkt. Die Selbsthilfegruppen tragen dazu bei\, ein individuelles Krisennetzwerk und einen entsprechenden Krisenplan aufzubauen. Übungen tragen zur erfolgreichen Erweiterung der Strategien im Umgang mit der Erkrankung bei. Kamile \nAnmeldung\nDu kannst immer ohne Anmeldung kommen. Für die Organisation des Treffens wäre eine Anmeldung hilfreich. \nDie monatliche Selbsthilfegruppe Anderes Burnout-Café ermuntert die Teilnehmenden\, neue Sichtweisen zu einem bestimmten Thema auszuprobieren\, sich über Fremd- und Eigenwirkung der Übungen auszutauschen\, neue Handlungsmöglichkeiten zu erforschen und die eigene Lebenssituation neu zu bewerten. Darüber hinaus haben die Teilnehmenden die Möglichkeit\, mit anderen in einen persönlichen Erfahrungsaustausch zu kommen.  \nDie Veranstaltung wird durchgeführt von der Selbsthilfegruppe  ABC Neuss mit Unterstützung des Bundesverband Burnout und Depression e.V..  \nWeitere Veranstaltungen sind hier zu finden. \nInformationen zum Krankheitsbild sind hier auf den Seiten des Bundesverbandes zu finden. \nModeratorin\nJessica
URL:https://anderes-burnout-cafe.de/veranstaltungen/selbsthilfegruppe-abc-neuss-deine-persoenliche-feel-good-kultur
LOCATION:ABC Neuss\, Oberstraße 21\, Neuss\, 41460\, Deutschland
CATEGORIES:Neuss,Präsenz
ORGANIZER;CN="ABC Neuss":MAILTO:neuss{at}anderes-burnout-cafe.de
END:VEVENT
END:VCALENDAR