BEGIN:VCALENDAR
VERSION:2.0
PRODID:-//anderes-burnout-cafe - ECPv6.15.11//NONSGML v1.0//EN
CALSCALE:GREGORIAN
METHOD:PUBLISH
X-ORIGINAL-URL:https://anderes-burnout-cafe.de
X-WR-CALDESC:Veranstaltungen für anderes-burnout-cafe
REFRESH-INTERVAL;VALUE=DURATION:PT1H
X-Robots-Tag:noindex
X-PUBLISHED-TTL:PT1H
BEGIN:VTIMEZONE
TZID:Europe/Paris
BEGIN:DAYLIGHT
TZOFFSETFROM:+0100
TZOFFSETTO:+0200
TZNAME:CEST
DTSTART:20240331T010000
END:DAYLIGHT
BEGIN:STANDARD
TZOFFSETFROM:+0200
TZOFFSETTO:+0100
TZNAME:CET
DTSTART:20241027T010000
END:STANDARD
BEGIN:DAYLIGHT
TZOFFSETFROM:+0100
TZOFFSETTO:+0200
TZNAME:CEST
DTSTART:20250330T010000
END:DAYLIGHT
BEGIN:STANDARD
TZOFFSETFROM:+0200
TZOFFSETTO:+0100
TZNAME:CET
DTSTART:20251026T010000
END:STANDARD
BEGIN:DAYLIGHT
TZOFFSETFROM:+0100
TZOFFSETTO:+0200
TZNAME:CEST
DTSTART:20260329T010000
END:DAYLIGHT
BEGIN:STANDARD
TZOFFSETFROM:+0200
TZOFFSETTO:+0100
TZNAME:CET
DTSTART:20261025T010000
END:STANDARD
END:VTIMEZONE
BEGIN:VEVENT
DTSTART;TZID=Europe/Paris:20250306T190000
DTEND;TZID=Europe/Paris:20250306T210000
DTSTAMP:20260420T161236
CREATED:20250129T123007Z
LAST-MODIFIED:20250223T091321Z
UID:10000539-1741287600-1741294800@anderes-burnout-cafe.de
SUMMARY:ABC Berlin-Schöneberg - Grenzen setzen
DESCRIPTION:Die Selbsthilfegruppe ABC Berlin-Schöneberg findet regelmäßig am 1. Donnerstag im Monat in der Zeit von 19:00 bis 21:00 Uhr statt.\nWir treffen uns in Präsenz in der Holsteinische Str. 30 (Raum 28 im Selbsthilfetreffpunkt Schöneberg\, nahe vom UBhf Friedrich-Wilhelm-Platz) in 12161 Berlin. \n \n(Zusatzhinweis: Da der Raum am nächsten Morgen von der Pekip-Gruppe genutzt wird\, kann er nicht mit Schuhen betreten werden. Alternativ können kostenlos zur Verfügung gestellte Überzieher genutzt werden.)\n \nThema:  Grenzen setzen – Nein sagen lernen und Überforderung vermeiden.\n \nEs allen recht machen\, die eigenen Leistungsgrenzen ignorieren und immer weiter Vollgas geben: Häufig manifestieren sich solche permanenten und unreflektierten Grenzüberschreitungen in körperlichen und psychischen Beschwerden. Was versprechen wir uns eigentlich davon\, wenn wir immer wieder „Ja“ sagen\, obwohl wir „Nein!“ fühlen? Ganz sicher gibt es gute Gründe dafür\, doch vielleicht geht es manchmal auch anders? Mit einfachen Übungen gehen wir unseren Bedürfnissen auf den Grund. Wir sprechen darüber\, warum uns bestimmte Grenzen so wichtig sind und wie wir in Zukunft besser für uns sorgen können. \n  \nMit unseren Selbsthilfegruppen tragen wir zur emotionalen Entlastung und gegenseitige Unterstützung bei. Die Teilnehmenden geben sich gegenseitige wertschätzende Lebenshilfe. Durch die Teilnahme wird das Selbstbewusstsein und das Selbstwertgefühl gestärkt. Frühwarnzeichen können rechtzeitig erkannt werden\, das soziale Netz wird durch den Austausch mit den Teilnehmenden gestärkt. Die Selbsthilfegruppen tragen dazu bei\, ein individuelles Krisennetzwerk und einen entsprechenden Krisenplan aufzubauen. Übungen tragen zur erfolgreichen Erweiterung der Strategien im Umgang mit der Erkrankung bei. \nAnmeldung\nDu kannst immer ohne Anmeldung kommen. Für die Organisation des Treffens wäre eine Anmeldung hilfreich. \nDie monatliche Selbsthilfegruppe Anderes Burnout-Café ermuntert die Teilnehmenden\, neue Sichtweisen zu einem bestimmten Thema auszuprobieren\, sich über Fremd- und Eigenwirkung der Übungen auszutauschen\, neue Handlungsmöglichkeiten zu erforschen und die eigene Lebenssituation neu zu bewerten. Darüber hinaus haben die Teilnehmenden die Möglichkeit\, mit anderen in einen persönlichen Erfahrungsaustausch zu kommen.  \nDie Veranstaltung wird durchgeführt von der Selbsthilfegruppe  ABC Berlin-Schöneberg mit Unterstützung des Bundesverband Burnout und Depression e.V..  \nWeitere Veranstaltungen sind hier zu finden. \nInformationen zum Krankheitsbild sind hier auf den Seiten des Bundesverbandes zu finden. \nModerator/in\nPeter und Elena \n 
URL:https://anderes-burnout-cafe.de/veranstaltungen/abc-berlin-schoeneberg-grenzen-setzen
LOCATION:ABC Berlin-Schöneberg\, Holsteinische Str. 30\, Berlin\, 12161\, Germany
CATEGORIES:Berlin-Schöneberg,Präsenz
ORGANIZER;CN="Bundesverband BBuD":MAILTO:info@bbud.info
END:VEVENT
BEGIN:VEVENT
DTSTART;TZID=Europe/Paris:20250314T100000
DTEND;TZID=Europe/Paris:20250314T120000
DTSTAMP:20260420T161236
CREATED:20250111T122618Z
LAST-MODIFIED:20250111T122618Z
UID:10000479-1741946400-1741953600@anderes-burnout-cafe.de
SUMMARY:Selbsthilfegruppe ABC Neuss - „Kommunikation“
DESCRIPTION:Die Selbsthilfegruppe ABC Neuss findet immer am 3. Freitag im Monat von 10:00 bis 12:00 Uhr statt. Wir treffen uns in Präsenz im Selbsthilfe-Büro von PariSozial in der Oberstr. 21 in 41460 Neuss.\n \nThema: „Kommunikation“\n \nBei diesem Thema geht es um die grundlegenden Faktoren und Ebenen\, die “Kommunikation” ausmachen\, aber auch um “verhältnismäßige” Kommunikation beim Vorliegen eines Konfliktes\, z.B.:  Wie sage ich es meinem Gegenüber? Wie sage ich es früh genug und in welcher Form? Welche non-verbalen Signale kann ich senden\, um das Gesagte zu unterstreichen?\n\nMit unseren Selbsthilfegruppen tragen wir zur emotionalen Entlastung und gegenseitige Unterstützung bei. Die Teilnehmenden geben sich gegenseitige wertschätzende Lebenshilfe. Durch die Teilnahme wird das Selbstbewusstsein und das Selbstwertgefühl gestärkt. Frühwarnzeichen können rechtzeitig erkannt werden\, das soziale Netz wird durch den Austausch mit den Teilnehmenden gestärkt. Die Selbsthilfegruppen tragen dazu bei\, ein individuelles Krisennetzwerk und einen entsprechenden Krisenplan aufzubauen. Übungen tragen zur erfolgreichen Erweiterung der Strategien im Umgang mit der Erkrankung bei. Kamile \nAnmeldung\nDu kannst immer ohne Anmeldung kommen. Für die Organisation des Treffens wäre eine Anmeldung hilfreich. \nDie monatliche Selbsthilfegruppe Anderes Burnout-Café ermuntert die Teilnehmenden\, neue Sichtweisen zu einem bestimmten Thema auszuprobieren\, sich über Fremd- und Eigenwirkung der Übungen auszutauschen\, neue Handlungsmöglichkeiten zu erforschen und die eigene Lebenssituation neu zu bewerten. Darüber hinaus haben die Teilnehmenden die Möglichkeit\, mit anderen in einen persönlichen Erfahrungsaustausch zu kommen.  \nDie Veranstaltung wird durchgeführt von der Selbsthilfegruppe  ABC Neuss mit Unterstützung des Bundesverband Burnout und Depression e.V..  \nWeitere Veranstaltungen sind hier zu finden. \nInformationen zum Krankheitsbild sind hier auf den Seiten des Bundesverbandes zu finden. \nModeratorin\nKamile
URL:https://anderes-burnout-cafe.de/veranstaltungen/selbsthilfegruppe-abc-neuss-kommunikation
LOCATION:ABC Neuss\, Oberstraße 21\, Neuss\, 41460\, Deutschland
CATEGORIES:Neuss,Präsenz
ORGANIZER;CN="ABC Neuss":MAILTO:neuss{at}anderes-burnout-cafe.de
END:VEVENT
BEGIN:VEVENT
DTSTART;TZID=Europe/Paris:20250319T190000
DTEND;TZID=Europe/Paris:20250319T203000
DTSTAMP:20260420T161236
CREATED:20250113T121109Z
LAST-MODIFIED:20250120T145055Z
UID:10000509-1742410800-1742416200@anderes-burnout-cafe.de
SUMMARY:Selbsthilfegruppe ABC Hannover - offene Gesprächsrunde
DESCRIPTION:Die Selbsthilfegruppe ABC Hannover findet am 3. Mittwoch im statt. Wir treffen uns in Präsenz in der Voßstraße 11a (Hinterhaus) in 30161 Hannover in der Zeit von 19:00 bis 20:30 Uhr. \n \nThema: offene Gesprächsrunde\n \n\nMit unseren Selbsthilfegruppen tragen wir zur emotionalen Entlastung und gegenseitige Unterstützung bei. Die Teilnehmenden geben sich gegenseitige wertschätzende Lebenshilfe. Durch die Teilnahme wird das Selbstbewusstsein und das Selbstwertgefühl gestärkt. Frühwarnzeichen können rechtzeitig erkannt werden\, das soziale Netz wird durch den Austausch mit den Teilnehmenden gestärkt. Die Selbsthilfegruppen tragen dazu bei\, ein individuelles Krisennetzwerk und einen entsprechenden Krisenplan aufzubauen. Übungen tragen zur erfolgreichen Erweiterung der Strategien im Umgang mit der Erkrankung bei.\nAnmeldung\nDu kannst immer ohne Anmeldung kommen. Für die Organisation des Treffens wäre eine Anmeldung hilfreich. \nDie monatliche Selbsthilfegruppe Anderes Burnout-Café ermuntert die Teilnehmenden\, neue Sichtweisen zu einem bestimmten Thema auszuprobieren\, sich über Fremd- und Eigenwirkung der Übungen auszutauschen\, neue Handlungsmöglichkeiten zu erforschen und die eigene Lebenssituation neu zu bewerten. Darüber hinaus haben die Teilnehmenden die Möglichkeit\, mit anderen in einen persönlichen Erfahrungsaustausch zu kommen.  \nDie Veranstaltung wird durchgeführt von der Selbsthilfegruppe  ABC Hannover mit Unterstützung des Bundesverband Burnout und Depression e.V..  \nWeitere Veranstaltungen sind hier zu finden. \nInformationen zum Krankheitsbild sind hier auf den Seiten des Bundesverbandes zu finden. \nModeratorin\nStephanie \n 
URL:https://anderes-burnout-cafe.de/veranstaltungen/selbsthilfegruppe-abc-hannover-3
LOCATION:ABC Hannover
CATEGORIES:Hannover,Präsenz
ORGANIZER;CN="ABC Hannover":MAILTO:hannover@anderes-burnout-cafe.de
END:VEVENT
END:VCALENDAR