BEGIN:VCALENDAR
VERSION:2.0
PRODID:-//anderes-burnout-cafe - ECPv6.15.11//NONSGML v1.0//EN
CALSCALE:GREGORIAN
METHOD:PUBLISH
X-WR-CALNAME:anderes-burnout-cafe
X-ORIGINAL-URL:https://anderes-burnout-cafe.de
X-WR-CALDESC:Veranstaltungen für anderes-burnout-cafe
REFRESH-INTERVAL;VALUE=DURATION:PT1H
X-Robots-Tag:noindex
X-PUBLISHED-TTL:PT1H
BEGIN:VTIMEZONE
TZID:Europe/Paris
BEGIN:DAYLIGHT
TZOFFSETFROM:+0100
TZOFFSETTO:+0200
TZNAME:CEST
DTSTART:20230326T010000
END:DAYLIGHT
BEGIN:STANDARD
TZOFFSETFROM:+0200
TZOFFSETTO:+0100
TZNAME:CET
DTSTART:20231029T010000
END:STANDARD
BEGIN:DAYLIGHT
TZOFFSETFROM:+0100
TZOFFSETTO:+0200
TZNAME:CEST
DTSTART:20240331T010000
END:DAYLIGHT
BEGIN:STANDARD
TZOFFSETFROM:+0200
TZOFFSETTO:+0100
TZNAME:CET
DTSTART:20241027T010000
END:STANDARD
BEGIN:DAYLIGHT
TZOFFSETFROM:+0100
TZOFFSETTO:+0200
TZNAME:CEST
DTSTART:20250330T010000
END:DAYLIGHT
BEGIN:STANDARD
TZOFFSETFROM:+0200
TZOFFSETTO:+0100
TZNAME:CET
DTSTART:20251026T010000
END:STANDARD
END:VTIMEZONE
BEGIN:VEVENT
DTSTART;TZID=Europe/Paris:20241205T190000
DTEND;TZID=Europe/Paris:20241205T210000
DTSTAMP:20260420T210622
CREATED:20241019T095020Z
LAST-MODIFIED:20241127T102134Z
UID:10000365-1733425200-1733432400@anderes-burnout-cafe.de
SUMMARY:ABC Berlin-Schöneberg - fällt heute aus!
DESCRIPTION:Im Dezember fällt unser Gruppentreffen leider aus! \nDie Selbsthilfegruppe ABC Berlin-Schöneberg findet regelmäßig am 1. Donnerstag im Monat in der Zeit von 19:00 bis 21:00 Uhr statt.\nUnser Gruppentreffen findet in Präsenz statt in der Holsteinische Str. 30 (Raum 28 im Selbsthilfetreffpunkt Schöneberg\, nahe vom UBhf Friedrich-Wilhelm-Platz) in 12161 Berlin . \n(Zusatzhinweis: Da der Raum am nächsten Morgen von der Pekip-Gruppe genutzt wird\, kann er nicht mit Schuhen betreten werden. Alternativ können kostenlos zur Verfügung gestellte Überzieher genutzt werden.) \nThema:\n \nMit unseren Selbsthilfegruppen tragen wir zur emotionalen Entlastung und gegenseitige Unterstützung bei. Die Teilnehmenden geben sich gegenseitige wertschätzende Lebenshilfe. Durch die Teilnahme wird das Selbstbewusstsein und das Selbstwertgefühl gestärkt. Frühwarnzeichen können rechtzeitig erkannt werden\, das soziale Netz wird durch den Austausch mit den Teilnehmenden gestärkt. Die Selbsthilfegruppen tragen dazu bei\, ein individuelles Krisennetzwerk und einen entsprechenden Krisenplan aufzubauen. Übungen tragen zur erfolgreichen Erweiterung der Strategien im Umgang mit der Erkrankung bei. \nAnmeldung\nDu kannst immer ohne Anmeldung kommen. Für die Organisation des Treffens wäre eine Anmeldung hilfreich. \nDie monatliche Selbsthilfegruppe Anderes Burnout-Café ermuntert die Teilnehmenden\, neue Sichtweisen zu einem bestimmten Thema auszuprobieren\, sich über Fremd- und Eigenwirkung der Übungen auszutauschen\, neue Handlungsmöglichkeiten zu erforschen und die eigene Lebenssituation neu zu bewerten. Darüber hinaus haben die Teilnehmenden die Möglichkeit\, mit anderen in einen persönlichen Erfahrungsaustausch zu kommen.  \nDie Veranstaltung wird durchgeführt von der Selbsthilfegruppe  ABC Berlin-Schöneberg mit Unterstützung des Bundesverband Burnout und Depression e.V..  \nWeitere Veranstaltungen sind hier zu finden. \nInformationen zum Krankheitsbild sind hier auf den Seiten des Bundesverbandes zu finden. \nModerator\nPeter \n 
URL:https://anderes-burnout-cafe.de/veranstaltungen/abc-berlin-schoeneberg-2
LOCATION:ABC Berlin-Schöneberg\, Holsteinische Str. 30\, Berlin\, 12161\, Germany
CATEGORIES:Berlin-Schöneberg,Präsenz
END:VEVENT
BEGIN:VEVENT
DTSTART;TZID=Europe/Paris:20241220T100000
DTEND;TZID=Europe/Paris:20241220T120000
DTSTAMP:20260420T210622
CREATED:20240911T100300Z
LAST-MODIFIED:20241215T161314Z
UID:10000352-1734688800-1734696000@anderes-burnout-cafe.de
SUMMARY:Selbsthilfegruppe ABC Neuss - „Abgrenzung“
DESCRIPTION:Die Selbsthilfegruppe ABC Neuss findet immer am 3. Freitag im Monat von 10:00 bis 12:00 Uhr statt. Wir treffen uns in Präsenz im Selbsthilfe-Büro von PariSozial in der Oberstr. 21 in 41460 Neuss.\n \nThema: „Abgrenzung“\n \nFür einen gesunden Selbstwert ist die Fähigkeit\, Grenzen zu setzen\, sehr hilfreich. Doch viele Menschen haben keine innere Erlaubnis auch mal Stop oder Nein zu sagen. Sie nehmen immer alles auf sich\, ziehen jeden dargebotenen Schuh an und lassen sehr viel über sich ergehen. Sie fühlen sich schuldig\, wenn sie ein Nein sagen\, oder im Übermaß verpflichtet. Das ist auf Dauer oft erschöpfend!\nDoch das heißt im Umkehrschluss nicht\, dass man immer nein sagen muss. Und manchmal ist es auch hilfreich\, die Grenze wieder etwas aufzulösen … .\nWie ein gutes Gleichgewicht zwischen „Ja heißt Ja“ und „Nein heißt Nein“ hergestellt werden kann\, woher die Grenzverletzungen rühren und wie besser damit umgegangen werden kann\, erörtern wir an diesem Abend im ABC.\n  \nMit unseren Selbsthilfegruppen tragen wir zur emotionalen Entlastung und gegenseitige Unterstützung bei. Die Teilnehmenden geben sich gegenseitige wertschätzende Lebenshilfe. Durch die Teilnahme wird das Selbstbewusstsein und das Selbstwertgefühl gestärkt. Frühwarnzeichen können rechtzeitig erkannt werden\, das soziale Netz wird durch den Austausch mit den Teilnehmenden gestärkt. Die Selbsthilfegruppen tragen dazu bei\, ein individuelles Krisennetzwerk und einen entsprechenden Krisenplan aufzubauen. Übungen tragen zur erfolgreichen Erweiterung der Strategien im Umgang mit der Erkrankung bei. Kamile \nAnmeldung\nDu kannst immer ohne Anmeldung kommen. Für die Organisation des Treffens wäre eine Anmeldung hilfreich. \nDie monatliche Selbsthilfegruppe Anderes Burnout-Café ermuntert die Teilnehmenden\, neue Sichtweisen zu einem bestimmten Thema auszuprobieren\, sich über Fremd- und Eigenwirkung der Übungen auszutauschen\, neue Handlungsmöglichkeiten zu erforschen und die eigene Lebenssituation neu zu bewerten. Darüber hinaus haben die Teilnehmenden die Möglichkeit\, mit anderen in einen persönlichen Erfahrungsaustausch zu kommen.  \nDie Veranstaltung wird durchgeführt von der Selbsthilfegruppe  ABC Neuss mit Unterstützung des Bundesverband Burnout und Depression e.V..  \nWeitere Veranstaltungen sind hier zu finden. \nInformationen zum Krankheitsbild sind hier auf den Seiten des Bundesverbandes zu finden. \nModeratorin\nKamile
URL:https://anderes-burnout-cafe.de/veranstaltungen/selbsthilfegruppe-abc-neuss-abgrenzung
LOCATION:ABC Neuss\, Oberstraße 21\, Neuss\, 41460\, Deutschland
CATEGORIES:Neuss,Präsenz
ORGANIZER;CN="ABC Neuss":MAILTO:neuss{at}anderes-burnout-cafe.de
END:VEVENT
BEGIN:VEVENT
DTSTART;TZID=Europe/Paris:20241225T190000
DTEND;TZID=Europe/Paris:20241225T203000
DTSTAMP:20260420T210622
CREATED:20240925T120000Z
LAST-MODIFIED:20241122T141823Z
UID:10000360-1735153200-1735158600@anderes-burnout-cafe.de
SUMMARY:Selbsthilfegruppe ABC Hannover fällt im Dezember aus
DESCRIPTION:Die Selbsthilfegruppe ABC Hannover findet immer am 4. Mittwoch im Monat statt. Wir treffen uns in Präsenz in der Voßstraße 11a (Hinterhaus) in 30161 Hannover in der Zeit von 19:00 bis 20:30 Uhr. Im Dezember fällt unser Gruppentreffen aus! Schönes Weihnachtsfest!\n \nThema:\n \n\nMit unseren Selbsthilfegruppen tragen wir zur emotionalen Entlastung und gegenseitige Unterstützung bei. Die Teilnehmenden geben sich gegenseitige wertschätzende Lebenshilfe. Durch die Teilnahme wird das Selbstbewusstsein und das Selbstwertgefühl gestärkt. Frühwarnzeichen können rechtzeitig erkannt werden\, das soziale Netz wird durch den Austausch mit den Teilnehmenden gestärkt. Die Selbsthilfegruppen tragen dazu bei\, ein individuelles Krisennetzwerk und einen entsprechenden Krisenplan aufzubauen. Übungen tragen zur erfolgreichen Erweiterung der Strategien im Umgang mit der Erkrankung bei.\nAnmeldung\nDu kannst immer ohne Anmeldung kommen. Für die Organisation des Treffens wäre eine Anmeldung hilfreich. \nDie monatliche Selbsthilfegruppe Anderes Burnout-Café ermuntert die Teilnehmenden\, neue Sichtweisen zu einem bestimmten Thema auszuprobieren\, sich über Fremd- und Eigenwirkung der Übungen auszutauschen\, neue Handlungsmöglichkeiten zu erforschen und die eigene Lebenssituation neu zu bewerten. Darüber hinaus haben die Teilnehmenden die Möglichkeit\, mit anderen in einen persönlichen Erfahrungsaustausch zu kommen.  \nDie Veranstaltung wird durchgeführt von der Selbsthilfegruppe  ABC Hannover mit Unterstützung des Bundesverband Burnout und Depression e.V..  \nWeitere Veranstaltungen sind hier zu finden. \nInformationen zum Krankheitsbild sind hier auf den Seiten des Bundesverbandes zu finden. \nModeratorin\nStephanie \n 
URL:https://anderes-burnout-cafe.de/veranstaltungen/selbsthilfegruppe-abc-hannover-faellt-im-dezember-aus
LOCATION:ABC Hannover
CATEGORIES:Hannover
ORGANIZER;CN="ABC Hannover":MAILTO:hannover@anderes-burnout-cafe.de
END:VEVENT
END:VCALENDAR