BEGIN:VCALENDAR
VERSION:2.0
PRODID:-//anderes-burnout-cafe - ECPv6.15.11//NONSGML v1.0//EN
CALSCALE:GREGORIAN
METHOD:PUBLISH
X-WR-CALNAME:anderes-burnout-cafe
X-ORIGINAL-URL:https://anderes-burnout-cafe.de
X-WR-CALDESC:Veranstaltungen für anderes-burnout-cafe
REFRESH-INTERVAL;VALUE=DURATION:PT1H
X-Robots-Tag:noindex
X-PUBLISHED-TTL:PT1H
BEGIN:VTIMEZONE
TZID:Europe/Paris
BEGIN:DAYLIGHT
TZOFFSETFROM:+0100
TZOFFSETTO:+0200
TZNAME:CEST
DTSTART:20250330T010000
END:DAYLIGHT
BEGIN:STANDARD
TZOFFSETFROM:+0200
TZOFFSETTO:+0100
TZNAME:CET
DTSTART:20251026T010000
END:STANDARD
BEGIN:DAYLIGHT
TZOFFSETFROM:+0100
TZOFFSETTO:+0200
TZNAME:CEST
DTSTART:20260329T010000
END:DAYLIGHT
BEGIN:STANDARD
TZOFFSETFROM:+0200
TZOFFSETTO:+0100
TZNAME:CET
DTSTART:20261025T010000
END:STANDARD
BEGIN:DAYLIGHT
TZOFFSETFROM:+0100
TZOFFSETTO:+0200
TZNAME:CEST
DTSTART:20270328T010000
END:DAYLIGHT
BEGIN:STANDARD
TZOFFSETFROM:+0200
TZOFFSETTO:+0100
TZNAME:CET
DTSTART:20271031T010000
END:STANDARD
END:VTIMEZONE
BEGIN:VEVENT
DTSTART;TZID=Europe/Paris:20261124T183000
DTEND;TZID=Europe/Paris:20261124T204500
DTSTAMP:20260425T133032
CREATED:20251128T212742Z
LAST-MODIFIED:20260312T204153Z
UID:10000766-1795545000-1795553100@anderes-burnout-cafe.de
SUMMARY:Selbsthilfegruppe ABC München - Entscheidungen
DESCRIPTION:Die Selbsthilfegruppe ABC München findet regelmäßig in Präsenz am vierten Dienstag im Monat von 18:30 bis 20:45 Uhr im Haus der Missionen / 2. OG Rumänische Gemeinde München\, Dachauer Str. 23 80335 München \nWerte – Entscheidungen – Bauch oder Kopf\n \nBauch oder Kopf\nKennen Sie das Dilemma? In der Frage\, ob wir Entscheidungen aus dem Kopf oder dem Bauch heraus treffen sollen\, stoßen viele von uns schnell an ihre persönlichen Grenzen.\nEin starkes\, gesundes Selbstwertgefühl lebt von der Fähigkeit\, klar und selbstbewusst „Nein“ zu sagen. Doch genau das wird für viele zur größten Herausforderung. Statt die eigenen Bedürfnisse zu wahren\, fühlen wir uns oft verpflichtet\, alles zu akzeptieren und uns alles aufzuladen.\n➡️ Häufig steht ein Gefühl von Schuld im Weg\, wenn es darum geht\, sich abzugrenzen.\nDie gute Nachricht: Es geht nicht um ein ständiges Nein!\nEs ist entscheidend zu erkennen\, dass das Setzen von Grenzen nicht bedeutet\, immer die Ablehnung zu wählen. Vielmehr geht es um ein ausgewogenes Spiel zwischen dem klaren „Ja“ und dem nötigen „Nein“.\nAn unserem kommenden Abend im ABC wollen wir genau diese Balance diskutieren:\n• Warum fällt uns das „Nein“ so schwer?\n• Wie können wir lernen\, es mit mehr Leichtigkeit auszusprechen?\nLassen Sie uns gemeinsam Strategien entwickeln\, um besser mit unseren Entscheidungen umzugehen und ein tiefes Gefühl für die eigene Wertschätzung zu entwickeln.\nSeien Sie dabei und finden Sie Ihre Balance zwischen Kopf und Bauch!\n#Selbstwertgefühl #Abgrenzung #EntscheidungenTreffen #GrenzenSetzen #Persönlichkeitsentwicklung #BauchOderKopf #ABC \nMit unseren Selbsthilfegruppen tragen wir zur emotionalen Entlastung und gegenseitige Unterstützung bei. Die Teilnehmenden geben sich gegenseitige wertschätzende Lebenshilfe. Durch die Teilnahme wird das Selbstbewusstsein und das Selbstwertgefühl gestärkt. Frühwarnzeichen können rechtzeitig erkannt werden\, das soziale Netz wird durch den Austausch mit den Teilnehmenden gestärkt. Die Selbsthilfegruppen tragen dazu bei\, ein individuelles Krisennetzwerk und einen entsprechenden Krisenplan aufzubauen. Übungen tragen zur erfolgreichen Erweiterung der Strategien im Umgang mit der Erkrankung bei. \nAnmeldung für die Selbsthilfegruppe ABC München\n Um sicher zu gehen\, dass die Tür geöffnet wird\, melde dich bitte an. Danke. Für die Organisation des Treffens wäre eine Anmeldung hilfreich. \nDie monatliche Selbsthilfegruppe ermuntert die Teilnehmenden\, neue Sichtweisen zu einem bestimmten Thema auszuprobieren\, sich über Fremd- und Eigenwirkung der Übungen auszutauschen\, neue Handlungsmöglichkeiten zu erforschen und die eigene Lebenssituation neu zu bewerten. Darüber hinaus haben die Teilnehmenden die Möglichkeit\, mit anderen in einen persönlichen Erfahrungsaustausch zu kommen.  \nDie Veranstaltung wird durchgeführt von der Selbsthilfegruppe  ABC München mit Unterstützung des Bundesverband Burnout und Depression e.V.  \nWeitere Veranstaltungen sind hier zu finden. \nInformationen zum Krankheitsbild sind hier auf den Seiten des Bundesverbandes zu finden. \nModeratoren\nSilke Wolf |München (at) anderes-burnout-cafe.de\nOvidiu Bretan | 0177 2906292‬ | München (at) anderes-burnout-cafe.de
URL:https://anderes-burnout-cafe.de/veranstaltungen/selbsthilfegruppe-abc-muenchen-entscheidungen
LOCATION:ABC München\, Dachauer Str. 23\, München\, 80335\, Deutschland
CATEGORIES:München,Präsenz
ORGANIZER;CN="ABC M%C3%BCnchen":MAILTO:muenchen{at}anderes-burnout-cafe.de
END:VEVENT
END:VCALENDAR