BEGIN:VCALENDAR
VERSION:2.0
PRODID:-//anderes-burnout-cafe - ECPv6.15.11//NONSGML v1.0//EN
CALSCALE:GREGORIAN
METHOD:PUBLISH
X-WR-CALNAME:anderes-burnout-cafe
X-ORIGINAL-URL:https://anderes-burnout-cafe.de
X-WR-CALDESC:Veranstaltungen für anderes-burnout-cafe
REFRESH-INTERVAL;VALUE=DURATION:PT1H
X-Robots-Tag:noindex
X-PUBLISHED-TTL:PT1H
BEGIN:VTIMEZONE
TZID:Europe/Paris
BEGIN:DAYLIGHT
TZOFFSETFROM:+0100
TZOFFSETTO:+0200
TZNAME:CEST
DTSTART:20250330T010000
END:DAYLIGHT
BEGIN:STANDARD
TZOFFSETFROM:+0200
TZOFFSETTO:+0100
TZNAME:CET
DTSTART:20251026T010000
END:STANDARD
BEGIN:DAYLIGHT
TZOFFSETFROM:+0100
TZOFFSETTO:+0200
TZNAME:CEST
DTSTART:20260329T010000
END:DAYLIGHT
BEGIN:STANDARD
TZOFFSETFROM:+0200
TZOFFSETTO:+0100
TZNAME:CET
DTSTART:20261025T010000
END:STANDARD
BEGIN:DAYLIGHT
TZOFFSETFROM:+0100
TZOFFSETTO:+0200
TZNAME:CEST
DTSTART:20270328T010000
END:DAYLIGHT
BEGIN:STANDARD
TZOFFSETFROM:+0200
TZOFFSETTO:+0100
TZNAME:CET
DTSTART:20271031T010000
END:STANDARD
END:VTIMEZONE
BEGIN:VEVENT
DTSTART;TZID=Europe/Paris:20260728T183000
DTEND;TZID=Europe/Paris:20260728T204500
DTSTAMP:20260423T184005
CREATED:20251128T211800Z
LAST-MODIFIED:20260312T203815Z
UID:10000762-1785263400-1785271500@anderes-burnout-cafe.de
SUMMARY:Selbsthilfegruppe ABC München - Anerkennung
DESCRIPTION:Die Selbsthilfegruppe ABC München findet regelmäßig in Präsenz am vierten Dienstag im Monat von 18:30 bis 20:45 Uhr im Haus der Missionen / 2. OG Rumänische Gemeinde München\, Dachauer Str. 23 80335 München \nWerte – Anerkennung – Auch ein Mangel an Anerkennung macht krank\n \nAnerkennung – Der Schlüssel für die kommenden Schritte\nAnerkennung ist weit mehr als nur ein nettes Wort; sie ist der Schlüssel\, um in unserer dynamischen Welt nicht nur zu bestehen\, sondern auch tatsächlich zu gedeihen.\nDer Weg zu mehr Anerkennung beginnt oft mit der ehrlichen Wertschätzung unserer eigenen Stärken und der Stärken der Menschen um uns herum.\n• Indem wir uns gegenseitig anerkennen\, fördern wir aktiv ein Umfeld\, in dem Selbstvertrauen wachsen kann.\n• Jeder von uns besitzt einzigartige Talente und Erfahrungen\, die es wert sind\, gehört und geschätzt zu werden.\nWenn wir uns die Zeit nehmen\, die kleinen Erfolge\, die persönlichen Fortschritte und die gemeinsamen Anstrengungen bewusst zu würdigen\, stärken wir nicht nur unser eigenes Selbstbewusstsein. Wir zeigen auch anderen klar und deutlich\, dass ihre Beiträge von Bedeutung sind.\nLasst uns aktiv daran arbeiten\, eine Atmosphäre der Anerkennung zu schaffen – in unserem persönlichen Umfeld\, in der Gemeinschaft und darüber hinaus.\nIndem wir den Mut und die Gelassenheit\, die aus gegenseitiger Wertschätzung erwachsen\, kultivieren\, schaffen wir einen Raum\, in dem jeder Mensch die Möglichkeit hat\, zu wachsen und zu strahlen. Gemeinsam können wir die Kraft der Anerkennung nutzen\, um eine wahrhaft unterstützende Gemeinschaft aufzubauen\, die uns alle zu besseren Versionen unserer selbst macht. \n#Anerkennung #Wertschätzung #Gemeinschaft #Mut #Gelassenheit #Selbstvertrauen #ABC \nMit unseren Selbsthilfegruppen tragen wir zur emotionalen Entlastung und gegenseitige Unterstützung bei. Die Teilnehmenden geben sich gegenseitige wertschätzende Lebenshilfe. Durch die Teilnahme wird das Selbstbewusstsein und das Selbstwertgefühl gestärkt. Frühwarnzeichen können rechtzeitig erkannt werden\, das soziale Netz wird durch den Austausch mit den Teilnehmenden gestärkt. Die Selbsthilfegruppen tragen dazu bei\, ein individuelles Krisennetzwerk und einen entsprechenden Krisenplan aufzubauen. Übungen tragen zur erfolgreichen Erweiterung der Strategien im Umgang mit der Erkrankung bei. \nAnmeldung für die Selbsthilfegruppe ABC München\n Um sicher zu gehen\, dass die Tür geöffnet wird\, melde dich bitte an. Danke. Für die Organisation des Treffens wäre eine Anmeldung hilfreich. \nDie monatliche Selbsthilfegruppe ermuntert die Teilnehmenden\, neue Sichtweisen zu einem bestimmten Thema auszuprobieren\, sich über Fremd- und Eigenwirkung der Übungen auszutauschen\, neue Handlungsmöglichkeiten zu erforschen und die eigene Lebenssituation neu zu bewerten. Darüber hinaus haben die Teilnehmenden die Möglichkeit\, mit anderen in einen persönlichen Erfahrungsaustausch zu kommen.  \nDie Veranstaltung wird durchgeführt von der Selbsthilfegruppe  ABC München mit Unterstützung des Bundesverband Burnout und Depression e.V.  \nWeitere Veranstaltungen sind hier zu finden. \nInformationen zum Krankheitsbild sind hier auf den Seiten des Bundesverbandes zu finden. \nModeratoren\nSilke Wolf |München (at) anderes-burnout-cafe.de\nOvidiu Bretan | 0177 2906292‬ | München (at) anderes-burnout-cafe.de
URL:https://anderes-burnout-cafe.de/veranstaltungen/selbsthilfegruppe-abc-muenchen-anerkennung-2
LOCATION:ABC München\, Dachauer Str. 23\, München\, 80335\, Deutschland
CATEGORIES:München,Präsenz
ORGANIZER;CN="ABC M%C3%BCnchen":MAILTO:muenchen{at}anderes-burnout-cafe.de
END:VEVENT
END:VCALENDAR