BEGIN:VCALENDAR
VERSION:2.0
PRODID:-//anderes-burnout-cafe - ECPv6.15.11//NONSGML v1.0//EN
CALSCALE:GREGORIAN
METHOD:PUBLISH
X-ORIGINAL-URL:https://anderes-burnout-cafe.de
X-WR-CALDESC:Veranstaltungen für anderes-burnout-cafe
REFRESH-INTERVAL;VALUE=DURATION:PT1H
X-Robots-Tag:noindex
X-PUBLISHED-TTL:PT1H
BEGIN:VTIMEZONE
TZID:Europe/Paris
BEGIN:DAYLIGHT
TZOFFSETFROM:+0100
TZOFFSETTO:+0200
TZNAME:CEST
DTSTART:20250330T010000
END:DAYLIGHT
BEGIN:STANDARD
TZOFFSETFROM:+0200
TZOFFSETTO:+0100
TZNAME:CET
DTSTART:20251026T010000
END:STANDARD
BEGIN:DAYLIGHT
TZOFFSETFROM:+0100
TZOFFSETTO:+0200
TZNAME:CEST
DTSTART:20260329T010000
END:DAYLIGHT
BEGIN:STANDARD
TZOFFSETFROM:+0200
TZOFFSETTO:+0100
TZNAME:CET
DTSTART:20261025T010000
END:STANDARD
BEGIN:DAYLIGHT
TZOFFSETFROM:+0100
TZOFFSETTO:+0200
TZNAME:CEST
DTSTART:20270328T010000
END:DAYLIGHT
BEGIN:STANDARD
TZOFFSETFROM:+0200
TZOFFSETTO:+0100
TZNAME:CET
DTSTART:20271031T010000
END:STANDARD
END:VTIMEZONE
BEGIN:VEVENT
DTSTART;TZID=Europe/Paris:20260324T183000
DTEND;TZID=Europe/Paris:20260324T204500
DTSTAMP:20260423T104603
CREATED:20251128T210911Z
LAST-MODIFIED:20260312T202343Z
UID:10000758-1774377000-1774385100@anderes-burnout-cafe.de
SUMMARY:Selbsthilfegruppe ABC München - Achtsamkeit
DESCRIPTION:Die Selbsthilfegruppe ABC München findet regelmäßig in Präsenz am vierten Dienstag im Monat von 18:30 bis 20:45 Uhr im Haus der Missionen / 2. OG Rumänische Gemeinde München\, Dachauer Str. 23 80335 München \nWerte – Achtsamkeit\n \nUnser moderner Alltag ist oft eine Flucht: Wir sind mit unseren Gedanken entweder bei den Sorgen über die Zukunft oder bei der Analyse der Vergangenheit. Dieses permanente Denken hält uns in einem Modus des Multitaskings gefangen\, bei dem wir uns wie auf Autopilot fühlen und kaum im Moment präsent sind. Genau hier setzt Achtsamkeit an\, indem sie uns einen bewussten Ausstieg aus diesem Karussell ermöglicht. Achtsamkeit bedeutet\, die eigenen Gedanken\, Gefühle und Körperempfindungen im gegenwärtigen Moment ohne Wertung wahrzunehmen. Anstatt uns von den endlosen gedanklichen Schleifen steuern zu lassen\, lernen wir\, unsere Aufmerksamkeit aktiv zu lenken. Der Kern dieser Praxis liegt in der einfachen\, kraftvollen Präsenz: ICH – HIER – JETZT. Das ist der Anker\, der uns Klarheit\, Gelassenheit und wahre Lebensfreude schenkt. \nMit unseren Selbsthilfegruppen tragen wir zur emotionalen Entlastung und gegenseitige Unterstützung bei. Die Teilnehmenden geben sich gegenseitige wertschätzende Lebenshilfe. Durch die Teilnahme wird das Selbstbewusstsein und das Selbstwertgefühl gestärkt. Frühwarnzeichen können rechtzeitig erkannt werden\, das soziale Netz wird durch den Austausch mit den Teilnehmenden gestärkt. Die Selbsthilfegruppen tragen dazu bei\, ein individuelles Krisennetzwerk und einen entsprechenden Krisenplan aufzubauen. Übungen tragen zur erfolgreichen Erweiterung der Strategien im Umgang mit der Erkrankung bei. \nAnmeldung für die Selbsthilfegruppe ABC München\n Um sicher zu gehen\, dass die Tür geöffnet wird\, melde dich bitte an. Danke. Für die Organisation des Treffens wäre eine Anmeldung hilfreich. \nDie monatliche Selbsthilfegruppe ermuntert die Teilnehmenden\, neue Sichtweisen zu einem bestimmten Thema auszuprobieren\, sich über Fremd- und Eigenwirkung der Übungen auszutauschen\, neue Handlungsmöglichkeiten zu erforschen und die eigene Lebenssituation neu zu bewerten. Darüber hinaus haben die Teilnehmenden die Möglichkeit\, mit anderen in einen persönlichen Erfahrungsaustausch zu kommen.  \nDie Veranstaltung wird durchgeführt von der Selbsthilfegruppe  ABC München mit Unterstützung des Bundesverband Burnout und Depression e.V.  \nWeitere Veranstaltungen sind hier zu finden. \nInformationen zum Krankheitsbild sind hier auf den Seiten des Bundesverbandes zu finden. \nModeratoren\n \nSilke Wolf |München (at) anderes-burnout-cafe.de \nOvidiu Bretan | 0177 2906292‬ | München (at) anderes-burnout-cafe.de
URL:https://anderes-burnout-cafe.de/veranstaltungen/selbsthilfegruppe-abc-muenchen-achtsamkeit
LOCATION:ABC München\, Dachauer Str. 23\, München\, 80335\, Deutschland
CATEGORIES:München,Präsenz
ORGANIZER;CN="ABC M%C3%BCnchen":MAILTO:muenchen{at}anderes-burnout-cafe.de
END:VEVENT
END:VCALENDAR