BEGIN:VCALENDAR
VERSION:2.0
PRODID:-//anderes-burnout-cafe - ECPv6.15.11//NONSGML v1.0//EN
CALSCALE:GREGORIAN
METHOD:PUBLISH
X-ORIGINAL-URL:https://anderes-burnout-cafe.de
X-WR-CALDESC:Veranstaltungen für anderes-burnout-cafe
REFRESH-INTERVAL;VALUE=DURATION:PT1H
X-Robots-Tag:noindex
X-PUBLISHED-TTL:PT1H
BEGIN:VTIMEZONE
TZID:Europe/Paris
BEGIN:DAYLIGHT
TZOFFSETFROM:+0100
TZOFFSETTO:+0200
TZNAME:CEST
DTSTART:20240331T010000
END:DAYLIGHT
BEGIN:STANDARD
TZOFFSETFROM:+0200
TZOFFSETTO:+0100
TZNAME:CET
DTSTART:20241027T010000
END:STANDARD
BEGIN:DAYLIGHT
TZOFFSETFROM:+0100
TZOFFSETTO:+0200
TZNAME:CEST
DTSTART:20250330T010000
END:DAYLIGHT
BEGIN:STANDARD
TZOFFSETFROM:+0200
TZOFFSETTO:+0100
TZNAME:CET
DTSTART:20251026T010000
END:STANDARD
BEGIN:DAYLIGHT
TZOFFSETFROM:+0100
TZOFFSETTO:+0200
TZNAME:CEST
DTSTART:20260329T010000
END:DAYLIGHT
BEGIN:STANDARD
TZOFFSETFROM:+0200
TZOFFSETTO:+0100
TZNAME:CET
DTSTART:20261025T010000
END:STANDARD
END:VTIMEZONE
BEGIN:VEVENT
DTSTART;TZID=Europe/Paris:20250924T183000
DTEND;TZID=Europe/Paris:20250924T204500
DTSTAMP:20260423T201347
CREATED:20250602T152405Z
LAST-MODIFIED:20250602T152405Z
UID:10000623-1758738600-1758746700@anderes-burnout-cafe.de
SUMMARY:Selbsthilfegruppe ABC München - Filter\, Brillen und Bewertung
DESCRIPTION:Die Selbsthilfegruppe ABC München findet regelmäßig in Präsenz statt. Wir treffen uns am vierten Mittwoch im Monat von 18:30 bis 20:45 .\nHaus der Missionen / 2. OG Rumänische Gemeinde München\, Dachauer Str. 23 80335 München \nThema: Filter\, Brillen und Bewertung\n \nVergangenes neu deuten können.  \nDer Mensch hat die Gabe\, Situationen aus früherer Zeit mit dem Anspruch der jetzigen Erfahrung zu bewerten. Wenn wir also als Kind eine unliebsame Situation erlebt haben\, dann wachsen wir mit der Bewertung dieser Erfahrung heran. Dabei verändert sich die Bewertung von Alter zu Alter – und wird häufig dramatischer. Wichtige\, oft gute Teile der Erinnerung verblassen\, die eigentlichen Ressourcen und Fähigkeiten verschwimmen. Wird diese Erinnerung weiter so hingenommen\, kann das hinderliche Auswirkungen haben. Wir fühlen uns als Erwachsener in Situationen hilflos oder handlungsunfähig\, weil wir sie mit der Situation aus der Kindheit verwechseln – und uns dann unbewusst wieder wie ein Kind verhalten (z.B. bei Prüfungsangst oder in konflikthaften Situationen).\nDas kann man mit Übungen bewusst ändern. Die Vergangenheit kann natürlich nicht geändert werden – doch die Bedeutung\, die wir ihr geben\, kann selbst gesteuert werden. Für eine angenehmere Zukunft!\n  \nMit unseren Selbsthilfegruppen tragen wir zur emotionalen Entlastung und gegenseitige Unterstützung bei. Die Teilnehmenden geben sich gegenseitige wertschätzende Lebenshilfe. Durch die Teilnahme wird das Selbstbewusstsein und das Selbstwertgefühl gestärkt. Frühwarnzeichen können rechtzeitig erkannt werden\, das soziale Netz wird durch den Austausch mit den Teilnehmenden gestärkt. Die Selbsthilfegruppen tragen dazu bei\, ein individuelles Krisennetzwerk und einen entsprechenden Krisenplan aufzubauen. Übungen tragen zur erfolgreichen Erweiterung der Strategien im Umgang mit der Erkrankung bei. \nAnmeldung für die Selbsthilfegruppe ABC München\nDu kannst immer ohne Anmeldung kommen. Für die Organisation des Treffens wäre eine Anmeldung hilfreich. \nDie monatliche Selbsthilfegruppe ermuntert die Teilnehmenden\, neue Sichtweisen zu einem bestimmten Thema auszuprobieren\, sich über Fremd- und Eigenwirkung der Übungen auszutauschen\, neue Handlungsmöglichkeiten zu erforschen und die eigene Lebenssituation neu zu bewerten. Darüber hinaus haben die Teilnehmenden die Möglichkeit\, mit anderen in einen persönlichen Erfahrungsaustausch zu kommen.  \nDie Veranstaltung wird durchgeführt von der Selbsthilfegruppe  ABC München mit Unterstützung des Bundesverband Burnout und Depression e.V.  \nWeitere Veranstaltungen sind hier zu finden. \nInformationen zum Krankheitsbild sind hier auf den Seiten des Bundesverbandes zu finden. \nModeratoren\nVictor Czenter | 0151 40253091‬ | München (at) anderes-burnout-cafe.de\nOvidiu Bretan | 0177 2906292‬ | München (at) anderes-burnout-cafe.de
URL:https://anderes-burnout-cafe.de/veranstaltungen/selbsthilfegruppe-abc-muenchen-filter-brillen-und-bewertung
LOCATION:ABC München\, Dachauer Str. 23\, München\, 80335\, Deutschland
CATEGORIES:München,Präsenz
ORGANIZER;CN="ABC M%C3%BCnchen":MAILTO:muenchen{at}anderes-burnout-cafe.de
END:VEVENT
END:VCALENDAR