BEGIN:VCALENDAR
VERSION:2.0
PRODID:-//anderes-burnout-cafe - ECPv6.15.11//NONSGML v1.0//EN
CALSCALE:GREGORIAN
METHOD:PUBLISH
X-WR-CALNAME:anderes-burnout-cafe
X-ORIGINAL-URL:https://anderes-burnout-cafe.de
X-WR-CALDESC:Veranstaltungen für anderes-burnout-cafe
REFRESH-INTERVAL;VALUE=DURATION:PT1H
X-Robots-Tag:noindex
X-PUBLISHED-TTL:PT1H
BEGIN:VTIMEZONE
TZID:Europe/Paris
BEGIN:DAYLIGHT
TZOFFSETFROM:+0100
TZOFFSETTO:+0200
TZNAME:CEST
DTSTART:20240331T010000
END:DAYLIGHT
BEGIN:STANDARD
TZOFFSETFROM:+0200
TZOFFSETTO:+0100
TZNAME:CET
DTSTART:20241027T010000
END:STANDARD
BEGIN:DAYLIGHT
TZOFFSETFROM:+0100
TZOFFSETTO:+0200
TZNAME:CEST
DTSTART:20250330T010000
END:DAYLIGHT
BEGIN:STANDARD
TZOFFSETFROM:+0200
TZOFFSETTO:+0100
TZNAME:CET
DTSTART:20251026T010000
END:STANDARD
BEGIN:DAYLIGHT
TZOFFSETFROM:+0100
TZOFFSETTO:+0200
TZNAME:CEST
DTSTART:20260329T010000
END:DAYLIGHT
BEGIN:STANDARD
TZOFFSETFROM:+0200
TZOFFSETTO:+0100
TZNAME:CET
DTSTART:20261025T010000
END:STANDARD
END:VTIMEZONE
BEGIN:VEVENT
DTSTART;TZID=Europe/Paris:20250521T183000
DTEND;TZID=Europe/Paris:20250521T204500
DTSTAMP:20260425T170448
CREATED:20250113T164041Z
LAST-MODIFIED:20250526T152828Z
UID:10000518-1747852200-1747860300@anderes-burnout-cafe.de
SUMMARY:Selbsthilfegruppe ABC München - Mut und Gelassenheit
DESCRIPTION:Die Selbsthilfegruppe ABC München findet regelmäßig in Präsenz statt. Wir treffen uns am vierten Mittwoch im Monat von 18:30 bis 20:45 .\nHaus der Missionen / 2. OG Rumänische Gemeinde München\, Dachauer Str. 23 80335 München.\nIm Mai treffen wir uns ausnahmsweise bereits am dritten Mittwoch (21.05.). \nThema: Mut und Gelassenheit\n \nMut und Gelassenheit sind zwei Eigenschaften\, die uns helfen\, in einer schnelllebigen und oft unsicheren Welt zu bestehen. Doch was braucht es\, um in Zukunft gelassener oder mutiger zu werden? Das ist eine Frage\, die viele von uns beschäftigt\, und die Antwort kann in verschiedenen Facetten unserer persönlichen und gemeinschaftlichen Entwicklung liegen. Zunächst einmal erfordert Mut ein gewisses Maß an Selbstvertrauen. Wir müssen lernen\, an unsere Fähigkeiten zu glauben und die Angst vor dem Scheitern zu überwinden. Um dies zu erreichen\, ist es wichtig\, dass wir uns ständig herausfordern. Kleine Schritte\, die uns aus unserer Komfortzone bringen\, können viel bewirken. Jedes Mal\, wenn wir etwas wagen – sei es\, eine neue Fähigkeit zu erlernen oder uns in einer schwierigen Situation zu äußern – stärken wir unser Vertrauen in uns selbst. \nGelassenheit hingegen beginnt oft in unserem Inneren. Es ist die Fähigkeit\, inmitten von Chaos und Unsicherheit Ruhe zu bewahren. Um gelassener zu werden\, müssen wir lernen\, die Dinge loszulassen\, die außerhalb unserer Kontrolle liegen. Achtsamkeit und Meditation sind wirkungsvolle Techniken\, um unser inneres Gleichgewicht zu finden. Indem wir uns regelmäßig Zeit für uns selbst nehmen\, können wir die Verbindung zu unseren Gedanken und Gefühlen stärken und lernen\, besser mit Stress umzugehen.Ich ermutige euch\, eure Ideen und Ziele hier zu teilen. Lasst uns gemeinsam daran arbeiten\, dass wir uns gegenseitig inspirieren und unterstützen\, um unsere Träume Realität werden zu lassen. Denn Mut und Gelassenheit sind nicht nur individuelle Eigenschaften\, sondern auch das Ergebnis einer starken Gemeinschaft\, die einander auf dem Weg begleitet. \nMit unseren Selbsthilfegruppen tragen wir zur emotionalen Entlastung und gegenseitige Unterstützung bei. Die Teilnehmenden geben sich gegenseitige wertschätzende Lebenshilfe. Durch die Teilnahme wird das Selbstbewusstsein und das Selbstwertgefühl gestärkt. Frühwarnzeichen können rechtzeitig erkannt werden\, das soziale Netz wird durch den Austausch mit den Teilnehmenden gestärkt. Die Selbsthilfegruppen tragen dazu bei\, ein individuelles Krisennetzwerk und einen entsprechenden Krisenplan aufzubauen. Übungen tragen zur erfolgreichen Erweiterung der Strategien im Umgang mit der Erkrankung bei. \nAnmeldung für die Selbsthilfegruppe ABC München\nDu kannst immer ohne Anmeldung kommen. Für die Organisation des Treffens wäre eine Anmeldung hilfreich. \nDie monatliche Selbsthilfegruppe ermuntert die Teilnehmenden\, neue Sichtweisen zu einem bestimmten Thema auszuprobieren\, sich über Fremd- und Eigenwirkung der Übungen auszutauschen\, neue Handlungsmöglichkeiten zu erforschen und die eigene Lebenssituation neu zu bewerten. Darüber hinaus haben die Teilnehmenden die Möglichkeit\, mit anderen in einen persönlichen Erfahrungsaustausch zu kommen.  \nDie Veranstaltung wird durchgeführt von der Selbsthilfegruppe  ABC München mit Unterstützung des Bundesverband Burnout und Depression e.V.  \nWeitere Veranstaltungen sind hier zu finden. \nInformationen zum Krankheitsbild sind hier auf den Seiten des Bundesverbandes zu finden. \nModeratoren\nVictor Czenter | 0151 40253091‬ | München (at) anderes-burnout-cafe.de\nOvidiu Bretan | 0177 2906292‬ | München (at) anderes-burnout-cafe.de
URL:https://anderes-burnout-cafe.de/veranstaltungen/selbsthilfegruppe-abc-muenchen-mut-und-gelassenheit
LOCATION:ABC München\, Dachauer Str. 23\, München\, 80335\, Deutschland
CATEGORIES:München,Präsenz
ORGANIZER;CN="ABC M%C3%BCnchen":MAILTO:muenchen{at}anderes-burnout-cafe.de
END:VEVENT
END:VCALENDAR