BEGIN:VCALENDAR
VERSION:2.0
PRODID:-//anderes-burnout-cafe - ECPv6.15.11//NONSGML v1.0//EN
CALSCALE:GREGORIAN
METHOD:PUBLISH
X-WR-CALNAME:anderes-burnout-cafe
X-ORIGINAL-URL:https://anderes-burnout-cafe.de
X-WR-CALDESC:Veranstaltungen für anderes-burnout-cafe
REFRESH-INTERVAL;VALUE=DURATION:PT1H
X-Robots-Tag:noindex
X-PUBLISHED-TTL:PT1H
BEGIN:VTIMEZONE
TZID:Europe/Paris
BEGIN:DAYLIGHT
TZOFFSETFROM:+0100
TZOFFSETTO:+0200
TZNAME:CEST
DTSTART:20240331T010000
END:DAYLIGHT
BEGIN:STANDARD
TZOFFSETFROM:+0200
TZOFFSETTO:+0100
TZNAME:CET
DTSTART:20241027T010000
END:STANDARD
BEGIN:DAYLIGHT
TZOFFSETFROM:+0100
TZOFFSETTO:+0200
TZNAME:CEST
DTSTART:20250330T010000
END:DAYLIGHT
BEGIN:STANDARD
TZOFFSETFROM:+0200
TZOFFSETTO:+0100
TZNAME:CET
DTSTART:20251026T010000
END:STANDARD
BEGIN:DAYLIGHT
TZOFFSETFROM:+0100
TZOFFSETTO:+0200
TZNAME:CEST
DTSTART:20260329T010000
END:DAYLIGHT
BEGIN:STANDARD
TZOFFSETFROM:+0200
TZOFFSETTO:+0100
TZNAME:CET
DTSTART:20261025T010000
END:STANDARD
END:VTIMEZONE
BEGIN:VEVENT
DTSTART;TZID=Europe/Paris:20250326T183000
DTEND;TZID=Europe/Paris:20250326T204500
DTSTAMP:20260425T195258
CREATED:20250113T121222Z
LAST-MODIFIED:20250113T162727Z
UID:10000511-1743013800-1743021900@anderes-burnout-cafe.de
SUMMARY:Selbsthilfegruppe ABC München - Achtsamkeit
DESCRIPTION:Die Selbsthilfegruppe ABC München findet regelmäßig in Präsenz statt. Wir treffen uns am vierten Mittwoch im Monat von 18:30 bis 20:45 .\nHaus der Missionen / 2. OG Rumänische Gemeinde München\, Dachauer Str. 23 80335 München \nThema: Achtsamkeit\n \nUnd was ist\, wenn ich es gar nicht bemerke? Achtsamkeit ist ein viel diskutiertes Thema. Aber was bedeutet es eigentlich? Für uns ist Achtsamkeit die Grundlage jeder Veränderung. Wenn ich bei mir selbst keine Veränderungen wahrnehmen kann\, habe ich auch keinen Grund\, mich anzustrengen\, etwas zu verändern. Es geht bei Achtsamkeit darum\, die Fähigkeit zu fördern\, die Signale unseres Körpers wahrzunehmen. Wir möchten uns unserer Atmung und Gedanken bewusst werden. \nIn unseren Selbsthilfegruppen leisten wir einen Beitrag zur emotionalen Entlastung und gegenseitigen Unterstützung. Die Teilnehmenden bieten sich gegenseitig wertvolle Lebenshilfe. Durch die Teilnahme wird das Selbstbewusstsein und Selbstwertgefühl gestärkt. Frühwarnzeichen können rechtzeitig erkannt werden\, und das soziale Netzwerk wird durch den Austausch mit anderen Teilnehmenden gefestigt. Die Selbsthilfegruppen helfen dabei\, ein individuelles Krisennetzwerk sowie einen passenden Krisenplan zu entwickeln. Verschiedene Übungen tragen dazu bei\, die Strategien im Umgang mit der Erkrankung erfolgreich zu erweitern. \n  \nAnmeldung für die Selbsthilfegruppe ABC München\nDu kannst immer ohne Anmeldung kommen. Für die Organisation des Treffens wäre eine Anmeldung hilfreich. \nDie monatliche Selbsthilfegruppe ermuntert die Teilnehmenden\, neue Sichtweisen zu einem bestimmten Thema auszuprobieren\, sich über Fremd- und Eigenwirkung der Übungen auszutauschen\, neue Handlungsmöglichkeiten zu erforschen und die eigene Lebenssituation neu zu bewerten. Darüber hinaus haben die Teilnehmenden die Möglichkeit\, mit anderen in einen persönlichen Erfahrungsaustausch zu kommen.  \nDie Veranstaltung wird durchgeführt von der Selbsthilfegruppe  ABC München mit Unterstützung des Bundesverband Burnout und Depression e.V.  \nWeitere Veranstaltungen sind hier zu finden. \nInformationen zum Krankheitsbild sind hier auf den Seiten des Bundesverbandes zu finden. \nModeratoren\nVictor Czenter | 0151 40253091‬ | München (at) anderes-burnout-cafe.de\nOvidiu Bretan | 0177 2906292‬ | München (at) anderes-burnout-cafe.de
URL:https://anderes-burnout-cafe.de/veranstaltungen/selbsthilfegruppe-abc-muenchen-3
LOCATION:ABC München\, Dachauer Str. 23\, München\, 80335\, Deutschland
CATEGORIES:München,Präsenz
ORGANIZER;CN="ABC M%C3%BCnchen":MAILTO:muenchen{at}anderes-burnout-cafe.de
END:VEVENT
END:VCALENDAR