BEGIN:VCALENDAR
VERSION:2.0
PRODID:-//anderes-burnout-cafe - ECPv6.15.11//NONSGML v1.0//EN
CALSCALE:GREGORIAN
METHOD:PUBLISH
X-WR-CALNAME:anderes-burnout-cafe
X-ORIGINAL-URL:https://anderes-burnout-cafe.de
X-WR-CALDESC:Veranstaltungen für anderes-burnout-cafe
REFRESH-INTERVAL;VALUE=DURATION:PT1H
X-Robots-Tag:noindex
X-PUBLISHED-TTL:PT1H
BEGIN:VTIMEZONE
TZID:Europe/Paris
BEGIN:DAYLIGHT
TZOFFSETFROM:+0100
TZOFFSETTO:+0200
TZNAME:CEST
DTSTART:20240331T010000
END:DAYLIGHT
BEGIN:STANDARD
TZOFFSETFROM:+0200
TZOFFSETTO:+0100
TZNAME:CET
DTSTART:20241027T010000
END:STANDARD
BEGIN:DAYLIGHT
TZOFFSETFROM:+0100
TZOFFSETTO:+0200
TZNAME:CEST
DTSTART:20250330T010000
END:DAYLIGHT
BEGIN:STANDARD
TZOFFSETFROM:+0200
TZOFFSETTO:+0100
TZNAME:CET
DTSTART:20251026T010000
END:STANDARD
BEGIN:DAYLIGHT
TZOFFSETFROM:+0100
TZOFFSETTO:+0200
TZNAME:CEST
DTSTART:20260329T010000
END:DAYLIGHT
BEGIN:STANDARD
TZOFFSETFROM:+0200
TZOFFSETTO:+0100
TZNAME:CET
DTSTART:20261025T010000
END:STANDARD
END:VTIMEZONE
BEGIN:VEVENT
DTSTART;TZID=Europe/Paris:20250226T183000
DTEND;TZID=Europe/Paris:20250226T204500
DTSTAMP:20260425T212114
CREATED:20250113T161430Z
LAST-MODIFIED:20250131T144601Z
UID:10000514-1740594600-1740602700@anderes-burnout-cafe.de
SUMMARY:Selbsthilfegruppe ABC München - Grenzen setzen – der gesunde Selbstwert
DESCRIPTION:Die Selbsthilfegruppe ABC München findet regelmäßig in Präsenz statt. Wir treffen uns am vierten Mittwoch im Monat von 18:30 bis 20:45 .\nHaus der Missionen / 2. OG Rumänische Gemeinde München\, Dachauer Str. 23 80335 München \nThema: Grenzen setzen – der gesunde Selbstwert\n \nFür einen gesunden Selbstwert ist die Fähigkeit\, Grenzen zu setzen\, sehr hilfreich. Doch viele Menschen haben keine innere Erlaubnis auch mal “Stop” oder “Nein” zu sagen. Sie nehmen immer alles auf sich\, ziehen jeden dargebotenen Schuh an und lassen sehr viel über sich ergehen. Sie fühlen sich schuldig\, wenn sie ein “Nein” sagen\, oder im Übermaß verpflichtet. Das ist auf Dauer oft erschöpfend!  Doch das heißt im Umkehrschluss nicht\, dass man immer nein sagen muss. Und manchmal ist es auch hilfreich die Grenze wieder etwas aufzulösen. Wie ein gutes Gleichgewicht zwischen “Ja heißt Ja” und “Nein heißt Nein” hergestellt werden kann\, warum es uns so schwerfällt dieses “NEIN” und wie wir besser damit umgehen können\, erörtern wir an diesem Abend im ABC. \nMit unseren Selbsthilfegruppen tragen wir zur emotionalen Entlastung und gegenseitige Unterstützung bei. Die Teilnehmenden geben sich gegenseitige wertschätzende Lebenshilfe. Durch die Teilnahme wird das Selbstbewusstsein und das Selbstwertgefühl gestärkt. Frühwarnzeichen können rechtzeitig erkannt werden\, das soziale Netz wird durch den Austausch mit den Teilnehmenden gestärkt. Die Selbsthilfegruppen tragen dazu bei\, ein individuelles Krisennetzwerk und einen entsprechenden Krisenplan aufzubauen. Übungen tragen zur erfolgreichen Erweiterung der Strategien im Umgang mit der Erkrankung bei. \nAnmeldung für die Selbsthilfegruppe ABC München\nDu kannst immer ohne Anmeldung kommen. Für die Organisation des Treffens wäre eine Anmeldung hilfreich. \nDie monatliche Selbsthilfegruppe ermuntert die Teilnehmenden\, neue Sichtweisen zu einem bestimmten Thema auszuprobieren\, sich über Fremd- und Eigenwirkung der Übungen auszutauschen\, neue Handlungsmöglichkeiten zu erforschen und die eigene Lebenssituation neu zu bewerten. Darüber hinaus haben die Teilnehmenden die Möglichkeit\, mit anderen in einen persönlichen Erfahrungsaustausch zu kommen.  \nDie Veranstaltung wird durchgeführt von der Selbsthilfegruppe  ABC München mit Unterstützung des Bundesverband Burnout und Depression e.V.  \nWeitere Veranstaltungen sind hier zu finden. \nInformationen zum Krankheitsbild sind hier auf den Seiten des Bundesverbandes zu finden. \nModeratoren\nVictor Czenter | 0151 40253091‬ | München (at) anderes-burnout-cafe.de\nOvidiu Bretan | 0177 2906292‬ | München (at) anderes-burnout-cafe.de
URL:https://anderes-burnout-cafe.de/veranstaltungen/selbsthilfegruppe-abc-muenchen-grenzen-setzen-der-gesunde-selbstwert
LOCATION:ABC München\, Dachauer Str. 23\, München\, 80335\, Deutschland
CATEGORIES:München,Präsenz
ORGANIZER;CN="ABC M%C3%BCnchen":MAILTO:muenchen{at}anderes-burnout-cafe.de
END:VEVENT
END:VCALENDAR