BEGIN:VCALENDAR
VERSION:2.0
PRODID:-//anderes-burnout-cafe - ECPv6.15.11//NONSGML v1.0//EN
CALSCALE:GREGORIAN
METHOD:PUBLISH
X-WR-CALNAME:anderes-burnout-cafe
X-ORIGINAL-URL:https://anderes-burnout-cafe.de
X-WR-CALDESC:Veranstaltungen für anderes-burnout-cafe
REFRESH-INTERVAL;VALUE=DURATION:PT1H
X-Robots-Tag:noindex
X-PUBLISHED-TTL:PT1H
BEGIN:VTIMEZONE
TZID:Europe/Paris
BEGIN:DAYLIGHT
TZOFFSETFROM:+0100
TZOFFSETTO:+0200
TZNAME:CEST
DTSTART:20230326T010000
END:DAYLIGHT
BEGIN:STANDARD
TZOFFSETFROM:+0200
TZOFFSETTO:+0100
TZNAME:CET
DTSTART:20231029T010000
END:STANDARD
BEGIN:DAYLIGHT
TZOFFSETFROM:+0100
TZOFFSETTO:+0200
TZNAME:CEST
DTSTART:20240331T010000
END:DAYLIGHT
BEGIN:STANDARD
TZOFFSETFROM:+0200
TZOFFSETTO:+0100
TZNAME:CET
DTSTART:20241027T010000
END:STANDARD
BEGIN:DAYLIGHT
TZOFFSETFROM:+0100
TZOFFSETTO:+0200
TZNAME:CEST
DTSTART:20250330T010000
END:DAYLIGHT
BEGIN:STANDARD
TZOFFSETFROM:+0200
TZOFFSETTO:+0100
TZNAME:CET
DTSTART:20251026T010000
END:STANDARD
END:VTIMEZONE
BEGIN:VEVENT
DTSTART;TZID=Europe/Paris:20241218T183000
DTEND;TZID=Europe/Paris:20241218T204500
DTSTAMP:20260426T003907
CREATED:20240627T083207Z
LAST-MODIFIED:20241109T120842Z
UID:10000329-1734546600-1734554700@anderes-burnout-cafe.de
SUMMARY:Selbsthilfegruppe ABC München - "Grenzen setzen"
DESCRIPTION:Die Selbsthilfegruppe ABC München findet regelmäßig in Präsenz statt. Wir treffen uns am vierten Mittwoch im Monat von 18:30 bis 20:45 .\nHaus der Missionen / 2. OG Rumänische Gemeinde München\, Dachauer Str. 23 80335 München \nIm Dezember trifft sich unsere Gruppe wegen Weihnachten eine Woche früher\, also am 18. 12.\n \nThema: „Grenzen setzen“\n \nDas Thema „Grenzen setzen“ ist sowohl facettenreich als auch von großer Bedeutung für unser emotionales Wohlbefinden. Hier sind einige Impulse\, die du in unser Abend im ABC bekommen wirst: Die Bedeutung des „Nein“!\n– Selbstwert und Identität: Erörtere\, wie das Setzen von Grenzen und das Ausdrücken von „Nein“ zur Stärkung des Selbstwertgefühls beiträgt.\n– Schuldgefühle: Sprich über die typischen Schuldgefühle\, die Menschen empfinden\, wenn sie „Nein“ sagen\, und wie man diese Gefühle hinterfragen kann.\nUnd auch einige Übungen:\n– Grenzen kartieren: Lass die Teilnehmer eine Liste ihrer persönlichen Grenzen und Bedürfnisse erstellen. Was ist für sie nicht verhandelbar?\n– Reflexion über vergangene Erfahrungen: Ermutige die Teilnehmer\, über Situationen nachzudenken\, in denen sie ihre Grenzen nicht gewahrt haben und was sie in Zukunft anders machen würden. \nMit unseren Selbsthilfegruppen tragen wir zur emotionalen Entlastung und gegenseitige Unterstützung bei. Die Teilnehmenden geben sich gegenseitige wertschätzende Lebenshilfe. Durch die Teilnahme wird das Selbstbewusstsein und das Selbstwertgefühl gestärkt. Frühwarnzeichen können rechtzeitig erkannt werden\, das soziale Netz wird durch den Austausch mit den Teilnehmenden gestärkt. Die Selbsthilfegruppen tragen dazu bei\, ein individuelles Krisennetzwerk und einen entsprechenden Krisenplan aufzubauen. Übungen tragen zur erfolgreichen Erweiterung der Strategien im Umgang mit der Erkrankung bei. \nAnmeldung für die Selbsthilfegruppe ABC München\nDu kannst immer ohne Anmeldung kommen. Für die Organisation des Treffens wäre eine Anmeldung hilfreich. \nDie monatliche Selbsthilfegruppe ermuntert die Teilnehmenden\, neue Sichtweisen zu einem bestimmten Thema auszuprobieren\, sich über Fremd- und Eigenwirkung der Übungen auszutauschen\, neue Handlungsmöglichkeiten zu erforschen und die eigene Lebenssituation neu zu bewerten. Darüber hinaus haben die Teilnehmenden die Möglichkeit\, mit anderen in einen persönlichen Erfahrungsaustausch zu kommen.  \nDie Veranstaltung wird durchgeführt von der Selbsthilfegruppe  ABC München mit Unterstützung des Bundesverband Burnout und Depression e.V.  \nWeitere Veranstaltungen sind hier zu finden. \nInformationen zum Krankheitsbild sind hier auf den Seiten des Bundesverbandes zu finden. \nModeratoren\nVictor Czenter | 0151 40253091‬ | München (at) anderes-burnout-cafe.de\nOvidiu Bretan | 0177 2906292‬ | München (at) anderes-burnout-cafe.de
URL:https://anderes-burnout-cafe.de/veranstaltungen/selbsthilfegruppe-abc-muenchen-weihnachtspause
LOCATION:ABC München\, Dachauer Str. 23\, München\, 80335\, Deutschland
CATEGORIES:München,Präsenz
ORGANIZER;CN="ABC M%C3%BCnchen":MAILTO:muenchen{at}anderes-burnout-cafe.de
END:VEVENT
END:VCALENDAR