BEGIN:VCALENDAR
VERSION:2.0
PRODID:-//anderes-burnout-cafe - ECPv6.15.11//NONSGML v1.0//EN
CALSCALE:GREGORIAN
METHOD:PUBLISH
X-ORIGINAL-URL:https://anderes-burnout-cafe.de
X-WR-CALDESC:Veranstaltungen für anderes-burnout-cafe
REFRESH-INTERVAL;VALUE=DURATION:PT1H
X-Robots-Tag:noindex
X-PUBLISHED-TTL:PT1H
BEGIN:VTIMEZONE
TZID:Europe/Paris
BEGIN:DAYLIGHT
TZOFFSETFROM:+0100
TZOFFSETTO:+0200
TZNAME:CEST
DTSTART:20230326T010000
END:DAYLIGHT
BEGIN:STANDARD
TZOFFSETFROM:+0200
TZOFFSETTO:+0100
TZNAME:CET
DTSTART:20231029T010000
END:STANDARD
BEGIN:DAYLIGHT
TZOFFSETFROM:+0100
TZOFFSETTO:+0200
TZNAME:CEST
DTSTART:20240331T010000
END:DAYLIGHT
BEGIN:STANDARD
TZOFFSETFROM:+0200
TZOFFSETTO:+0100
TZNAME:CET
DTSTART:20241027T010000
END:STANDARD
BEGIN:DAYLIGHT
TZOFFSETFROM:+0100
TZOFFSETTO:+0200
TZNAME:CEST
DTSTART:20250330T010000
END:DAYLIGHT
BEGIN:STANDARD
TZOFFSETFROM:+0200
TZOFFSETTO:+0100
TZNAME:CET
DTSTART:20251026T010000
END:STANDARD
END:VTIMEZONE
BEGIN:VEVENT
DTSTART;TZID=Europe/Paris:20240925T183000
DTEND;TZID=Europe/Paris:20240925T204500
DTSTAMP:20260426T052211
CREATED:20240627T081535Z
LAST-MODIFIED:20240711T143905Z
UID:10000326-1727289000-1727297100@anderes-burnout-cafe.de
SUMMARY:Selbsthilfegruppe ABC München - Neuer Termin!
DESCRIPTION:Die Selbsthilfegruppe ABC München findet regelmäßig in Präsenz statt. Wir haben einen neuen Termin: wir treffen uns am vierten Mittwoch im Monat von 18:30 bis 20:45 .\nHaus der Missionen / 2. OG Rumänische Gemeinde München\, Dachauer Str. 23 80335 München \nThema: Selbstwert – Grenzen setzen\n \nWas macht eigentlich den eigenen Wert aus? Woran merke ich\, dass ich in meinem Sinne gehandelt habe und nicht im Sinne anderer? Setze ich mich für meine Bedürfnisse genauso ein\, wie für die Bedürfnisse meiner Umwelt? Ein hohes Selbstwertgefühl ist die Basis für Selbstvertrauen und die Fähigkeit\, Verantwortung für das eigene Leben zu übernehmen. Das Selbstwertgefühl kann man stärken\, so dass in Zukunft häufiger eine Entscheidung für sich selbst getroffen werden kann. Wie immer wird es im ABC -Anderes Burnout-Café – interessante Übungen und Hinweise geben\, die sich im Alltag leicht umsetzen lassen. \nMit unseren Selbsthilfegruppen tragen wir zur emotionalen Entlastung und gegenseitige Unterstützung bei. Die Teilnehmenden geben sich gegenseitige wertschätzende Lebenshilfe. Durch die Teilnahme wird das Selbstbewusstsein und das Selbstwertgefühl gestärkt. Frühwarnzeichen können rechtzeitig erkannt werden\, das soziale Netz wird durch den Austausch mit den Teilnehmenden gestärkt. Die Selbsthilfegruppen tragen dazu bei\, ein individuelles Krisennetzwerk und einen entsprechenden Krisenplan aufzubauen. Übungen tragen zur erfolgreichen Erweiterung der Strategien im Umgang mit der Erkrankung bei. \nAnmeldung für die Selbsthilfegruppe ABC München\nDu kannst immer ohne Anmeldung kommen. Für die Organisation des Treffens wäre eine Anmeldung hilfreich. \nDie monatliche Selbsthilfegruppe ermuntert die Teilnehmenden\, neue Sichtweisen zu einem bestimmten Thema auszuprobieren\, sich über Fremd- und Eigenwirkung der Übungen auszutauschen\, neue Handlungsmöglichkeiten zu erforschen und die eigene Lebenssituation neu zu bewerten. Darüber hinaus haben die Teilnehmenden die Möglichkeit\, mit anderen in einen persönlichen Erfahrungsaustausch zu kommen.  \nDie Veranstaltung wird durchgeführt von der Selbsthilfegruppe  ABC München mit Unterstützung des Bundesverband Burnout und Depression e.V.  \nWeitere Veranstaltungen sind hier zu finden. \nInformationen zum Krankheitsbild sind hier auf den Seiten des Bundesverbandes zu finden. \nModeratoren\nVictor Czenter | 0151 40253091‬ | München (at) anderes-burnout-cafe.de\nOvidiu Bretan | 0177 2906292‬ | München (at) anderes-burnout-cafe.de
URL:https://anderes-burnout-cafe.de/veranstaltungen/selbsthilfegruppe-abc-muenchen-neuer-termin
LOCATION:ABC München\, Dachauer Str. 23\, München\, 80335\, Deutschland
CATEGORIES:München,Präsenz
ORGANIZER;CN="ABC M%C3%BCnchen":MAILTO:muenchen{at}anderes-burnout-cafe.de
END:VEVENT
END:VCALENDAR