BEGIN:VCALENDAR
VERSION:2.0
PRODID:-//anderes-burnout-cafe - ECPv6.15.11//NONSGML v1.0//EN
CALSCALE:GREGORIAN
METHOD:PUBLISH
X-WR-CALNAME:anderes-burnout-cafe
X-ORIGINAL-URL:https://anderes-burnout-cafe.de
X-WR-CALDESC:Veranstaltungen für anderes-burnout-cafe
REFRESH-INTERVAL;VALUE=DURATION:PT1H
X-Robots-Tag:noindex
X-PUBLISHED-TTL:PT1H
BEGIN:VTIMEZONE
TZID:Europe/Paris
BEGIN:DAYLIGHT
TZOFFSETFROM:+0100
TZOFFSETTO:+0200
TZNAME:CEST
DTSTART:20250330T010000
END:DAYLIGHT
BEGIN:STANDARD
TZOFFSETFROM:+0200
TZOFFSETTO:+0100
TZNAME:CET
DTSTART:20251026T010000
END:STANDARD
BEGIN:DAYLIGHT
TZOFFSETFROM:+0100
TZOFFSETTO:+0200
TZNAME:CEST
DTSTART:20260329T010000
END:DAYLIGHT
BEGIN:STANDARD
TZOFFSETFROM:+0200
TZOFFSETTO:+0100
TZNAME:CET
DTSTART:20261025T010000
END:STANDARD
BEGIN:DAYLIGHT
TZOFFSETFROM:+0100
TZOFFSETTO:+0200
TZNAME:CEST
DTSTART:20270328T010000
END:DAYLIGHT
BEGIN:STANDARD
TZOFFSETFROM:+0200
TZOFFSETTO:+0100
TZNAME:CET
DTSTART:20271031T010000
END:STANDARD
END:VTIMEZONE
BEGIN:VEVENT
DTSTART;TZID=Europe/Paris:20260721T180000
DTEND;TZID=Europe/Paris:20260721T203000
DTSTAMP:20260423T123244
CREATED:20260209T202751Z
LAST-MODIFIED:20260209T202751Z
UID:10000951-1784656800-1784665800@anderes-burnout-cafe.de
SUMMARY:Selbsthilfegruppe ABC Königswinter - Selbstzweifel wahrnehmen und sie verstehen
DESCRIPTION:Die Selbsthilfegruppe ABC Königswinter trifft sich regelmäßig an jedem dritten Dienstag im Monat von 18:00 bis 20:00.\nHaus Bachem (altes Rathaus)\, Drachenfelsstraße 4\, 53639 Königswinter. \nThema: Selbstzweifel wahrnehmen und sie verstehen\n \n\n\nSelbst – wirksam / Selbst – steuern\, raus aus der Opferfalle!\nErtappen Sie sich mitunter dabei\, dass Sie sich als Opfer der Umstände\, der Firma\, des Zeitdrucks\, der Vergangenheit\, … fühlen? Es läuft etwas nicht so\, wie Sie es sich vorstellen und dann ist natürlich „der Andere“ oder „das System“ schuld? Sie treffen Entscheidungen nicht\, weil Sie sich sofort ausmalen\, was alles nicht funktioniert und wer Ihnen Steine in den Weg legt?\nOft fühlen wir uns als Opfer und vergessen dabei\, dass jedes Verhalten einen Preis und einen Gewinn hat. Wir vergessen auch\, dass wir unser Verhalten selbst steuern können. Sie erhalten bei uns Übungen zum Überdenken der Opfersituationen und wie Sie damit selbstverantwortlich die für sich besten Entscheidungen treffen können.\n\n#Selbtwirksam # Selbststeuern #Opfer #Oferfalle #Verhalten #Entscheidungen #Gewinn #Preis #Opfersituation #Selbstverantwortung\n\n\nMit unseren Selbsthilfegruppen tragen wir zur emotionalen Entlastung und gegenseitige Unterstützung bei. Die Teilnehmenden geben sich gegenseitige wertschätzende Lebenshilfe. Durch die Teilnahme wird das Selbstbewusstsein und das Selbstwertgefühl gestärkt. Frühwarnzeichen können rechtzeitig erkannt werden\, das soziale Netz wird durch den Austausch mit den Teilnehmenden gestärkt. Die Selbsthilfegruppen tragen dazu bei\, ein individuelles Krisennetzwerk und einen entsprechenden Krisenplan aufzubauen. Übungen tragen zur erfolgreichen Erweiterung der Strategien im Umgang mit der Erkrankung bei.\n\nAnmeldung\nDu kannst immer ohne Anmeldung kommen. Für die Organisation des Treffens wäre eine Anmeldung hilfreich. \nDie monatliche Selbsthilfegruppe Anderes Burnout-Café ermuntert die Teilnehmenden\, neue Sichtweisen zu einem bestimmten Thema auszuprobieren\, sich über Fremd- und Eigenwirkung der Übungen auszutauschen\, neue Handlungsmöglichkeiten zu erforschen und die eigene Lebenssituation neu zu bewerten. Darüber hinaus haben die Teilnehmenden die Möglichkeit\, mit anderen in einen persönlichen Erfahrungsaustausch zu kommen.  \nDie Veranstaltung wird durchgeführt von der Selbsthilfegruppe  ABC Königswinter mit Unterstützung des Bundesverband Burnout und Depression e.V..  \nWeitere Veranstaltungen sind hier zu finden. \nInformationen zum Krankheitsbild sind hier auf den Seiten des Bundesverbandes zu finden. \nModeratorin\nElisabeth
URL:https://anderes-burnout-cafe.de/veranstaltungen/selbsthilfegruppe-abc-koenigswinter-selbstzweifel-wahrnehmen-und-sie-verstehen-2
LOCATION:ABC-Königswinter\, Haus Bachem\, Drachenfelsstrasse 4\, Marktplatz\, Königswinter\, 53639
CATEGORIES:Königswinter,Präsenz
END:VEVENT
END:VCALENDAR