BEGIN:VCALENDAR
VERSION:2.0
PRODID:-//anderes-burnout-cafe - ECPv6.15.11//NONSGML v1.0//EN
CALSCALE:GREGORIAN
METHOD:PUBLISH
X-WR-CALNAME:anderes-burnout-cafe
X-ORIGINAL-URL:https://anderes-burnout-cafe.de
X-WR-CALDESC:Veranstaltungen für anderes-burnout-cafe
REFRESH-INTERVAL;VALUE=DURATION:PT1H
X-Robots-Tag:noindex
X-PUBLISHED-TTL:PT1H
BEGIN:VTIMEZONE
TZID:Europe/Paris
BEGIN:DAYLIGHT
TZOFFSETFROM:+0100
TZOFFSETTO:+0200
TZNAME:CEST
DTSTART:20250330T010000
END:DAYLIGHT
BEGIN:STANDARD
TZOFFSETFROM:+0200
TZOFFSETTO:+0100
TZNAME:CET
DTSTART:20251026T010000
END:STANDARD
BEGIN:DAYLIGHT
TZOFFSETFROM:+0100
TZOFFSETTO:+0200
TZNAME:CEST
DTSTART:20260329T010000
END:DAYLIGHT
BEGIN:STANDARD
TZOFFSETFROM:+0200
TZOFFSETTO:+0100
TZNAME:CET
DTSTART:20261025T010000
END:STANDARD
BEGIN:DAYLIGHT
TZOFFSETFROM:+0100
TZOFFSETTO:+0200
TZNAME:CEST
DTSTART:20270328T010000
END:DAYLIGHT
BEGIN:STANDARD
TZOFFSETFROM:+0200
TZOFFSETTO:+0100
TZNAME:CET
DTSTART:20271031T010000
END:STANDARD
END:VTIMEZONE
BEGIN:VEVENT
DTSTART;TZID=Europe/Paris:20260317T180000
DTEND;TZID=Europe/Paris:20260317T203000
DTSTAMP:20260423T105804
CREATED:20260209T201129Z
LAST-MODIFIED:20260311T001308Z
UID:10000947-1773770400-1773779400@anderes-burnout-cafe.de
SUMMARY:Selbsthilfegruppe ABC Königswinter - Meine Grenzen erkennen und setzen
DESCRIPTION:Die Selbsthilfegruppe ABC Königswinter trifft sich regelmäßig an jedem dritten Dienstag im Monat von 18:00 bis 20:30.\nHaus Bachem (altes Rathaus)\, Drachenfelsstraße 4\, 53639 Königswinter. \nThema: Meine Grenzen erkennen und setzen\n \n\nEs allen recht machen\, die eigenen Leistungsgrenzen ignorieren und immer weiter Vollgas geben: Häufig manifestieren sich solche permanenten und unreflektierten Grenzüberschreitungen in körperlichen und psychischen Beschwerden. Was versprechen wir uns eigentlich davon\, wenn wir immer wieder „Ja“ sagen\, obwohl wir „Nein!“ fühlen? Ganz sicher gibt es gute Gründe dafür\, doch vielleicht geht es manchmal auch anders? Mit einfachen Übungen gehen wir unseren Bedürfnissen auf den Grund. Wir sprechen darüber\, warum uns bestimmte Grenzen so wichtig sind und wie wir in Zukunft besser für uns sorgen können.\n\n\nMit unseren Selbsthilfegruppen tragen wir zur emotionalen Entlastung und gegenseitige Unterstützung bei. Die Teilnehmenden geben sich gegenseitige wertschätzende Lebenshilfe. Durch die Teilnahme wird das Selbstbewusstsein und das Selbstwertgefühl gestärkt. Frühwarnzeichen können rechtzeitig erkannt werden\, das soziale Netz wird durch den Austausch mit den Teilnehmenden gestärkt. Die Selbsthilfegruppen tragen dazu bei\, ein individuelles Krisennetzwerk und einen entsprechenden Krisenplan aufzubauen. Übungen tragen zur erfolgreichen Erweiterung der Strategien im Umgang mit der Erkrankung bei. \nAnmeldung\nDu kannst immer ohne Anmeldung kommen. Für die Organisation des Treffens wäre eine Anmeldung hilfreich. \nDie monatliche Selbsthilfegruppe Anderes Burnout-Café ermuntert die Teilnehmenden\, neue Sichtweisen zu einem bestimmten Thema auszuprobieren\, sich über Fremd- und Eigenwirkung der Übungen auszutauschen\, neue Handlungsmöglichkeiten zu erforschen und die eigene Lebenssituation neu zu bewerten. Darüber hinaus haben die Teilnehmenden die Möglichkeit\, mit anderen in einen persönlichen Erfahrungsaustausch zu kommen.  \nDie Veranstaltung wird durchgeführt von der Selbsthilfegruppe  ABC Königswinter mit Unterstützung des Bundesverband Burnout und Depression e.V..  \nWeitere Veranstaltungen sind hier zu finden. \nInformationen zum Krankheitsbild sind hier auf den Seiten des Bundesverbandes zu finden. \nModeratorin\nElisabeth
URL:https://anderes-burnout-cafe.de/veranstaltungen/selbsthilfegruppe-abc-koenigswinter-meine-grenzen-erkennen-und-setzen-2
LOCATION:ABC-Königswinter\, Haus Bachem\, Drachenfelsstrasse 4\, Marktplatz\, Königswinter\, 53639
CATEGORIES:Königswinter,Präsenz
END:VEVENT
END:VCALENDAR