BEGIN:VCALENDAR
VERSION:2.0
PRODID:-//anderes-burnout-cafe - ECPv6.15.11//NONSGML v1.0//EN
CALSCALE:GREGORIAN
METHOD:PUBLISH
X-ORIGINAL-URL:https://anderes-burnout-cafe.de
X-WR-CALDESC:Veranstaltungen für anderes-burnout-cafe
REFRESH-INTERVAL;VALUE=DURATION:PT1H
X-Robots-Tag:noindex
X-PUBLISHED-TTL:PT1H
BEGIN:VTIMEZONE
TZID:Europe/Paris
BEGIN:DAYLIGHT
TZOFFSETFROM:+0100
TZOFFSETTO:+0200
TZNAME:CEST
DTSTART:20250330T010000
END:DAYLIGHT
BEGIN:STANDARD
TZOFFSETFROM:+0200
TZOFFSETTO:+0100
TZNAME:CET
DTSTART:20251026T010000
END:STANDARD
BEGIN:DAYLIGHT
TZOFFSETFROM:+0100
TZOFFSETTO:+0200
TZNAME:CEST
DTSTART:20260329T010000
END:DAYLIGHT
BEGIN:STANDARD
TZOFFSETFROM:+0200
TZOFFSETTO:+0100
TZNAME:CET
DTSTART:20261025T010000
END:STANDARD
BEGIN:DAYLIGHT
TZOFFSETFROM:+0100
TZOFFSETTO:+0200
TZNAME:CEST
DTSTART:20270328T010000
END:DAYLIGHT
BEGIN:STANDARD
TZOFFSETFROM:+0200
TZOFFSETTO:+0100
TZNAME:CET
DTSTART:20271031T010000
END:STANDARD
END:VTIMEZONE
BEGIN:VEVENT
DTSTART;TZID=Europe/Paris:20260508T190000
DTEND;TZID=Europe/Paris:20260508T211500
DTSTAMP:20260423T154245
CREATED:20251128T214539Z
LAST-MODIFIED:20251128T214539Z
UID:10000771-1778266800-1778274900@anderes-burnout-cafe.de
SUMMARY:Selbsthilfe ABC Darmstadt - Wege aus dem Burnout
DESCRIPTION:Die Selbsthilfegruppe ABC Darmstadt findet in diesem Monat aufgrund des Feiertages ausnahmsweise am zweiten Freitag des Monats statt. \nDie Selbsthilfegruppe trifft sich im Mehrgenerationenhaus\, Julius-Reiber-Str. 22\, 64293 Darmstadt. \nThema: Wege aus dem Burnout\n \n\n\n\n\n\n\n\nAm heutigen Abend dreht sich alles um LERNEN von Verhalten. Von klein auf lernen wir Verhaltensweisen\, indem wir unsere Eltern\, Geschwister oder wichtige Bezugsperson genau beobachten und nachmachen\, was sie tun\, bis wir das Gefühl haben\, wir können es genauso bzw. auf unsere Art genauso. Das Lernen von Verhalten erstreckt sich auf unterschiedliche Bereiche: Bis ein Verhalten vollständig integriert ist\, also gelebt werden kann\, müssen die Aspekte Umfeld\, Fähigkeiten\, Überzeugungen\, Werte\, Identität und Zugehörigkeit verinnerlicht werden. Als Kinder machen wir das unbewusst und intuitiv…\nAls Erwachsene vergessen wir oft\, dass wir diese Art des Lernens einmal konnten. Wir stellen an diesem Abend ein Modell vor\, mit dem es möglich ist\, diese verschiedenen Ebenen des Lernens einzeln zu durchlaufen und zu betrachten und wieder einen Blick weg vom Problem – hin zu einer möglichen Lösung zu schaffen.\n\n\n\n\n\n\n\n\nMit unseren Selbsthilfegruppen tragen wir zur emotionalen Entlastung und gegenseitige Unterstützung bei. Die Teilnehmenden geben sich gegenseitige wertschätzende Lebenshilfe. Durch die Teilnahme wird das Selbstbewusstsein und das Selbstwertgefühl gestärkt. Frühwarnzeichen können rechtzeitig erkannt werden\, das soziale Netz wird durch den Austausch mit den Teilnehmenden gestärkt. Die Selbsthilfegruppen tragen dazu bei\, ein individuelles Krisennetzwerk und einen entsprechenden Krisenplan aufzubauen. Übungen tragen zur erfolgreichen Erweiterung der Strategien im Umgang mit der Erkrankung bei. \nAnmeldung\nDu kannst immer ohne Anmeldung kommen. Für die Organisation des Treffens wäre eine Anmeldung hilfreich. \nDie Selbsthilfegruppe „Anderes Burnout Café Darmstadt“ ermuntert die Teilnehmenden\, neue Sichtweisen zu einem bestimmten Thema auszuprobieren\, sich über Fremd- und Eigenwirkung der Übungen auszutauschen\, neue Handlungsmöglichkeiten zu erforschen und die eigene Lebenssituation neu zu bewerten. Darüber hinaus haben die Teilnehmenden die Möglichkeit\, mit anderen in einen persönlichen Erfahrungsaustausch zu kommen.  \nDie Veranstaltung wird durchgeführt von der Selbsthilfegruppe  ABC Darmstadt mit Unterstützung des Bundesverband Burnout und Depression e.V. \nWeitere Veranstaltungen sind hier zu finden. \nInformationen zum Krankheitsbild sind hier auf den Seiten des Bundesverbandes zu finden. \nModerator\nMarcus Ackermann | 06151 365 06 02 | Darmstadt (at) anderes-burnout-cafe.de
URL:https://anderes-burnout-cafe.de/veranstaltungen/selbsthilfe-abc-darmstadt-wege-aus-dem-burnout-3
LOCATION:ABC Darmstadt\, Julius-Reiber-Str.22\, Darmstadt\, 64293\, Deutschland
CATEGORIES:Darmstadt,Präsenz
ORGANIZER;CN="Marcus Ackermann":MAILTO:darmstadt{at}anderes-burnout-cafe.de
END:VEVENT
END:VCALENDAR