BEGIN:VCALENDAR
VERSION:2.0
PRODID:-//anderes-burnout-cafe - ECPv6.15.11//NONSGML v1.0//EN
CALSCALE:GREGORIAN
METHOD:PUBLISH
X-WR-CALNAME:anderes-burnout-cafe
X-ORIGINAL-URL:https://anderes-burnout-cafe.de
X-WR-CALDESC:Veranstaltungen für anderes-burnout-cafe
REFRESH-INTERVAL;VALUE=DURATION:PT1H
X-Robots-Tag:noindex
X-PUBLISHED-TTL:PT1H
BEGIN:VTIMEZONE
TZID:Europe/Paris
BEGIN:DAYLIGHT
TZOFFSETFROM:+0100
TZOFFSETTO:+0200
TZNAME:CEST
DTSTART:20240331T010000
END:DAYLIGHT
BEGIN:STANDARD
TZOFFSETFROM:+0200
TZOFFSETTO:+0100
TZNAME:CET
DTSTART:20241027T010000
END:STANDARD
BEGIN:DAYLIGHT
TZOFFSETFROM:+0100
TZOFFSETTO:+0200
TZNAME:CEST
DTSTART:20250330T010000
END:DAYLIGHT
BEGIN:STANDARD
TZOFFSETFROM:+0200
TZOFFSETTO:+0100
TZNAME:CET
DTSTART:20251026T010000
END:STANDARD
BEGIN:DAYLIGHT
TZOFFSETFROM:+0100
TZOFFSETTO:+0200
TZNAME:CEST
DTSTART:20260329T010000
END:DAYLIGHT
BEGIN:STANDARD
TZOFFSETFROM:+0200
TZOFFSETTO:+0100
TZNAME:CET
DTSTART:20261025T010000
END:STANDARD
END:VTIMEZONE
BEGIN:VEVENT
DTSTART;TZID=Europe/Paris:20251107T190000
DTEND;TZID=Europe/Paris:20251107T211500
DTSTAMP:20260423T184256
CREATED:20250923T083826Z
LAST-MODIFIED:20250923T083826Z
UID:10000694-1762542000-1762550100@anderes-burnout-cafe.de
SUMMARY:Selbsthilfe ABC Darmstadt - Grenzen erkennen und setzen
DESCRIPTION:Die Selbsthilfegruppe ABC Darmstadt findet regelmäßig am ersten Freitag im Monat von 19:00 bis 21:15 in Präsenz statt. \nDie Selbsthilfegruppe trifft sich im Mehrgenerationenhaus\, Julius-Reiber-Str 22\, 64293 Darmstadt. \nThema: Grenzen erkennen und setzen\n \n\n\n\n\nFür einen gesunden Selbstwert ist die Fähigkeit\, Grenzen zu setzen\, sehr hilfreich. Doch viele Menschen haben keine innere Erlaubnis auch mal “Stop” oder “Nein” zu sagen. Sie nehmen immer alles auf sich\, ziehen jeden dargebotenen Schuh an und lassen sehr viel über sich ergehen. Sie fühlen sich schuldig\, wenn sie ein “Nein” sagen\, oder im Übermaß verpflichtet. Das führt auf Dauer oft zur Erschöpfung!\nDoch das heißt im Umkehrschluss nicht\, dass man immer nein sagen muss. Und manchmal ist es auch hilfreich\, die Grenze wieder etwas aufzulösen….\nWie ein gutes Gleichgewicht zwischen “Ja heißt Ja” und “Nein heißt Nein” hergestellt werden kann\, warum es uns so schwerfällt dieses “NEIN” und wie wir besser damit umgehen können\, erörtern wir an diesem Abend im ABC.\n. \n\n\n\n\nMit unseren Selbsthilfegruppen tragen wir zur emotionalen Entlastung und gegenseitige Unterstützung bei. Die Teilnehmenden geben sich gegenseitige wertschätzende Lebenshilfe. Durch die Teilnahme wird das Selbstbewusstsein und das Selbstwertgefühl gestärkt. Frühwarnzeichen können rechtzeitig erkannt werden\, das soziale Netz wird durch den Austausch mit den Teilnehmenden gestärkt. Die Selbsthilfegruppen tragen dazu bei\, ein individuelles Krisennetzwerk und einen entsprechenden Krisenplan aufzubauen. Übungen tragen zur erfolgreichen Erweiterung der Strategien im Umgang mit der Erkrankung bei. \nAnmeldung\nDu kannst immer ohne Anmeldung kommen. Für die Organisation des Treffens wäre eine Anmeldung hilfreich. \nDie Selbsthilfegruppe „Anderes Burnout Café Darmstadt“ ermuntert die Teilnehmenden\, neue Sichtweisen zu einem bestimmten Thema auszuprobieren\, sich über Fremd- und Eigenwirkung der Übungen auszutauschen\, neue Handlungsmöglichkeiten zu erforschen und die eigene Lebenssituation neu zu bewerten. Darüber hinaus haben die Teilnehmenden die Möglichkeit\, mit anderen in einen persönlichen Erfahrungsaustausch zu kommen.  \nDie Veranstaltung wird durchgeführt von der Selbsthilfegruppe  ABC Darmstadt mit Unterstützung des Bundesverband Burnout und Depression e.V. \nWeitere Veranstaltungen sind hier zu finden. \nInformationen zum Krankheitsbild sind hier auf den Seiten des Bundesverbandes zu finden. \nModerator\nMarcus Ackermann | 06151 365 06 02 | Darmstadt (at) anderes-burnout-cafe.de
URL:https://anderes-burnout-cafe.de/veranstaltungen/selbsthilfe-abc-darmstadt-grenzen-erkennen-und-setzen-2
LOCATION:ABC Darmstadt\, Julius-Reiber-Str.22\, Darmstadt\, 64293\, Deutschland
CATEGORIES:Darmstadt,Präsenz
ORGANIZER;CN="Marcus Ackermann":MAILTO:darmstadt{at}anderes-burnout-cafe.de
END:VEVENT
END:VCALENDAR