BEGIN:VCALENDAR
VERSION:2.0
PRODID:-//anderes-burnout-cafe - ECPv6.15.11//NONSGML v1.0//EN
CALSCALE:GREGORIAN
METHOD:PUBLISH
X-ORIGINAL-URL:https://anderes-burnout-cafe.de
X-WR-CALDESC:Veranstaltungen für anderes-burnout-cafe
REFRESH-INTERVAL;VALUE=DURATION:PT1H
X-Robots-Tag:noindex
X-PUBLISHED-TTL:PT1H
BEGIN:VTIMEZONE
TZID:Europe/Paris
BEGIN:DAYLIGHT
TZOFFSETFROM:+0100
TZOFFSETTO:+0200
TZNAME:CEST
DTSTART:20250330T010000
END:DAYLIGHT
BEGIN:STANDARD
TZOFFSETFROM:+0200
TZOFFSETTO:+0100
TZNAME:CET
DTSTART:20251026T010000
END:STANDARD
BEGIN:DAYLIGHT
TZOFFSETFROM:+0100
TZOFFSETTO:+0200
TZNAME:CEST
DTSTART:20260329T010000
END:DAYLIGHT
BEGIN:STANDARD
TZOFFSETFROM:+0200
TZOFFSETTO:+0100
TZNAME:CET
DTSTART:20261025T010000
END:STANDARD
BEGIN:DAYLIGHT
TZOFFSETFROM:+0100
TZOFFSETTO:+0200
TZNAME:CEST
DTSTART:20270328T010000
END:DAYLIGHT
BEGIN:STANDARD
TZOFFSETFROM:+0200
TZOFFSETTO:+0100
TZNAME:CET
DTSTART:20271031T010000
END:STANDARD
END:VTIMEZONE
BEGIN:VEVENT
DTSTART;TZID=Europe/Paris:20260609T190000
DTEND;TZID=Europe/Paris:20260609T210000
DTSTAMP:20260419T150439
CREATED:20260204T205056Z
LAST-MODIFIED:20260204T205330Z
UID:10000903-1781031600-1781038800@anderes-burnout-cafe.de
SUMMARY:Selbsthilfegruppe ABC Darmstadt/Dieburg - Selbstwahrnehmung
DESCRIPTION:Die Selbsthilfegruppe ABC Darmstadt/Dieburg trifft sich in der Regel am zweiten Dienstag im Monat von 19:00 bis 21:00 im Paul-Gerhard-Haus\, Nordhäuser Str. 32\, 64380 Roßdorf-Gundernhausen.\n\nDu bist herzlich willkommen!  Gemeinsam schaffen wir einen Raum für mehr Gelassenheit\, innere Balance und Wohlbefinden.  \nThema: Selbstwahrnehmung\n \n\n\n\n\n\nIn der Fülle von Terminen und den alltäglichen Anforderungen bleibt häufig keine Zeit für eine reflektierende Innenschau – manchmal auch mit der Folge\, an einem Burnout zu erkranken. Dann bleibt häufig das Gefühl von Leere und Entfremdung. Wie es gelingt\, mit sich selbst wieder in Kontakt zu kommen und Gefühle besser zu steuern\, erfahren die Teilnehmer in nächsten ABC.\n\n\n\n\n\n\nMit unseren Selbsthilfegruppen tragen wir zur emotionalen Entlastung und gegenseitige Unterstützung bei. Die Teilnehmenden geben sich gegenseitige wertschätzende Lebenshilfe. Durch die Teilnahme wird das Selbstbewusstsein und das Selbstwertgefühl gestärkt. Frühwarnzeichen können rechtzeitig erkannt werden\, das soziale Netz wird durch den Austausch mit den Teilnehmenden gestärkt. Die Selbsthilfegruppen tragen dazu bei\, ein individuelles Krisennetzwerk und einen entsprechenden Krisenplan aufzubauen. Übungen tragen zur erfolgreichen Erweiterung der Strategien im Umgang mit der Erkrankung bei. \n  \nAnmeldung\nDu kannst immer ohne Anmeldung kommen. Für die Organisation des Treffens wäre eine Anmeldung hilfreich. \nDie monatliche Selbsthilfegruppe Anderes Burnout-Café ermuntert die Teilnehmenden\, neue Sichtweisen zu einem bestimmten Thema auszuprobieren\, sich über Fremd- und Eigenwirkung der Übungen auszutauschen\, neue Handlungsmöglichkeiten zu erforschen und die eigene Lebenssituation neu zu bewerten. Darüber hinaus haben die Teilnehmenden die Möglichkeit\, mit anderen in einen persönlichen Erfahrungsaustausch zu kommen.  \nDie Veranstaltung wird durchgeführt von der Selbsthilfegruppe  ABC Darmstadt/Dieburg mit Unterstützung des Bundesverband Burnout und Depression e.V..  \nWeitere Veranstaltungen sind hier zu finden. \nInformationen zum Krankheitsbild sind hier auf den Seiten des Bundesverbandes zu finden. \nModerator:innen\nFrank & Natascha
URL:https://anderes-burnout-cafe.de/veranstaltungen/selbsthilfegruppe-abc-darmstadt-dieburg-der-innere-kritiker
LOCATION:ABC Darmstadt/Dieburg\, Nordhäuser Str. 32\, Roßdorf-Gundernhausen\, 64380
CATEGORIES:Darmstadt/Dieburg,Präsenz
ORGANIZER;CN="ABC Darmstadt/Dieburg":MAILTO:darmstadt-dieburg@anderes-burnout-cafe.de
END:VEVENT
END:VCALENDAR