BEGIN:VCALENDAR
VERSION:2.0
PRODID:-//anderes-burnout-cafe - ECPv6.15.11//NONSGML v1.0//EN
CALSCALE:GREGORIAN
METHOD:PUBLISH
X-WR-CALNAME:anderes-burnout-cafe
X-ORIGINAL-URL:https://anderes-burnout-cafe.de
X-WR-CALDESC:Veranstaltungen für anderes-burnout-cafe
REFRESH-INTERVAL;VALUE=DURATION:PT1H
X-Robots-Tag:noindex
X-PUBLISHED-TTL:PT1H
BEGIN:VTIMEZONE
TZID:Europe/Paris
BEGIN:DAYLIGHT
TZOFFSETFROM:+0100
TZOFFSETTO:+0200
TZNAME:CEST
DTSTART:20250330T010000
END:DAYLIGHT
BEGIN:STANDARD
TZOFFSETFROM:+0200
TZOFFSETTO:+0100
TZNAME:CET
DTSTART:20251026T010000
END:STANDARD
BEGIN:DAYLIGHT
TZOFFSETFROM:+0100
TZOFFSETTO:+0200
TZNAME:CEST
DTSTART:20260329T010000
END:DAYLIGHT
BEGIN:STANDARD
TZOFFSETFROM:+0200
TZOFFSETTO:+0100
TZNAME:CET
DTSTART:20261025T010000
END:STANDARD
BEGIN:DAYLIGHT
TZOFFSETFROM:+0100
TZOFFSETTO:+0200
TZNAME:CEST
DTSTART:20270328T010000
END:DAYLIGHT
BEGIN:STANDARD
TZOFFSETFROM:+0200
TZOFFSETTO:+0100
TZNAME:CET
DTSTART:20271031T010000
END:STANDARD
END:VTIMEZONE
BEGIN:VEVENT
DTSTART;TZID=Europe/Paris:20260806T190000
DTEND;TZID=Europe/Paris:20260806T210000
DTSTAMP:20260423T154025
CREATED:20260209T113128Z
LAST-MODIFIED:20260209T113128Z
UID:10000922-1786042800-1786050000@anderes-burnout-cafe.de
SUMMARY:ABC Berlin-Schöneberg - Körper und Psyche: Wie Bewegung\, Ernährung und Nervensystem zusammenwirken.
DESCRIPTION:Die Selbsthilfegruppe ABC Berlin-Schöneberg findet regelmäßig am 1. Donnerstag im Monat in der Zeit von 19:00 bis 21:00 Uhr statt.\nWir treffen uns in Präsenz in der Holsteinische Str. 30 (Raum 28 im Selbsthilfetreffpunkt Schöneberg\, nahe vom UBhf Friedrich-Wilhelm-Platz) in 12161 Berlin. \n \n(Zusatzhinweis: Da der Raum am nächsten Morgen von der Pekip-Gruppe genutzt wird\, kann er nicht mit Schuhen betreten werden. Alternativ können kostenlos zur Verfügung gestellte Überzieher genutzt werden.)\n \nThema: Körper und Psyche – Wie Bewegung\, Ernährung und Nervensystem zusammenwirken.\n \n\n„Der Mensch ist\, was er isst“ – Ludwig Feuerbach\, deutscher Philosoph.\nWir möchten uns über Eure Erfahrungen zum Thema Ernährung austauschen.  Was beeinflusst wie die Stimmung? Woran habt ihr den Zusammenhang  zwischen Essen und Psyche erkannt? Welche hilfreichen Hinweise und  Tipps könnt ihr einander geben?\n\n\nMit unseren Selbsthilfegruppen tragen wir zur emotionalen Entlastung und gegenseitige Unterstützung bei. Die Teilnehmenden geben sich gegenseitige wertschätzende Lebenshilfe. Durch die Teilnahme wird das Selbstbewusstsein und das Selbstwertgefühl gestärkt. Frühwarnzeichen können rechtzeitig erkannt werden\, das soziale Netz wird durch den Austausch mit den Teilnehmenden gestärkt. Die Selbsthilfegruppen tragen dazu bei\, ein individuelles Krisennetzwerk und einen entsprechenden Krisenplan aufzubauen. Übungen tragen zur erfolgreichen Erweiterung der Strategien im Umgang mit der Erkrankung bei. \nAnmeldung\nDu kannst immer ohne Anmeldung kommen. Für die Organisation des Treffens wäre eine Anmeldung hilfreich. \nDie monatliche Selbsthilfegruppe Anderes Burnout-Café ermuntert die Teilnehmenden\, neue Sichtweisen zu einem bestimmten Thema auszuprobieren\, sich über Fremd- und Eigenwirkung der Übungen auszutauschen\, neue Handlungsmöglichkeiten zu erforschen und die eigene Lebenssituation neu zu bewerten. Darüber hinaus haben die Teilnehmenden die Möglichkeit\, mit anderen in einen persönlichen Erfahrungsaustausch zu kommen.  \nDie Veranstaltung wird durchgeführt von der Selbsthilfegruppe  ABC Berlin-Schöneberg mit Unterstützung des Bundesverband Burnout und Depression e.V..  \nWeitere Veranstaltungen sind hier zu finden. \nInformationen zum Krankheitsbild sind hier auf den Seiten des Bundesverbandes zu finden. \nModerator/in\nPeter und Elena \n 
URL:https://anderes-burnout-cafe.de/veranstaltungen/abc-berlin-schoeneberg-koerper-und-psyche-wie-bewegung-ernaehrung-und-nervensystem-zusammenwirken
LOCATION:ABC Berlin-Schöneberg\, Holsteinische Str. 30\, Berlin\, 12161\, Germany
CATEGORIES:Berlin-Schöneberg,Präsenz
ORGANIZER;CN="Bundesverband BBuD":MAILTO:info@bbud.info
END:VEVENT
END:VCALENDAR