BEGIN:VCALENDAR
VERSION:2.0
PRODID:-//anderes-burnout-cafe - ECPv6.15.11//NONSGML v1.0//EN
CALSCALE:GREGORIAN
METHOD:PUBLISH
X-ORIGINAL-URL:https://anderes-burnout-cafe.de
X-WR-CALDESC:Veranstaltungen für anderes-burnout-cafe
REFRESH-INTERVAL;VALUE=DURATION:PT1H
X-Robots-Tag:noindex
X-PUBLISHED-TTL:PT1H
BEGIN:VTIMEZONE
TZID:Europe/Paris
BEGIN:DAYLIGHT
TZOFFSETFROM:+0100
TZOFFSETTO:+0200
TZNAME:CEST
DTSTART:20250330T010000
END:DAYLIGHT
BEGIN:STANDARD
TZOFFSETFROM:+0200
TZOFFSETTO:+0100
TZNAME:CET
DTSTART:20251026T010000
END:STANDARD
BEGIN:DAYLIGHT
TZOFFSETFROM:+0100
TZOFFSETTO:+0200
TZNAME:CEST
DTSTART:20260329T010000
END:DAYLIGHT
BEGIN:STANDARD
TZOFFSETFROM:+0200
TZOFFSETTO:+0100
TZNAME:CET
DTSTART:20261025T010000
END:STANDARD
BEGIN:DAYLIGHT
TZOFFSETFROM:+0100
TZOFFSETTO:+0200
TZNAME:CEST
DTSTART:20270328T010000
END:DAYLIGHT
BEGIN:STANDARD
TZOFFSETFROM:+0200
TZOFFSETTO:+0100
TZNAME:CET
DTSTART:20271031T010000
END:STANDARD
END:VTIMEZONE
BEGIN:VEVENT
DTSTART;TZID=Europe/Paris:20260507T190000
DTEND;TZID=Europe/Paris:20260507T210000
DTSTAMP:20260419T144731
CREATED:20260128T130900Z
LAST-MODIFIED:20260128T130900Z
UID:10000898-1778180400-1778187600@anderes-burnout-cafe.de
SUMMARY:ABC Berlin-Schöneberg - Umgang mit Scham und Schuldgefühlen: Unsichtbare Lasten verstehen und gesünder mit ihnen umgehen.
DESCRIPTION:Die Selbsthilfegruppe ABC Berlin-Schöneberg findet regelmäßig am 1. Donnerstag im Monat in der Zeit von 19:00 bis 21:00 Uhr statt.\nWir treffen uns in Präsenz in der Holsteinische Str. 30 (Raum 28 im Selbsthilfetreffpunkt Schöneberg\, nahe vom UBhf Friedrich-Wilhelm-Platz) in 12161 Berlin. \n \n(Zusatzhinweis: Da der Raum am nächsten Morgen von der Pekip-Gruppe genutzt wird\, kann er nicht mit Schuhen betreten werden. Alternativ können kostenlos zur Verfügung gestellte Überzieher genutzt werden.)\n \nThema: Umgang mit Scham und Schuldgefühlen – Unsichtbare Lasten verstehen und gesünder mit ihnen umgehen.\n \n\nSchuldgefühle können schwer wiegen. Können wir über unsere Körpergefühle aufkommende Schuld erkennen? Wie differenzieren wir Schuld von anderen Emotionen? Was ist das Gute an Schuldgefühlen? Diese und andere Fragen wollen wir uns stellen und vielleicht einen leichteren Umgang mit Schuld erleben.\n\n\nMit unseren Selbsthilfegruppen tragen wir zur emotionalen Entlastung und gegenseitige Unterstützung bei. Die Teilnehmenden geben sich gegenseitige wertschätzende Lebenshilfe. Durch die Teilnahme wird das Selbstbewusstsein und das Selbstwertgefühl gestärkt. Frühwarnzeichen können rechtzeitig erkannt werden\, das soziale Netz wird durch den Austausch mit den Teilnehmenden gestärkt. Die Selbsthilfegruppen tragen dazu bei\, ein individuelles Krisennetzwerk und einen entsprechenden Krisenplan aufzubauen. Übungen tragen zur erfolgreichen Erweiterung der Strategien im Umgang mit der Erkrankung bei. \nAnmeldung\nDu kannst immer ohne Anmeldung kommen. Für die Organisation des Treffens wäre eine Anmeldung hilfreich. \nDie monatliche Selbsthilfegruppe Anderes Burnout-Café ermuntert die Teilnehmenden\, neue Sichtweisen zu einem bestimmten Thema auszuprobieren\, sich über Fremd- und Eigenwirkung der Übungen auszutauschen\, neue Handlungsmöglichkeiten zu erforschen und die eigene Lebenssituation neu zu bewerten. Darüber hinaus haben die Teilnehmenden die Möglichkeit\, mit anderen in einen persönlichen Erfahrungsaustausch zu kommen.  \nDie Veranstaltung wird durchgeführt von der Selbsthilfegruppe  ABC Berlin-Schöneberg mit Unterstützung des Bundesverband Burnout und Depression e.V..  \nWeitere Veranstaltungen sind hier zu finden. \nInformationen zum Krankheitsbild sind hier auf den Seiten des Bundesverbandes zu finden. \nModerator/in\nPeter und Elena \n 
URL:https://anderes-burnout-cafe.de/veranstaltungen/abc-berlin-schoeneberg-umgang-mit-scham-und-schuldgefuehlen-unsichtbare-lasten-verstehen-und-gesuender-mit-ihnen-umgehen
LOCATION:ABC Berlin-Schöneberg\, Holsteinische Str. 30\, Berlin\, 12161\, Germany
CATEGORIES:Berlin-Schöneberg,Präsenz
ORGANIZER;CN="Bundesverband BBuD":MAILTO:info@bbud.info
END:VEVENT
END:VCALENDAR