BEGIN:VCALENDAR
VERSION:2.0
PRODID:-//anderes-burnout-cafe - ECPv6.15.11//NONSGML v1.0//EN
CALSCALE:GREGORIAN
METHOD:PUBLISH
X-WR-CALNAME:anderes-burnout-cafe
X-ORIGINAL-URL:https://anderes-burnout-cafe.de
X-WR-CALDESC:Veranstaltungen für anderes-burnout-cafe
REFRESH-INTERVAL;VALUE=DURATION:PT1H
X-Robots-Tag:noindex
X-PUBLISHED-TTL:PT1H
BEGIN:VTIMEZONE
TZID:Europe/Paris
BEGIN:DAYLIGHT
TZOFFSETFROM:+0100
TZOFFSETTO:+0200
TZNAME:CEST
DTSTART:20250330T010000
END:DAYLIGHT
BEGIN:STANDARD
TZOFFSETFROM:+0200
TZOFFSETTO:+0100
TZNAME:CET
DTSTART:20251026T010000
END:STANDARD
BEGIN:DAYLIGHT
TZOFFSETFROM:+0100
TZOFFSETTO:+0200
TZNAME:CEST
DTSTART:20260329T010000
END:DAYLIGHT
BEGIN:STANDARD
TZOFFSETFROM:+0200
TZOFFSETTO:+0100
TZNAME:CET
DTSTART:20261025T010000
END:STANDARD
BEGIN:DAYLIGHT
TZOFFSETFROM:+0100
TZOFFSETTO:+0200
TZNAME:CEST
DTSTART:20270328T010000
END:DAYLIGHT
BEGIN:STANDARD
TZOFFSETFROM:+0200
TZOFFSETTO:+0100
TZNAME:CET
DTSTART:20271031T010000
END:STANDARD
END:VTIMEZONE
BEGIN:VEVENT
DTSTART;TZID=Europe/Paris:20260317T190000
DTEND;TZID=Europe/Paris:20260317T211500
DTSTAMP:20260419T150351
CREATED:20260128T115421Z
LAST-MODIFIED:20260128T115421Z
UID:10000880-1773774000-1773782100@anderes-burnout-cafe.de
SUMMARY:Selbsthilfegruppe ABC Bad Soden-Salmünster – Innerer Kritiker
DESCRIPTION:Die Selbsthilfegruppe ABC Bad Soden-Salmünster findet regelmäßig am dritten Dienstag im Monat von 19:00 bis 21:15 Uhr im Generationentreff BS-Salmünster\, Frankfurter Str. 58 statt. \nThema: Innerer Kritiker\n \n\n\nDen inneren Kritiker verstehen\nJeder kennt den hartnäckigen\, kleinen Kritiker im Kopf. Immer wieder schafft er es\, Pläne und neue Vorhaben zu boykottieren. Er glaubt genau zu wissen\, was aussichtslos ist und liefert ungefragt gute Argumente gegen mögliche Veränderungen. In dieser Veranstaltung setzen wir uns mit dieser kritischen Stimme auseinander und entdecken möglicherweise\, dass sie wirklich Wichtiges zu sagen hat. Wer gut hinhört\, kann in dem Kritiker einen guten Freund und Berater finden. Mit hilfreichen Fragen und Übungen unterstützt der Moderator die Teilnehmer dabei\, die Stimme richtig zu deuten und in Zukunft\, Pläne zuversichtlich angehen und verwirklichen zu können.\n\n#innerer_Kritiker #Kritiker #Selbsthilfe #innere_Stimme\n\n\n  \nMit unseren Selbsthilfegruppen tragen wir zur emotionalen Entlastung und gegenseitige Unterstützung bei. Die Teilnehmenden geben sich gegenseitige wertschätzende Lebenshilfe. Durch die Teilnahme wird das Selbstbewusstsein und das Selbstwertgefühl gestärkt. Frühwarnzeichen können rechtzeitig erkannt werden\, das soziale Netz wird durch den Austausch mit den Teilnehmenden gestärkt. Die Selbsthilfegruppen tragen dazu bei\, ein individuelles Krisennetzwerk und einen entsprechenden Krisenplan aufzubauen. Übungen tragen zur erfolgreichen Erweiterung der Strategien im Umgang mit der Erkrankung bei. \nAnmeldung\nDu kannst immer ohne Anmeldung kommen. Für die Organisation des Treffens wäre eine Anmeldung hilfreich. \nDie  monatliche Selbsthilfegruppe ermuntert die Teilnehmenden\, neue Sichtweisen zu einem bestimmten Thema auszuprobieren\, sich über Fremd- und Eigenwirkung der Übungen auszutauschen\, neue Handlungsmöglichkeiten zu erforschen und die eigene Lebenssituation neu zu bewerten. Darüber hinaus haben die Teilnehmenden die Möglichkeit\, mit anderen in einen persönlichen Erfahrungsaustausch zu kommen.  \nDie Veranstaltung wird durchgeführt von der Selbsthilfegruppe  ABC Bad Soden-Salmünster mit Unterstützung des Bundesverband Burnout und Depression e.V. und durch die Pauschalförderung der Selbsthilfegruppen nach  SGB V\, §20h.  \nWeitere Veranstaltungen sind hier zu finden. \nInformationen zum Krankheitsbild sind hier auf den Seiten des Bundesverbandes zu finden. \nModeratorin\nElena
URL:https://anderes-burnout-cafe.de/veranstaltungen/selbsthilfegruppe-abc-bad-soden-salmuenster-innerer-kritiker
LOCATION:ABC Bad Soden-Salmünster\, Frankfurter Str. 58\, Bad Soden-Salmünster\, 63628\, Deutschland
CATEGORIES:Alle Städte,Bad Soden-Salmünster,Präsenz
ORGANIZER;CN="Barbara Weiss":MAILTO:bss{at}anderes-burnout-cafe.de
END:VEVENT
END:VCALENDAR