BEGIN:VCALENDAR
VERSION:2.0
PRODID:-//anderes-burnout-cafe - ECPv6.15.11//NONSGML v1.0//EN
CALSCALE:GREGORIAN
METHOD:PUBLISH
X-WR-CALNAME:anderes-burnout-cafe
X-ORIGINAL-URL:https://anderes-burnout-cafe.de
X-WR-CALDESC:Veranstaltungen für anderes-burnout-cafe
REFRESH-INTERVAL;VALUE=DURATION:PT1H
X-Robots-Tag:noindex
X-PUBLISHED-TTL:PT1H
BEGIN:VTIMEZONE
TZID:Europe/Paris
BEGIN:DAYLIGHT
TZOFFSETFROM:+0100
TZOFFSETTO:+0200
TZNAME:CEST
DTSTART:20230326T010000
END:DAYLIGHT
BEGIN:STANDARD
TZOFFSETFROM:+0200
TZOFFSETTO:+0100
TZNAME:CET
DTSTART:20231029T010000
END:STANDARD
BEGIN:DAYLIGHT
TZOFFSETFROM:+0100
TZOFFSETTO:+0200
TZNAME:CEST
DTSTART:20240331T010000
END:DAYLIGHT
BEGIN:STANDARD
TZOFFSETFROM:+0200
TZOFFSETTO:+0100
TZNAME:CET
DTSTART:20241027T010000
END:STANDARD
BEGIN:DAYLIGHT
TZOFFSETFROM:+0100
TZOFFSETTO:+0200
TZNAME:CEST
DTSTART:20250330T010000
END:DAYLIGHT
BEGIN:STANDARD
TZOFFSETFROM:+0200
TZOFFSETTO:+0100
TZNAME:CET
DTSTART:20251026T010000
END:STANDARD
END:VTIMEZONE
BEGIN:VEVENT
DTSTART;TZID=Europe/Paris:20240403T190000
DTEND;TZID=Europe/Paris:20240403T211500
DTSTAMP:20260423T165305
CREATED:20240126T070132Z
LAST-MODIFIED:20240330T180327Z
UID:10000199-1712170800-1712178900@anderes-burnout-cafe.de
SUMMARY:Selbsthilfegruppe ABC Köln online - Ressourcen stärken - Fällt leider aus!
DESCRIPTION:Die Selbsthilfegruppe ABC Köln findet regelmäßig am ersten Mittwoch im Monat von 19:00 bis 21:15 online statt. Die Einwahl erfolgt über https://us02web.zoom.us/j/805791047 \nBitte meldet Euch über den Link unten zur Teilnahme an der Selbsthilfegruppe ABC Köln an! \nThema: Ressourcen stärken\n\n \nAn diesem Abend lernen und üben wir\, aus Misserfolgen und vermeintlichen Rückschlägen eine Ressource zu entwickeln\, die das Selbstbewusstsein stärkt. Wir werden uns an alte Flops erinnern und was wir daraus gelernt haben. Wenn wir uns daran erinnern\, wie wir früher Krisen gemeistert haben\, können wir uns für die Zukunft besser vorbereiten. \nDann gilt: ich muss nicht perfekt sein\, ich darf Fehler machen – denn aus Fehlern kann ich lernen und Erfahrungen sammeln. \nMit unseren Selbsthilfegruppen tragen wir zur emotionalen Entlastung und gegenseitige Unterstützung bei. Die Teilnehmenden geben sich gegenseitige wertschätzende Lebenshilfe. Durch die Teilnahme wird das Selbstbewusstsein und das Selbstwertgefühl gestärkt. Frühwarnzeichen können rechtzeitig erkannt werden\, das soziale Netz wird durch den Austausch mit den Teilnehmenden gestärkt. Die Selbsthilfegruppen tragen dazu bei\, ein individuelles Krisennetzwerk und einen entsprechenden Krisenplan aufzubauen. Übungen tragen zur erfolgreichen Erweiterung der Strategien im Umgang mit der Erkrankung bei. \nAnmeldung\nBitte meldet euch vorher an . Für die Organisation des Treffens wäre eine Anmeldung hilfreich. \nDie monatliche Selbsthilfegruppe ermuntert die Teilnehmenden\, neue Sichtweisen zu einem bestimmten Thema auszuprobieren\, sich über Fremd- und Eigenwirkung der Übungen auszutauschen\, neue Handlungsmöglichkeiten zu erforschen und die eigene Lebenssituation neu zu bewerten. Darüber hinaus haben die Teilnehmenden die Möglichkeit\, mit anderen in einen persönlichen Erfahrungsaustausch zu kommen.  \nDie Veranstaltung wird durchgeführt von der Selbsthilfegruppe  ABC Köln mit Unterstützung des Bundesverband Burnout und Depression e.V. und durch die Pauschalförderung der Selbsthilfegruppen nach  SGB V\, §20h. \nWeitere Veranstaltungen sind hier zu finden. \nInformationen zum Krankheitsbild sind hier auf den Seiten des Bundesverbandes zu finden. \nModeratorin\nSandra Preiss
URL:https://anderes-burnout-cafe.de/veranstaltungen/selbsthilfegruppe-abc-koeln-online-ressourcen-staerken
LOCATION:ABC Köln\, Ansgarstraße 5\, Köln – Neuehrenfeld\, 50825\, Deutschland
CATEGORIES:Köln,Präsenz
ORGANIZER;CN="Sandra Prei%C3%9F":MAILTO:koeln{at}anderes-burnout-cafe.de
END:VEVENT
BEGIN:VEVENT
DTSTART;TZID=Europe/Paris:20240306T190000
DTEND;TZID=Europe/Paris:20240306T211500
DTSTAMP:20260423T165305
CREATED:20240122T062034Z
LAST-MODIFIED:20240317T182354Z
UID:10000187-1709751600-1709759700@anderes-burnout-cafe.de
SUMMARY:Selbsthilfegruppe ABC Köln  (online) - Erfahrungsaustausch
DESCRIPTION:Die Selbsthilfegruppe ABC Köln findet regelmäßig am ersten Mittwoch  im Monat um 19:00 Uhr online über Zoom statt. \nEinwahl über:  https://us02web.zoom.us/j/805791047 \nDie Einwahl in die Selbsthilfegruppe ABC Köln ist immer 10 Minuten vor dem offiziellen Beginn möglich und sinnvoll. Dies dient zum Ankommen\, Austausch untereinander oder auch dazu\, technische Schwierigkeiten vor Beginn zu beseitigen. Wir legen Wert darauf\, dass jeder mit Bild und Ton an der Veranstaltung teilnimmt. Nur so kann ein vertrauensvoller Austausch untereinander stattfinden. Bitte testet vorher bei der Einwahl Eure Kamera und das Audio. Weitergehende Unterstützung zu ZOOM findet ihr hier. \nNach der offiziellen Startzeit ist keine Einwahl mehr möglich\, denn dies ist Online noch störender als in Präsenzveranstaltungen. Danke für Euer Verständnis. Wir freuen uns auf Euch! \n  \nErfahrungsaustausch unter Burnout-Betroffenen\n \nMit unseren Selbsthilfegruppen tragen wir zur emotionalen Entlastung und gegenseitige Unterstützung bei. Die Teilnehmenden geben sich gegenseitige wertschätzende Lebenshilfe. Durch die Teilnahme wird das Selbstbewusstsein und das Selbstwertgefühl gestärkt. Frühwarnzeichen können rechtzeitig erkannt werden\, das soziale Netz wird durch den Austausch mit den Teilnehmenden gestärkt. Die Selbsthilfegruppen tragen dazu bei\, ein individuelles Krisennetzwerk und einen entsprechenden Krisenplan aufzubauen. Übungen tragen zur erfolgreichen Erweiterung der Strategien im Umgang mit der Erkrankung bei. \nAnmeldung\nBitte meldet euch vorher an . Für die Organisation des Treffens wäre eine Anmeldung hilfreich. \nDie monatliche Selbsthilfegruppe ermuntert die Teilnehmenden\, neue Sichtweisen zu einem bestimmten Thema auszuprobieren\, sich über Fremd- und Eigenwirkung der Übungen auszutauschen\, neue Handlungsmöglichkeiten zu erforschen und die eigene Lebenssituation neu zu bewerten. Darüber hinaus haben die Teilnehmenden die Möglichkeit\, mit anderen in einen persönlichen Erfahrungsaustausch zu kommen.  \nDie Veranstaltung wird durchgeführt von der Selbsthilfegruppe  ABC Köln mit Unterstützung des Bundesverband Burnout und Depression e.V. und durch die Pauschalförderung der Selbsthilfegruppen nach  SGB V\, §20h. \nWeitere Veranstaltungen sind hier zu finden. \nInformationen zum Krankheitsbild sind hier auf den Seiten des Bundesverbandes zu finden. \nModeratorin\nSandra Preiß
URL:https://anderes-burnout-cafe.de/veranstaltungen/selbsthilfegruppe-abc-koeln-praesenz-erfahrungsaustausch
LOCATION:ABC ONLINE
CATEGORIES:Köln,Online
ORGANIZER;CN="Sandra Prei%C3%9F":MAILTO:koeln{at}anderes-burnout-cafe.de
END:VEVENT
END:VCALENDAR