BEGIN:VCALENDAR
VERSION:2.0
PRODID:-//anderes-burnout-cafe - ECPv6.15.11//NONSGML v1.0//EN
CALSCALE:GREGORIAN
METHOD:PUBLISH
X-ORIGINAL-URL:https://anderes-burnout-cafe.de
X-WR-CALDESC:Veranstaltungen für anderes-burnout-cafe
REFRESH-INTERVAL;VALUE=DURATION:PT1H
X-Robots-Tag:noindex
X-PUBLISHED-TTL:PT1H
BEGIN:VTIMEZONE
TZID:Europe/Paris
BEGIN:DAYLIGHT
TZOFFSETFROM:+0100
TZOFFSETTO:+0200
TZNAME:CEST
DTSTART:20230326T010000
END:DAYLIGHT
BEGIN:STANDARD
TZOFFSETFROM:+0200
TZOFFSETTO:+0100
TZNAME:CET
DTSTART:20231029T010000
END:STANDARD
BEGIN:DAYLIGHT
TZOFFSETFROM:+0100
TZOFFSETTO:+0200
TZNAME:CEST
DTSTART:20240331T010000
END:DAYLIGHT
BEGIN:STANDARD
TZOFFSETFROM:+0200
TZOFFSETTO:+0100
TZNAME:CET
DTSTART:20241027T010000
END:STANDARD
BEGIN:DAYLIGHT
TZOFFSETFROM:+0100
TZOFFSETTO:+0200
TZNAME:CEST
DTSTART:20250330T010000
END:DAYLIGHT
BEGIN:STANDARD
TZOFFSETFROM:+0200
TZOFFSETTO:+0100
TZNAME:CET
DTSTART:20251026T010000
END:STANDARD
END:VTIMEZONE
BEGIN:VEVENT
DTSTART;TZID=Europe/Paris:20240416T190000
DTEND;TZID=Europe/Paris:20240416T211500
DTSTAMP:20260423T135145
CREATED:20240203T134949Z
LAST-MODIFIED:20240317T182229Z
UID:10000215-1713294000-1713302100@anderes-burnout-cafe.de
SUMMARY:Selbsthilfegruppe ABC Bad Soden-Salmünster - Selbstzweifel
DESCRIPTION:Die Selbsthilfegruppe ABC Bad Soden-Salmünster findet regelmäßig am dritten Dienstag im Monat im Generationentreff BS-Salmünster\, Frankfurter Str. 58 statt. \nThema: Selbstzweifel\n\n \nSelbstzweifel: Die Autosuggestion zum Misserfolg. \nErtappen Sie sich mitunter dabei\, dass Sie sich als Opfer der Umstände\, der Firma\, des Zeitdrucks\, der Vergangenheit\, … fühlen? Es läuft etwas nicht so\, wie Sie es sich vorstellen und dann ist natürlich „der Andere“ oder „das System“ schuld? Sie treffen Entscheidungen nicht\, weil Sie sich sofort ausmalen\, was alles nicht funktioniert und wer Ihnen Steine in den Weg legt?\nOft fühlen wir uns als Opfer und vergessen dabei\, dass jedes Verhalten einen Preis und einen Gewinn hat. Wir vergessen auch\, dass wir unser Verhalten selbst steuern können. Sie erhalten bei uns Übungen zum Überdenken der Opfersituationen und wie Sie damit selbstverantwortlich die für sich besten Entscheidungen treffen können.\n\nMit unseren Selbsthilfegruppen tragen wir zur emotionalen Entlastung und gegenseitige Unterstützung bei. Die Teilnehmenden geben sich gegenseitige wertschätzende Lebenshilfe. Durch die Teilnahme wird das Selbstbewusstsein und das Selbstwertgefühl gestärkt. Frühwarnzeichen können rechtzeitig erkannt werden\, das soziale Netz wird durch den Austausch mit den Teilnehmenden gestärkt. Die Selbsthilfegruppen tragen dazu bei\, ein individuelles Krisennetzwerk und einen entsprechenden Krisenplan aufzubauen. Übungen tragen zur erfolgreichen Erweiterung der Strategien im Umgang mit der Erkrankung bei. \nAnmeldung\nDu kannst immer ohne Anmeldung kommen. Für die Organisation des Treffens wäre eine Anmeldung hilfreich. \nDie  monatliche Selbsthilfegruppe ermuntert die Teilnehmenden\, neue Sichtweisen zu einem bestimmten Thema auszuprobieren\, sich über Fremd- und Eigenwirkung der Übungen auszutauschen\, neue Handlungsmöglichkeiten zu erforschen und die eigene Lebenssituation neu zu bewerten. Darüber hinaus haben die Teilnehmenden die Möglichkeit\, mit anderen in einen persönlichen Erfahrungsaustausch zu kommen.  \nDie Veranstaltung wird durchgeführt von der Selbsthilfegruppe  ABC Bad Soden-Salmünster mit Unterstützung des Bundesverband Burnout und Depression e.V. und durch die Pauschalförderung der Selbsthilfegruppen nach  SGB V\, §20h.  \nWeitere Veranstaltungen sind hier zu finden. \nInformationen zum Krankheitsbild sind hier auf den Seiten des Bundesverbandes zu finden. \nModeratorinnen\nDu kannst immer ohne Anmeldung kommen \nv.l.n.r.: Barbara Weiß | 0157 52128559 und Sandra Mandl | 0157 71072502 | bss (at) anderes-burnout-cafe.de
URL:https://anderes-burnout-cafe.de/veranstaltungen/selbsthilfegruppe-abc-bad-soden-salmuenster-selbstzweifel
LOCATION:ABC Bad Soden-Salmünster\, Frankfurter Str. 58\, Bad Soden-Salmünster\, 63628\, Deutschland
CATEGORIES:Bad Soden-Salmünster,Präsenz
ORGANIZER;CN="Barbara Weiss":MAILTO:bss{at}anderes-burnout-cafe.de
END:VEVENT
BEGIN:VEVENT
DTSTART;TZID=Europe/Paris:20240319T190000
DTEND;TZID=Europe/Paris:20240319T211500
DTSTAMP:20260423T135145
CREATED:20240124T085133Z
LAST-MODIFIED:20240317T182014Z
UID:10000191-1710874800-1710882900@anderes-burnout-cafe.de
SUMMARY:Selbsthilfegruppe ABC Bad Soden-Salmünster - Wege aus dem Burnout
DESCRIPTION:Die Selbsthilfegruppe ABC Bad Soden-Salmünster findet regelmäßig am dritten Dienstag im Monat im Generationentreff BS-Salmünster\, Frankfurter Str. 58 statt. \nThema: Wege aus dem Burnout\n\n \nSämtliche wissenschaftlichen Betrachtungen beinhalten die wesentlichen Elemente eines Burnouts. Dazu gehören Enttäuschung und Resignation\, psychosomatische Auswirkungen\, Erschöpfung und Rückzug. Die folgenden Ausführungen konzentrieren sich auf sieben Kernpunkte\, die einen Burnout kennzeichnen\, wobei es sich eigentlich um 4 Vorphasen handelt und um 3 reale Burnout-Phasen\, die erst dann stattfinden\, wenn man wirklich von Burnout sprechen kann. \nMit unseren Selbsthilfegruppen tragen wir zur emotionalen Entlastung und gegenseitige Unterstützung bei. Die Teilnehmenden geben sich gegenseitige wertschätzende Lebenshilfe. Durch die Teilnahme wird das Selbstbewusstsein und das Selbstwertgefühl gestärkt. Frühwarnzeichen können rechtzeitig erkannt werden\, das soziale Netz wird durch den Austausch mit den Teilnehmenden gestärkt. Die Selbsthilfegruppen tragen dazu bei\, ein individuelles Krisennetzwerk und einen entsprechenden Krisenplan aufzubauen. Übungen tragen zur erfolgreichen Erweiterung der Strategien im Umgang mit der Erkrankung bei. \nAnmeldung\nDu kannst immer ohne Anmeldung kommen. Für die Organisation des Treffens wäre eine Anmeldung hilfreich. \nDie  monatliche Selbsthilfegruppe ermuntert die Teilnehmenden\, neue Sichtweisen zu einem bestimmten Thema auszuprobieren\, sich über Fremd- und Eigenwirkung der Übungen auszutauschen\, neue Handlungsmöglichkeiten zu erforschen und die eigene Lebenssituation neu zu bewerten. Darüber hinaus haben die Teilnehmenden die Möglichkeit\, mit anderen in einen persönlichen Erfahrungsaustausch zu kommen.  \nDie Veranstaltung wird durchgeführt von der Selbsthilfegruppe  ABC Bad Soden-Salmünster mit Unterstützung des Bundesverband Burnout und Depression e.V. und durch die Pauschalförderung der Selbsthilfegruppen nach  SGB V\, §20h.  \nWeitere Veranstaltungen sind hier zu finden. \nInformationen zum Krankheitsbild sind hier auf den Seiten des Bundesverbandes zu finden. \nModeratorinnen\nDu kannst immer ohne Anmeldung kommen \nv.l.n.r.: Barbara Weiß | 0157 52128559 und Sandra Mandl | 0157 71072502 | bss (at) anderes-burnout-cafe.de
URL:https://anderes-burnout-cafe.de/veranstaltungen/selbsthilfegruppe-abc-bad-soden-salmuenster-wege-aus-dem-burnout
LOCATION:ABC Bad Soden-Salmünster\, Frankfurter Str. 58\, Bad Soden-Salmünster\, 63628\, Deutschland
CATEGORIES:Bad Soden-Salmünster,Präsenz
ORGANIZER;CN="Barbara Weiss":MAILTO:bss{at}anderes-burnout-cafe.de
END:VEVENT
END:VCALENDAR